Workbook

Sheet Total breakdown
C2: Bet365 | D2: Jacks | E2: BetCity | F2: Unibet | G2: Leovegas | H2: betMGM | I2: 711 | J2: Bingoal | K2: LSbet | L2: TOTO | M2: HC | N2: Zebet | O2: Circus | P2: Vbet | Q2: ComeOn | R2: BetNation
B3: Football pre-match | C3: =SUMPRODUCT('Per competition'!C$4:C$11,Weights!$F$5:$F$12) -> 0.95311925 | D3: =SUMPRODUCT('Per competition'!D$4:D$11,Weights!$F$5:$F$12) -> 0.94856175 | E3: =SUMPRODUCT('Per competition'!E$4:E$11,Weights!$F$5:$F$12) -> 0.95167575 | F3: =SUMPRODUCT('Per competition'!F$4:F$11,Weights!$F$5:$F$12) -> 0.9537525 | G3: =SUMPRODUCT('Per competition'!G$4:G$11,Weights!$F$5:$F$12) -> 0.94693725 | H3: =SUMPRODUCT('Per competition'!H$4:H$11,Weights!$F$5:$F$12) -> 0.951156 | I3: =SUMPRODUCT('Per competition'!I$4:I$11,Weights!$F$5:$F$12) -> 0.96641275 | J3: =SUMPRODUCT('Per competition'!J$4:J$11,Weights!$F$5:$F$12) -> 0.951435 | ... R3: =SUMPRODUCT('Per competition'!R$4:R$11,Weights!$F$5:$F$12) -> 0.94716975
B4: Football live | C4: =SUMPRODUCT('Per competition'!C$13:C$20,Weights!$F$5:$F$12) -> 0.93749275 | D4: =SUMPRODUCT('Per competition'!D$13:D$20,Weights!$F$5:$F$12) -> 0.93889775 | E4: =SUMPRODUCT('Per competition'!E$13:E$20,Weights!$F$5:$F$12) -> 0.92715425 | F4: =SUMPRODUCT('Per competition'!F$13:F$20,Weights!$F$5:$F$12) -> 0.9388365 | G4: =SUMPRODUCT('Per competition'!G$13:G$20,Weights!$F$5:$F$12) -> 0.921101 | H4: =SUMPRODUCT('Per competition'!H$13:H$20,Weights!$F$5:$F$12) -> 0.9388365 | I4: =SUMPRODUCT('Per competition'!I$13:I$20,Weights!$F$5:$F$12) -> 0.9388365 | J4: =SUMPRODUCT('Per competition'!J$13:J$20,Weights!$F$5:$F$12) -> 0.93894775 | ... R4: =SUMPRODUCT('Per competition'!R$13:R$20,Weights!$F$5:$F$12) -> 0.94630975
B5: Total football | C5: =SUMPRODUCT(C3:C4,Weights!$I$5:$I$6) -> 0.945306 | D5: =SUMPRODUCT(D3:D4,Weights!$I$5:$I$6) -> 0.94372975 | E5: =SUMPRODUCT(E3:E4,Weights!$I$5:$I$6) -> 0.939415 | F5: =SUMPRODUCT(F3:F4,Weights!$I$5:$I$6) -> 0.9462945 | G5: =SUMPRODUCT(G3:G4,Weights!$I$5:$I$6) -> 0.93401913 | H5: =SUMPRODUCT(H3:H4,Weights!$I$5:$I$6) -> 0.94499625 | I5: =SUMPRODUCT(I3:I4,Weights!$I$5:$I$6) -> 0.95262463 | J5: =SUMPRODUCT(J3:J4,Weights!$I$5:$I$6) -> 0.94519138 | ... R5: =SUMPRODUCT(R3:R4,Weights!$I$5:$I$6) -> 0.94673975
B6: F1 pre-match | C6: =SUMPRODUCT('Data - F1'!C$4:C$7,Weights!D19:D22) -> 0.89767522 | D6: =SUMPRODUCT('Data - F1'!D$4:D$7,Weights!$C$19:$C$22) -> 0.8682266 | E6: =SUMPRODUCT('Data - F1'!E$4:E$7,Weights!$C$19:$C$22) -> 0.8682266 | F6: =SUMPRODUCT('Data - F1'!F$4:F$7,Weights!$C$19:$C$22) -> 0.8682266 | G6: =SUMPRODUCT('Data - F1'!G$4:G$7,Weights!$C$19:$C$22) -> 0.8682266 | H6: =SUMPRODUCT('Data - F1'!H$4:H$7,Weights!$C$19:$C$22) -> 0.8682266 | I6: =SUMPRODUCT('Data - F1'!I$4:I$7,Weights!$C$19:$C$22) -> 0.8682266 | J6: =SUMPRODUCT('Data - F1'!J$4:J$7,Weights!$C$19:$C$22) -> 0.8682266 | K6: =SUMPRODUCT('Data - F1'!K$4:K$7,Weights!$C$19:$C$22) -> 0.8682266 | L6: =SUMPRODUCT('Data - F1'!L$4:L$7,Weights!$C$19:$C$22) -> 0.83703479 | M6: =SUMPRODUCT('Data - F1'!M$4:M$7,Weights!E19:E22) -> 0.81459994 | N6: =SUMPRODUCT('Data - F1'!N$4:N$7,Weights!E19:E22) -> 0.84356057 | O6: =SUMPRODUCT('Data - F1'!O$4:O$7,Weights!$C$19:$C$22) -> 0.83233526 | P6: =SUMPRODUCT('Data - F1'!P$4:P$7,Weights!F19:F22) -> 0.73946915 | Q6: =SUMPRODUCT('Data - F1'!Q$4:Q$7,Weights!$C$19:$C$22) -> 0.82501314 | R6: =SUMPRODUCT('Data - F1'!R$4:R$7,Weights!$C$19:$C$22) -> 0.82501314
B7: F1 Live | C7: ='Data - F1'!C9 -> 0.8326505 | D7: ='Data - F1'!D9 -> 0.71923921 | E7: ='Data - F1'!E9 -> 0.66778922 | F7: ='Data - F1'!F9 -> 0.72040979 | G7: ='Data - F1'!G9 -> 0.66735437 | H7: ='Data - F1'!H9 -> 0.73128072 | I7: ='Data - F1'!I9 -> 0.7659391 | J7: ='Data - F1'!J9 -> 0.75808558 | ... R7: ='Data - F1'!R9 -> 0.82844045
B8: Total F1 | C8: =SUMPRODUCT(C6:C7,Weights!$I$19:$I$20) -> 0.88467027 | D8: =SUMPRODUCT(D6:D7,Weights!$I$19:$I$20) -> 0.83842912 | E8: =SUMPRODUCT(E6:E7,Weights!$I$19:$I$20) -> 0.82813912 | F8: =SUMPRODUCT(F6:F7,Weights!$I$19:$I$20) -> 0.83866324 | G8: =SUMPRODUCT(G6:G7,Weights!$I$19:$I$20) -> 0.82805215 | H8: =SUMPRODUCT(H6:H7,Weights!$I$19:$I$20) -> 0.84083742 | I8: =SUMPRODUCT(I6:I7,Weights!$I$19:$I$20) -> 0.8477691 | J8: =SUMPRODUCT(J6:J7,Weights!$I$19:$I$20) -> 0.84619839 | ... R8: =SUMPRODUCT(R6:R7,Weights!$I$19:$I$20) -> 0.8256986
B9: Tennis pre-match | C9: =SUMPRODUCT('Per competition'!C$22:C$23,Weights!$I$44:$I$45) -> 0.9355775 | D9: =SUMPRODUCT('Per competition'!D$22:D$23,Weights!$I$44:$I$45) -> 0.94537 | E9: =SUMPRODUCT('Per competition'!E$22:E$23,Weights!$I$44:$I$45) -> 0.94537 | F9: =SUMPRODUCT('Per competition'!F$22:F$23,Weights!$I$44:$I$45) -> 0.94537 | G9: =SUMPRODUCT('Per competition'!G$22:G$23,Weights!$I$44:$I$45) -> 0.94537 | H9: =SUMPRODUCT('Per competition'!H$22:H$23,Weights!$I$44:$I$45) -> 0.94537 | I9: =SUMPRODUCT('Per competition'!I$22:I$23,Weights!$I$44:$I$45) -> 0.94537 | J9: =SUMPRODUCT('Per competition'!J$22:J$23,Weights!$I$44:$I$45) -> 0.94537 | ... R9: =SUMPRODUCT('Per competition'!R$22:R$23,Weights!$I$44:$I$45) -> 0.945795
B10: Tennis Live | C10: =SUMPRODUCT('Per competition'!C$24:C$25,Weights!$I$44:$I$45) -> 0.935049 | D10: =SUMPRODUCT('Per competition'!D$24:D$25,Weights!$I$44:$I$45) -> 0.939503 | E10: =SUMPRODUCT('Per competition'!E$24:E$25,Weights!$I$44:$I$45) -> 0.9326975 | F10: =SUMPRODUCT('Per competition'!F$24:F$25,Weights!$I$44:$I$45) -> 0.939503 | G10: =SUMPRODUCT('Per competition'!G$24:G$25,Weights!$I$44:$I$45) -> 0.917219 | H10: =SUMPRODUCT('Per competition'!H$24:H$25,Weights!$I$44:$I$45) -> 0.939503 | I10: =SUMPRODUCT('Per competition'!I$24:I$25,Weights!$I$44:$I$45) -> 0.939503 | J10: =SUMPRODUCT('Per competition'!J$24:J$25,Weights!$I$44:$I$45) -> 0.939503 | ... M10: =SUMPRODUCT('Per competition'!M$24:M$25,Weights!$I$44:$I$45) -> 0.9369715 | N10: =SUMPRODUCT('Per competition'!N$24:N$25,Weights!J44:J45) -> 0.94587 | O10: =SUMPRODUCT('Per competition'!O$24:O$25,Weights!$I$44:$I$45) -> 0.9294495 | P10: =SUMPRODUCT('Per competition'!P$24:P$25,Weights!$I$44:$I$45) -> 0.937962 | Q10: =SUMPRODUCT('Per competition'!Q$24:Q$25,Weights!$I$44:$I$45) -> 0.939088 | R10: =SUMPRODUCT('Per competition'!R$24:R$25,Weights!$I$44:$I$45) -> 0.939452
B11: Total Tennis | C11: =SUMPRODUCT(C9:C10,Weights!$I$40:$I$41) -> 0.9351547 | D11: =SUMPRODUCT(D9:D10,Weights!$I$40:$I$41) -> 0.9406764 | E11: =SUMPRODUCT(E9:E10,Weights!$I$40:$I$41) -> 0.935232 | F11: =SUMPRODUCT(F9:F10,Weights!$I$40:$I$41) -> 0.9406764 | G11: =SUMPRODUCT(G9:G10,Weights!$I$40:$I$41) -> 0.9228492 | H11: =SUMPRODUCT(H9:H10,Weights!$I$40:$I$41) -> 0.9406764 | I11: =SUMPRODUCT(I9:I10,Weights!$I$40:$I$41) -> 0.9406764 | J11: =SUMPRODUCT(J9:J10,Weights!$I$40:$I$41) -> 0.9406764 | ... R11: =SUMPRODUCT(R9:R10,Weights!$I$40:$I$41) -> 0.9407206
B12: Basket pre-match | C12: =SUMPRODUCT('Data - Basketball'!C$4:C$8,Weights!D29:D33) -> 0.95035 | D12: =SUMPRODUCT('Data - Basketball'!D$4:D$8,Weights!$C$29:$C$33) -> 0.9461 | E12: =SUMPRODUCT('Data - Basketball'!E$4:E$8,Weights!$C$29:$C$33) -> 0.9461 | F12: =SUMPRODUCT('Data - Basketball'!F$4:F$8,Weights!$C$29:$C$33) -> 0.9461 | G12: =SUMPRODUCT('Data - Basketball'!G$4:G$8,Weights!$C$29:$C$33) -> 0.9461 | H12: =SUMPRODUCT('Data - Basketball'!H$4:H$8,Weights!$C$29:$C$33) -> 0.9461 | I12: =SUMPRODUCT('Data - Basketball'!I$4:I$8,Weights!$C$29:$C$33) -> 0.9461 | J12: =SUMPRODUCT('Data - Basketball'!J$4:J$8,Weights!$C$29:$C$33) -> 0.9461 | K12: =SUMPRODUCT('Data - Basketball'!K$4:K$8,Weights!$C$29:$C$33) -> 0.9461 | ... O12: =SUMPRODUCT('Data - Basketball'!O$4:O$8,Weights!$C$29:$C$33) -> 0.918275 | P12: =SUMPRODUCT('Data - Basketball'!P$4:P$8,Weights!D29:D33) -> 0.9346 | Q12: =SUMPRODUCT('Data - Basketball'!Q$4:Q$8,Weights!$C$29:$C$33) -> 0.933465 | R12: =SUMPRODUCT('Data - Basketball'!R$4:R$8,Weights!$C$29:$C$33) -> 0.937305
B13: Basket Live | C13: =SUMPRODUCT('Data - Basketball'!C10:C14,Weights!$C$29:$C$33) -> 0.936075 | D13: =SUMPRODUCT('Data - Basketball'!D10:D14,Weights!$C$29:$C$33) -> 0.93292 | E13: =SUMPRODUCT('Data - Basketball'!E10:E14,Weights!$C$29:$C$33) -> 0.919675 | F13: =SUMPRODUCT('Data - Basketball'!F10:F14,Weights!$C$29:$C$33) -> 0.93292 | G13: =SUMPRODUCT('Data - Basketball'!G10:G14,Weights!$C$29:$C$33) -> 0.902205 | H13: =SUMPRODUCT('Data - Basketball'!H10:H14,Weights!$C$29:$C$33) -> 0.93292 | I13: =SUMPRODUCT('Data - Basketball'!I10:I14,Weights!$C$29:$C$33) -> 0.93292 | J13: =SUMPRODUCT('Data - Basketball'!J10:J14,Weights!$C$29:$C$33) -> 0.93292 | K13: =SUMPRODUCT('Data - Basketball'!K10:K14,Weights!$C$29:$C$33) -> 0.919675 | L13: =SUMPRODUCT('Data - Basketball'!L10:L14,Weights!E29:E33) -> 0.91407895 | M13: =SUMPRODUCT('Data - Basketball'!M10:M14,Weights!$C$29:$C$33) -> 0.92507 | N13: =SUMPRODUCT('Data - Basketball'!N10:N14,Weights!$C$29:$C$33) -> 0.894815 | O13: =SUMPRODUCT('Data - Basketball'!O10:O14,Weights!F29:F33) -> 0.8826625 | P13: =SUMPRODUCT('Data - Basketball'!P10:P14,Weights!$C$29:$C$33) -> 0.92051 | Q13: =SUMPRODUCT('Data - Basketball'!Q10:Q14,Weights!$C$29:$C$33) -> 0.930455 | R13: =SUMPRODUCT('Data - Basketball'!R10:R14,Weights!$C$29:$C$33) -> 0.930455
B14: Total Basket | C14: =SUMPRODUCT(C12:C13,Weights!$I$29:$I$30) -> 0.93964375 | D14: =SUMPRODUCT(D12:D13,Weights!$I$29:$I$30) -> 0.936215 | E14: =SUMPRODUCT(E12:E13,Weights!$I$29:$I$30) -> 0.92628125 | F14: =SUMPRODUCT(F12:F13,Weights!$I$29:$I$30) -> 0.936215 | G14: =SUMPRODUCT(G12:G13,Weights!$I$29:$I$30) -> 0.91317875 | H14: =SUMPRODUCT(H12:H13,Weights!$I$29:$I$30) -> 0.936215 | I14: =SUMPRODUCT(I12:I13,Weights!$I$29:$I$30) -> 0.936215 | J14: =SUMPRODUCT(J12:J13,Weights!$I$29:$I$30) -> 0.936215 | ... R14: =SUMPRODUCT(R12:R13,Weights!$I$29:$I$30) -> 0.9321675
B15: Darts pre-match | C15: =SUMPRODUCT('Data - Darts'!C4:C7,Weights!$C$52:$C$55) -> 0.93796 | D15: =SUMPRODUCT('Data - Darts'!D4:D7,Weights!$C$52:$C$55) -> 0.94276 | E15: =SUMPRODUCT('Data - Darts'!E4:E7,Weights!$C$52:$C$55) -> 0.929565 | F15: =SUMPRODUCT('Data - Darts'!F4:F7,Weights!$C$52:$C$55) -> 0.94276 | G15: =SUMPRODUCT('Data - Darts'!G4:G7,Weights!$C$52:$C$55) -> 0.94276 | H15: =SUMPRODUCT('Data - Darts'!H4:H7,Weights!$C$52:$C$55) -> 0.94276 | I15: =SUMPRODUCT('Data - Darts'!I4:I7,Weights!$C$52:$C$55) -> 0.94276 | J15: =SUMPRODUCT('Data - Darts'!J4:J7,Weights!$C$52:$C$55) -> 0.94276 | K15: =SUMPRODUCT('Data - Darts'!K4:K7,Weights!$C$52:$C$55) -> 0.94276 | L15: =SUMPRODUCT('Data - Darts'!L4:L7,Weights!D52:D55) -> 0.9514125 | M15: =SUMPRODUCT('Data - Darts'!M4:M7,Weights!$C$52:$C$55) -> 0.930555 | N15: =SUMPRODUCT('Data - Darts'!N4:N7,Weights!D52:D55) -> 0.93500625 | O15: =SUMPRODUCT('Data - Darts'!O4:O7,Weights!E52:E55) -> 0.93567778 | P15: =SUMPRODUCT('Data - Darts'!P4:P7,Weights!$C$52:$C$55) -> 0.947115 | Q15: =SUMPRODUCT('Data - Darts'!Q4:Q7,Weights!$C$52:$C$55) -> 0.92989 | R15: =SUMPRODUCT('Data - Darts'!R4:R7,Weights!$C$52:$C$55) -> 0.93119
B16: Darts Live | C16: =SUMPRODUCT('Data - Darts'!C9:C12,Weights!$C$52:$C$55) -> 0.92665 | D16: =SUMPRODUCT('Data - Darts'!D9:D12,Weights!$C$52:$C$55) -> 0.943275 | E16: =SUMPRODUCT('Data - Darts'!E9:E12,Weights!$C$52:$C$55) -> 0.9354 | F16: =SUMPRODUCT('Data - Darts'!F9:F12,Weights!$C$52:$C$55) -> 0.943275 | G16: =SUMPRODUCT('Data - Darts'!G9:G12,Weights!$C$52:$C$55) -> 0.92154 | H16: =SUMPRODUCT('Data - Darts'!H9:H12,Weights!$C$52:$C$55) -> 0.943275 | I16: =SUMPRODUCT('Data - Darts'!I9:I12,Weights!$C$52:$C$55) -> 0.943275 | J16: =SUMPRODUCT('Data - Darts'!J9:J12,Weights!$C$52:$C$55) -> 0.943275 | ... R16: =SUMPRODUCT('Data - Darts'!R9:R12,Weights!$C$52:$C$55) -> 0.92242
B17: Total Darts | C17: =SUMPRODUCT(C15:C16,Weights!$I$52:$I$53) -> 0.931174 | D17: =SUMPRODUCT(D15:D16,Weights!$I$52:$I$53) -> 0.943069 | E17: =SUMPRODUCT(E15:E16,Weights!$I$52:$I$53) -> 0.933066 | F17: =SUMPRODUCT(F15:F16,Weights!$I$52:$I$53) -> 0.943069 | G17: =SUMPRODUCT(G15:G16,Weights!$I$52:$I$53) -> 0.930028 | H17: =SUMPRODUCT(H15:H16,Weights!$I$52:$I$53) -> 0.943069 | I17: =SUMPRODUCT(I15:I16,Weights!$I$52:$I$53) -> 0.943069 | J17: =SUMPRODUCT(J15:J16,Weights!$I$52:$I$53) -> 0.943069 | ... L17: =SUMPRODUCT(L15:L16,Weights!$I$52:$I$53) -> 0.893538 | M17: =SUMPRODUCT(M15:M16,Weights!J52:J53) -> 0.930555 | N17: =SUMPRODUCT(N15:N16,Weights!J52:J53) -> 0.93500625 | O17: =SUMPRODUCT(O15:O16,Weights!$I$52:$I$53) -> 0.93999011 | P17: =SUMPRODUCT(P15:P16,Weights!J52:J53) -> 0.947115 | Q17: =SUMPRODUCT(Q15:Q16,Weights!$I$52:$I$53) -> 0.925408 | R17: =SUMPRODUCT(R15:R16,Weights!$I$52:$I$53) -> 0.925928
B19: Voetbal | C19: =C5 -> 0.945306 | D19: =D5 -> 0.94372975 | E19: =E5 -> 0.939415 | F19: =F5 -> 0.9462945 | G19: =G5 -> 0.93401913 | H19: =H5 -> 0.94499625 | I19: =I5 -> 0.95262463 | J19: =J5 -> 0.94519138 | ... R19: =R5 -> 0.94673975
B20: Formule 1 | C20: =C8 -> 0.88467027 | D20: =D8 -> 0.83842912 | E20: =E8 -> 0.82813912 | F20: =F8 -> 0.83866324 | G20: =G8 -> 0.82805215 | H20: =H8 -> 0.84083742 | I20: =I8 -> 0.8477691 | J20: =J8 -> 0.84619839 | ... R20: =R8 -> 0.8256986
B21: Tennis | C21: =C11 -> 0.9351547 | D21: =D11 -> 0.9406764 | E21: =E11 -> 0.935232 | F21: =F11 -> 0.9406764 | G21: =G11 -> 0.9228492 | H21: =H11 -> 0.9406764 | I21: =I11 -> 0.9406764 | J21: =J11 -> 0.9406764 | ... R21: =R11 -> 0.9407206
B22: Basketbal | C22: =C14 -> 0.93964375 | D22: =D14 -> 0.936215 | E22: =E14 -> 0.92628125 | F22: =F14 -> 0.936215 | G22: =G14 -> 0.91317875 | H22: =H14 -> 0.936215 | I22: =I14 -> 0.936215 | J22: =J14 -> 0.936215 | ... R22: =R14 -> 0.9321675
B23: Darts | C23: =C17 -> 0.931174 | D23: =D17 -> 0.943069 | E23: =E17 -> 0.933066 | F23: =F17 -> 0.943069 | G23: =G17 -> 0.930028 | H23: =H17 -> 0.943069 | I23: =I17 -> 0.943069 | J23: =J17 -> 0.943069 | ... R23: =R17 -> 0.925928
B25: Total Payback | C25: =SUMPRODUCT(C19:C23,Weights!$C$62:$C$66) -> 0.93826453 | D25: =SUMPRODUCT(D19:D23,Weights!$C$62:$C$66) -> 0.9370365 | E25: =SUMPRODUCT(E19:E23,Weights!$C$62:$C$66) -> 0.93106633 | F25: =SUMPRODUCT(F19:F23,Weights!$C$62:$C$66) -> 0.93845882 | G25: =SUMPRODUCT(G19:G23,Weights!$C$62:$C$66) -> 0.92400364 | H25: =SUMPRODUCT(H19:H23,Weights!$C$62:$C$66) -> 0.93785349 | I25: =SUMPRODUCT(I19:I23,Weights!$C$62:$C$66) -> 0.94239568 | J25: =SUMPRODUCT(J19:J23,Weights!$C$62:$C$66) -> 0.93822886 | ... R25: =SUMPRODUCT(R19:R23,Weights!$C$62:$C$66) -> 0.93594546
B26: Rank | C26: =RANK(C25,$C$25:$R$25) -> 3 | D26: =RANK(D25,$C$25:$R$25) -> 6 | E26: =RANK(E25,$C$25:$R$25) -> 11 | F26: =RANK(F25,$C$25:$R$25) -> 2 | G26: =RANK(G25,$C$25:$R$25) -> 15 | H26: =RANK(H25,$C$25:$R$25) -> 5 | I26: =RANK(I25,$C$25:$R$25) -> 1 | J26: =RANK(J25,$C$25:$R$25) -> 4 | ... R26: =RANK(R25,$C$25:$R$25) -> 7
B29: Bookmaker | C29: RTP | D29: RTP t-1 | E29: Verschil
B30: 711 | C30: 0.94239568 | E30: =C30-D30 -> 0.94239568
B31: TOTO | C31: 0.9386987 | D31: 0.9425 | E31: =C31-D31 -> -0.0038013009
B32: Unibet | C32: 0.93845882 | D32: 0.9395 | E32: =C32-D32 -> -0.0010411832
B33: Bet365 | C33: 0.93826453 | D33: 0.9373 | E33: =C33-D33 -> 0.00096452864
B34: Bingoal | C34: 0.93822886 | D34: 0.9367 | E34: =C34-D34 -> 0.0015288559
B35: betMGM | C35: 0.93785349 | E35: =C35-D35 -> 0.93785349
B36: Jacks | C36: 0.9370365 | D36: 0.9385 | E36: =C36-D36 -> -0.0014635016
B37: BetNation | C37: 0.93594546 | E37: =C37-D37 -> 0.93594546
B38: ComeOn | C38: 0.93312909 | E38: =C38-D38 -> 0.93312909
B39: Vbet | C39: 0.93148244 | D39: 0.9413 | E39: =C39-D39 -> -0.0098175563
B40: BetCity | C40: 0.93106633 | D40: 0.9338 | E40: =C40-D40 -> -0.0027336689
B41: HC | C41: 0.92934746 | D41: 0.9283 | E41: =C41-D41 -> 0.001047464
B42: Circus | C42: 0.92889914 | D42: 0.936 | E42: =C42-D42 -> -0.0071008641
B43: LSbet | C43: 0.92537248 | D43: 0.9286 | E43: =C43-D43 -> -0.0032275241
B44: Leovegas | C44: 0.92400364 | E44: =C44-D44 -> 0.92400364
B45: Zebet | C45: 0.9202064 | D45: 0.9273 | E45: =C45-D45 -> -0.0070936011
...

Sheet Per competition
B2: Competitie | C2: Bet365 | D2: Jacks | E2: BetCity | F2: Unibet | G2: Leovegas | H2: betMGM | I2: 711 | J2: Bingoal | K2: LSbet | L2: TOTO | M2: HC | N2: Zebet | O2: Circus | P2: Vbet | Q2: ComeOn | R2: BetNation
B3: Football - prematch
B4: Eredivisie | C4: =SUMPRODUCT('Data - Football pre-match'!C$3:C$8,Weights!$C$5:$C$10) -> 0.956025 | D4: =SUMPRODUCT('Data - Football pre-match'!D$3:D$8,Weights!$C$5:$C$10) -> 0.95214 | E4: =SUMPRODUCT('Data - Football pre-match'!E$3:E$8,Weights!$C$5:$C$10) -> 0.95214 | F4: =SUMPRODUCT('Data - Football pre-match'!F$3:F$8,Weights!$C$5:$C$10) -> 0.955515 | G4: =SUMPRODUCT('Data - Football pre-match'!G$3:G$8,Weights!$C$5:$C$10) -> 0.95214 | H4: =SUMPRODUCT('Data - Football pre-match'!H$3:H$8,Weights!$C$5:$C$10) -> 0.95214 | I4: =SUMPRODUCT('Data - Football pre-match'!I$3:I$8,Weights!$C$5:$C$10) -> 0.968355 | J4: =SUMPRODUCT('Data - Football pre-match'!J$3:J$8,Weights!$C$5:$C$10) -> 0.95214 | ... R4: =SUMPRODUCT('Data - Football pre-match'!R$3:R$8,Weights!$C$5:$C$10) -> 0.94583
B5: Premier League | C5: =SUMPRODUCT('Data - Football pre-match'!C$10:C$15,Weights!$C$5:$C$10) -> 0.95406 | D5: =SUMPRODUCT('Data - Football pre-match'!D$10:D$15,Weights!$C$5:$C$10) -> 0.950035 | E5: =SUMPRODUCT('Data - Football pre-match'!E$10:E$15,Weights!$C$5:$C$10) -> 0.95494 | F5: =SUMPRODUCT('Data - Football pre-match'!F$10:F$15,Weights!$C$5:$C$10) -> 0.95764 | G5: =SUMPRODUCT('Data - Football pre-match'!G$10:G$15,Weights!$C$5:$C$10) -> 0.950035 | H5: =SUMPRODUCT('Data - Football pre-match'!H$10:H$15,Weights!$C$5:$C$10) -> 0.95494 | I5: =SUMPRODUCT('Data - Football pre-match'!I$10:I$15,Weights!$C$5:$C$10) -> 0.968885 | J5: =SUMPRODUCT('Data - Football pre-match'!J$10:J$15,Weights!$C$5:$C$10) -> 0.95494 | ... R5: =SUMPRODUCT('Data - Football pre-match'!R$10:R$15,Weights!$C$5:$C$10) -> 0.95477
B6: La Liga | C6: =SUMPRODUCT('Data - Football pre-match'!C$17:C$22,Weights!$C$5:$C$10) -> 0.95096 | D6: =SUMPRODUCT('Data - Football pre-match'!D$17:D$22,Weights!$C$5:$C$10) -> 0.940945 | E6: =SUMPRODUCT('Data - Football pre-match'!E$17:E$22,Weights!$C$5:$C$10) -> 0.951925 | F6: =SUMPRODUCT('Data - Football pre-match'!F$17:F$22,Weights!$C$5:$C$10) -> 0.951925 | G6: =SUMPRODUCT('Data - Football pre-match'!G$17:G$22,Weights!$C$5:$C$10) -> 0.940945 | H6: =SUMPRODUCT('Data - Football pre-match'!H$17:H$22,Weights!$C$5:$C$10) -> 0.951925 | I6: =SUMPRODUCT('Data - Football pre-match'!I$17:I$22,Weights!$C$5:$C$10) -> 0.967625 | J6: =SUMPRODUCT('Data - Football pre-match'!J$17:J$22,Weights!$C$5:$C$10) -> 0.951925 | ... R6: =SUMPRODUCT('Data - Football pre-match'!R$17:R$22,Weights!$C$5:$C$10) -> 0.947085
B7: Serie A | C7: =SUMPRODUCT('Data - Football pre-match'!C$24:C$29,Weights!$C$5:$C$10) -> 0.956875 | D7: =SUMPRODUCT('Data - Football pre-match'!D$24:D$29,Weights!$C$5:$C$10) -> 0.95297 | E7: =SUMPRODUCT('Data - Football pre-match'!E$24:E$29,Weights!$C$5:$C$10) -> 0.95297 | F7: =SUMPRODUCT('Data - Football pre-match'!F$24:F$29,Weights!$C$5:$C$10) -> 0.95297 | G7: =SUMPRODUCT('Data - Football pre-match'!G$24:G$29,Weights!$C$5:$C$10) -> 0.94415 | H7: =SUMPRODUCT('Data - Football pre-match'!H$24:H$29,Weights!$C$5:$C$10) -> 0.95297 | I7: =SUMPRODUCT('Data - Football pre-match'!I$24:I$29,Weights!$C$5:$C$10) -> 0.96807 | J7: =SUMPRODUCT('Data - Football pre-match'!J$24:J$29,Weights!$C$5:$C$10) -> 0.95297 | ... R7: =SUMPRODUCT('Data - Football pre-match'!R$24:R$29,Weights!$C$5:$C$10) -> 0.94793
B8: Bundesliga | C8: =SUMPRODUCT('Data - Football pre-match'!C$31:C$36,Weights!$C$5:$C$10) -> 0.952305 | D8: =SUMPRODUCT('Data - Football pre-match'!D$31:D$36,Weights!$C$5:$C$10) -> 0.953155 | E8: =SUMPRODUCT('Data - Football pre-match'!E$31:E$36,Weights!$C$5:$C$10) -> 0.953155 | F8: =SUMPRODUCT('Data - Football pre-match'!F$31:F$36,Weights!$C$5:$C$10) -> 0.953155 | G8: =SUMPRODUCT('Data - Football pre-match'!G$31:G$36,Weights!$C$5:$C$10) -> 0.94546 | H8: =SUMPRODUCT('Data - Football pre-match'!H$31:H$36,Weights!$C$5:$C$10) -> 0.947575 | I8: =SUMPRODUCT('Data - Football pre-match'!I$31:I$36,Weights!$C$5:$C$10) -> 0.971425 | J8: =SUMPRODUCT('Data - Football pre-match'!J$31:J$36,Weights!$C$5:$C$10) -> 0.953155 | ... R8: =SUMPRODUCT('Data - Football pre-match'!R$31:R$36,Weights!$C$5:$C$10) -> 0.94807
B9: Jupiler Pro League | C9: =SUMPRODUCT('Data - Football pre-match'!C$38:C$43,Weights!$C$5:$C$10) -> 0.935645 | D9: =SUMPRODUCT('Data - Football pre-match'!D$38:D$43,Weights!$C$5:$C$10) -> 0.945295 | E9: =SUMPRODUCT('Data - Football pre-match'!E$38:E$43,Weights!$C$5:$C$10) -> 0.945295 | F9: =SUMPRODUCT('Data - Football pre-match'!F$38:F$43,Weights!$C$5:$C$10) -> 0.949705 | G9: =SUMPRODUCT('Data - Football pre-match'!G$38:G$43,Weights!$C$5:$C$10) -> 0.92932 | H9: =SUMPRODUCT('Data - Football pre-match'!H$38:H$43,Weights!$C$5:$C$10) -> 0.945295 | I9: =SUMPRODUCT('Data - Football pre-match'!I$38:I$43,Weights!$C$5:$C$10) -> 0.945295 | J9: =SUMPRODUCT('Data - Football pre-match'!J$38:J$43,Weights!$C$5:$C$10) -> 0.945295 | ... R9: =SUMPRODUCT('Data - Football pre-match'!R$38:R$43,Weights!$C$5:$C$10) -> 0.935965
B10: Eerste Divisie | C10: =SUMPRODUCT('Data - Football pre-match'!C$45:C$50,Weights!$C$5:$C$10) -> 0.949575 | D10: =SUMPRODUCT('Data - Football pre-match'!D$45:D$50,Weights!$C$5:$C$10) -> 0.9363 | E10: =SUMPRODUCT('Data - Football pre-match'!E$45:E$50,Weights!$C$5:$C$10) -> 0.9363 | F10: =SUMPRODUCT('Data - Football pre-match'!F$45:F$50,Weights!$C$5:$C$10) -> 0.9363 | G10: =SUMPRODUCT('Data - Football pre-match'!G$45:G$50,Weights!$C$5:$C$10) -> 0.9363 | H10: =SUMPRODUCT('Data - Football pre-match'!H$45:H$50,Weights!$C$5:$C$10) -> 0.9363 | I10: =SUMPRODUCT('Data - Football pre-match'!I$45:I$50,Weights!$C$5:$C$10) -> 0.96734 | J10: =SUMPRODUCT('Data - Football pre-match'!J$45:J$50,Weights!$C$5:$C$10) -> 0.9363 | ... R10: =SUMPRODUCT('Data - Football pre-match'!R$45:R$50,Weights!$C$5:$C$10) -> 0.930255
B11: Ligue 1 | C11: =SUMPRODUCT('Data - Football pre-match'!C$52:C$57,Weights!$C$5:$C$10) -> 0.95263 | D11: =SUMPRODUCT('Data - Football pre-match'!D$52:D$57,Weights!$C$5:$C$10) -> 0.945525 | E11: =SUMPRODUCT('Data - Football pre-match'!E$52:E$57,Weights!$C$5:$C$10) -> 0.95034 | F11: =SUMPRODUCT('Data - Football pre-match'!F$52:F$57,Weights!$C$5:$C$10) -> 0.95034 | G11: =SUMPRODUCT('Data - Football pre-match'!G$52:G$57,Weights!$C$5:$C$10) -> 0.945525 | H11: =SUMPRODUCT('Data - Football pre-match'!H$52:H$57,Weights!$C$5:$C$10) -> 0.945525 | I11: =SUMPRODUCT('Data - Football pre-match'!I$52:I$57,Weights!$C$5:$C$10) -> 0.95034 | J11: =SUMPRODUCT('Data - Football pre-match'!J$52:J$57,Weights!$C$5:$C$10) -> 0.945525 | ... R11: =SUMPRODUCT('Data - Football pre-match'!R$52:R$57,Weights!$C$5:$C$10) -> 0.94526
B12: Football - live
B13: Eredivisie | C13: =SUMPRODUCT('Data - Football Live'!C$3:C$8,Weights!$C$5:$C$10) -> 0.939155 | D13: =SUMPRODUCT('Data - Football Live'!D$3:D$8,Weights!$C$5:$C$10) -> 0.93938 | E13: =SUMPRODUCT('Data - Football Live'!E$3:E$8,Weights!$C$5:$C$10) -> 0.928105 | F13: =SUMPRODUCT('Data - Football Live'!F$3:F$8,Weights!$C$5:$C$10) -> 0.93938 | G13: =SUMPRODUCT('Data - Football Live'!G$3:G$8,Weights!$C$5:$C$10) -> 0.92447 | H13: =SUMPRODUCT('Data - Football Live'!H$3:H$8,Weights!$C$5:$C$10) -> 0.93938 | I13: =SUMPRODUCT('Data - Football Live'!I$3:I$8,Weights!$C$5:$C$10) -> 0.93938 | J13: =SUMPRODUCT('Data - Football Live'!J$3:J$8,Weights!$C$5:$C$10) -> 0.93938 | ... R13: =SUMPRODUCT('Data - Football Live'!R$3:R$8,Weights!$C$5:$C$10) -> 0.94591
B14: Premier League | C14: =SUMPRODUCT('Data - Football Live'!C$10:C$15,Weights!$C$5:$C$10) -> 0.93594 | D14: =SUMPRODUCT('Data - Football Live'!D$10:D$15,Weights!$C$5:$C$10) -> 0.938425 | E14: =SUMPRODUCT('Data - Football Live'!E$10:E$15,Weights!$C$5:$C$10) -> 0.924425 | F14: =SUMPRODUCT('Data - Football Live'!F$10:F$15,Weights!$C$5:$C$10) -> 0.93818 | G14: =SUMPRODUCT('Data - Football Live'!G$10:G$15,Weights!$C$5:$C$10) -> 0.92382 | H14: =SUMPRODUCT('Data - Football Live'!H$10:H$15,Weights!$C$5:$C$10) -> 0.93818 | I14: =SUMPRODUCT('Data - Football Live'!I$10:I$15,Weights!$C$5:$C$10) -> 0.93818 | J14: =SUMPRODUCT('Data - Football Live'!J$10:J$15,Weights!$C$5:$C$10) -> 0.938625 | ... R14: =SUMPRODUCT('Data - Football Live'!R$10:R$15,Weights!$C$5:$C$10) -> 0.95087
B15: La Liga | C15: =SUMPRODUCT('Data - Football Live'!C$17:C$22,Weights!$C$5:$C$10) -> 0.94058 | D15: =SUMPRODUCT('Data - Football Live'!D$17:D$22,Weights!$C$5:$C$10) -> 0.94068 | E15: =SUMPRODUCT('Data - Football Live'!E$17:E$22,Weights!$C$5:$C$10) -> 0.93077 | F15: =SUMPRODUCT('Data - Football Live'!F$17:F$22,Weights!$C$5:$C$10) -> 0.94068 | G15: =SUMPRODUCT('Data - Football Live'!G$17:G$22,Weights!$C$5:$C$10) -> 0.92156 | H15: =SUMPRODUCT('Data - Football Live'!H$17:H$22,Weights!$C$5:$C$10) -> 0.94068 | I15: =SUMPRODUCT('Data - Football Live'!I$17:I$22,Weights!$C$5:$C$10) -> 0.94068 | J15: =SUMPRODUCT('Data - Football Live'!J$17:J$22,Weights!$C$5:$C$10) -> 0.94068 | ... R15: =SUMPRODUCT('Data - Football Live'!R$17:R$22,Weights!$C$5:$C$10) -> 0.94506
B16: Serie A | C16: =SUMPRODUCT('Data - Football Live'!C$24:C$29,Weights!$C$5:$C$10) -> 0.939505 | D16: =SUMPRODUCT('Data - Football Live'!D$24:D$29,Weights!$C$5:$C$10) -> 0.939995 | E16: =SUMPRODUCT('Data - Football Live'!E$24:E$29,Weights!$C$5:$C$10) -> 0.92968 | F16: =SUMPRODUCT('Data - Football Live'!F$24:F$29,Weights!$C$5:$C$10) -> 0.939995 | G16: =SUMPRODUCT('Data - Football Live'!G$24:G$29,Weights!$C$5:$C$10) -> 0.920365 | H16: =SUMPRODUCT('Data - Football Live'!H$24:H$29,Weights!$C$5:$C$10) -> 0.939995 | I16: =SUMPRODUCT('Data - Football Live'!I$24:I$29,Weights!$C$5:$C$10) -> 0.939995 | J16: =SUMPRODUCT('Data - Football Live'!J$24:J$29,Weights!$C$5:$C$10) -> 0.939995 | ... R16: =SUMPRODUCT('Data - Football Live'!R$24:R$29,Weights!$C$5:$C$10) -> 0.948455
B17: Bundesliga | C17: =SUMPRODUCT('Data - Football Live'!C$31:C$36,Weights!$C$5:$C$10) -> 0.9378 | D17: =SUMPRODUCT('Data - Football Live'!D$31:D$36,Weights!$C$5:$C$10) -> 0.941685 | E17: =SUMPRODUCT('Data - Football Live'!E$31:E$36,Weights!$C$5:$C$10) -> 0.93236 | F17: =SUMPRODUCT('Data - Football Live'!F$31:F$36,Weights!$C$5:$C$10) -> 0.941685 | G17: =SUMPRODUCT('Data - Football Live'!G$31:G$36,Weights!$C$5:$C$10) -> 0.91795 | H17: =SUMPRODUCT('Data - Football Live'!H$31:H$36,Weights!$C$5:$C$10) -> 0.941685 | I17: =SUMPRODUCT('Data - Football Live'!I$31:I$36,Weights!$C$5:$C$10) -> 0.941685 | J17: =SUMPRODUCT('Data - Football Live'!J$31:J$36,Weights!$C$5:$C$10) -> 0.941685 | ... R17: =SUMPRODUCT('Data - Football Live'!R$31:R$36,Weights!$C$5:$C$10) -> 0.947005
B18: Jupiler Pro League | C18: =SUMPRODUCT('Data - Football Live'!C$38:C$43,Weights!$C$5:$C$10) -> 0.9256 | D18: =SUMPRODUCT('Data - Football Live'!D$38:D$43,Weights!$C$5:$C$10) -> 0.938835 | E18: =SUMPRODUCT('Data - Football Live'!E$38:E$43,Weights!$C$5:$C$10) -> 0.930545 | F18: =SUMPRODUCT('Data - Football Live'!F$38:F$43,Weights!$C$5:$C$10) -> 0.938835 | G18: =SUMPRODUCT('Data - Football Live'!G$38:G$43,Weights!$C$5:$C$10) -> 0.911705 | H18: =SUMPRODUCT('Data - Football Live'!H$38:H$43,Weights!$C$5:$C$10) -> 0.938835 | I18: =SUMPRODUCT('Data - Football Live'!I$38:I$43,Weights!$C$5:$C$10) -> 0.938835 | J18: =SUMPRODUCT('Data - Football Live'!J$38:J$43,Weights!$C$5:$C$10) -> 0.938835 | ... R18: =SUMPRODUCT('Data - Football Live'!R$38:R$43,Weights!$C$5:$C$10) -> 0.9363
B19: Eerste Divisie | C19: =SUMPRODUCT('Data - Football Live'!C$45:C$50,Weights!$C$5:$C$10) -> 0.931885 | D19: =SUMPRODUCT('Data - Football Live'!D$45:D$50,Weights!$C$5:$C$10) -> 0.927525 | E19: =SUMPRODUCT('Data - Football Live'!E$45:E$50,Weights!$C$5:$C$10) -> 0.912585 | F19: =SUMPRODUCT('Data - Football Live'!F$45:F$50,Weights!$C$5:$C$10) -> 0.927525 | G19: =SUMPRODUCT('Data - Football Live'!G$45:G$50,Weights!$C$5:$C$10) -> 0.897365 | H19: =SUMPRODUCT('Data - Football Live'!H$45:H$50,Weights!$C$5:$C$10) -> 0.927525 | I19: =SUMPRODUCT('Data - Football Live'!I$45:I$50,Weights!$C$5:$C$10) -> 0.927525 | J19: =SUMPRODUCT('Data - Football Live'!J$45:J$50,Weights!$C$5:$C$10) -> 0.927525 | ... R19: =SUMPRODUCT('Data - Football Live'!R$45:R$50,Weights!$C$5:$C$10) -> 0.93851
B20: Ligue 1 | C20: =SUMPRODUCT('Data - Football Live'!C$52:C$57,Weights!$C$5:$C$10) -> 0.93954 | D20: =SUMPRODUCT('Data - Football Live'!D$52:D$57,Weights!$C$5:$C$10) -> 0.94009 | E20: =SUMPRODUCT('Data - Football Live'!E$52:E$57,Weights!$C$5:$C$10) -> 0.926745 | F20: =SUMPRODUCT('Data - Football Live'!F$52:F$57,Weights!$C$5:$C$10) -> 0.94009 | G20: =SUMPRODUCT('Data - Football Live'!G$52:G$57,Weights!$C$5:$C$10) -> 0.919565 | H20: =SUMPRODUCT('Data - Football Live'!H$52:H$57,Weights!$C$5:$C$10) -> 0.94009 | I20: =SUMPRODUCT('Data - Football Live'!I$52:I$57,Weights!$C$5:$C$10) -> 0.94009 | J20: =SUMPRODUCT('Data - Football Live'!J$52:J$57,Weights!$C$5:$C$10) -> 0.94009 | ... R20: =SUMPRODUCT('Data - Football Live'!R$52:R$57,Weights!$C$5:$C$10) -> 0.945025
B21: Tennis
B22: Pre-match grand Slam | C22: =SUMPRODUCT('Data - Tennis'!C$4:C$7,Weights!$C$40:$C$43) -> 0.943175 | D22: =SUMPRODUCT('Data - Tennis'!D$4:D$7,Weights!$C$40:$C$43) -> 0.94744 | E22: =SUMPRODUCT('Data - Tennis'!E$4:E$7,Weights!$C$40:$C$43) -> 0.94744 | F22: =SUMPRODUCT('Data - Tennis'!F$4:F$7,Weights!$C$40:$C$43) -> 0.94744 | G22: =SUMPRODUCT('Data - Tennis'!G$4:G$7,Weights!$C$40:$C$43) -> 0.94744 | H22: =SUMPRODUCT('Data - Tennis'!H$4:H$7,Weights!$C$40:$C$43) -> 0.94744 | I22: =SUMPRODUCT('Data - Tennis'!I$4:I$7,Weights!$C$40:$C$43) -> 0.94744 | J22: =SUMPRODUCT('Data - Tennis'!J$4:J$7,Weights!$C$40:$C$43) -> 0.94744 | ... R22: =SUMPRODUCT('Data - Tennis'!R$4:R$7,Weights!$C$40:$C$43) -> 0.95466
B23: Pre-match Challenger | C23: =SUMPRODUCT('Data - Tennis'!C$14:C$17,Weights!$C$40:$C$43) -> 0.91785 | D23: =SUMPRODUCT('Data - Tennis'!D$14:D$17,Weights!$C$40:$C$43) -> 0.94054 | E23: =SUMPRODUCT('Data - Tennis'!E$14:E$17,Weights!$C$40:$C$43) -> 0.94054 | F23: =SUMPRODUCT('Data - Tennis'!F$14:F$17,Weights!$C$40:$C$43) -> 0.94054 | G23: =SUMPRODUCT('Data - Tennis'!G$14:G$17,Weights!$C$40:$C$43) -> 0.94054 | H23: =SUMPRODUCT('Data - Tennis'!H$14:H$17,Weights!$C$40:$C$43) -> 0.94054 | I23: =SUMPRODUCT('Data - Tennis'!I$14:I$17,Weights!$C$40:$C$43) -> 0.94054 | J23: =SUMPRODUCT('Data - Tennis'!J$14:J$17,Weights!$C$40:$C$43) -> 0.94054 | ... L23: =SUMPRODUCT('Data - Tennis'!L$14:L$17,Weights!$C$40:$C$43) -> 0.93487 | M23: =SUMPRODUCT('Data - Tennis'!M$14:M$17,Weights!E40:E43) -> 0.9329 | N23: =SUMPRODUCT('Data - Tennis'!N$14:N$17,Weights!$C$40:$C$43) -> 0.89524 | O23: =SUMPRODUCT('Data - Tennis'!O$14:O$17,Weights!$C$40:$C$43) -> 0.92003 | P23: =SUMPRODUCT('Data - Tennis'!P$14:P$17,Weights!$C$40:$C$43) -> 0.92416 | Q23: =SUMPRODUCT('Data - Tennis'!Q$14:Q$17,Weights!$C$40:$C$43) -> 0.925015 | R23: =SUMPRODUCT('Data - Tennis'!R$14:R$17,Weights!$C$40:$C$43) -> 0.92511
B24: Live grand Slam | C24: =SUMPRODUCT('Data - Tennis'!C$9:C$12,Weights!$C$40:$C$43) -> 0.9384 | D24: =SUMPRODUCT('Data - Tennis'!D$9:D$12,Weights!$C$40:$C$43) -> 0.94343 | E24: =SUMPRODUCT('Data - Tennis'!E$9:E$12,Weights!$C$40:$C$43) -> 0.93809 | F24: =SUMPRODUCT('Data - Tennis'!F$9:F$12,Weights!$C$40:$C$43) -> 0.94343 | G24: =SUMPRODUCT('Data - Tennis'!G$9:G$12,Weights!$C$40:$C$43) -> 0.92108 | H24: =SUMPRODUCT('Data - Tennis'!H$9:H$12,Weights!$C$40:$C$43) -> 0.94343 | I24: =SUMPRODUCT('Data - Tennis'!I$9:I$12,Weights!$C$40:$C$43) -> 0.94343 | J24: =SUMPRODUCT('Data - Tennis'!J$9:J$12,Weights!$C$40:$C$43) -> 0.94343 | K24: =SUMPRODUCT('Data - Tennis'!K$9:K$12,Weights!$C$40:$C$43) -> 0.93809 | L24: =SUMPRODUCT('Data - Tennis'!L$9:L$12,Weights!D40:D43) -> 0.94224706 | M24: =SUMPRODUCT('Data - Tennis'!M$9:M$12,Weights!$C$40:$C$43) -> 0.940645 | N24: =SUMPRODUCT('Data - Tennis'!N$9:N$12,Weights!$C$40:$C$43) -> 0.94587 | O24: =SUMPRODUCT('Data - Tennis'!O$9:O$12,Weights!$C$40:$C$43) -> 0.933105 | P24: =SUMPRODUCT('Data - Tennis'!P$9:P$12,Weights!$C$40:$C$43) -> 0.9432 | Q24: =SUMPRODUCT('Data - Tennis'!Q$9:Q$12,Weights!$C$40:$C$43) -> 0.94543 | R24: =SUMPRODUCT('Data - Tennis'!R$9:R$12,Weights!$C$40:$C$43) -> 0.94595
B25: Live Challenger | C25: =SUMPRODUCT('Data - Tennis'!C$19:C$22,Weights!$C$40:$C$43) -> 0.92723 | D25: =SUMPRODUCT('Data - Tennis'!D$19:D$22,Weights!$C$40:$C$43) -> 0.93034 | E25: =SUMPRODUCT('Data - Tennis'!E$19:E$22,Weights!$C$40:$C$43) -> 0.920115 | F25: =SUMPRODUCT('Data - Tennis'!F$19:F$22,Weights!$C$40:$C$43) -> 0.93034 | G25: =SUMPRODUCT('Data - Tennis'!G$19:G$22,Weights!$C$40:$C$43) -> 0.90821 | H25: =SUMPRODUCT('Data - Tennis'!H$19:H$22,Weights!$C$40:$C$43) -> 0.93034 | I25: =SUMPRODUCT('Data - Tennis'!I$19:I$22,Weights!$C$40:$C$43) -> 0.93034 | J25: =SUMPRODUCT('Data - Tennis'!J$19:J$22,Weights!$C$40:$C$43) -> 0.93034 | ... M25: =SUMPRODUCT('Data - Tennis'!M$19:M$22,Weights!$C$40:$C$43) -> 0.9284 | N25: X | O25: =SUMPRODUCT('Data - Tennis'!O$19:O$22,Weights!$C$40:$C$43) -> 0.92092 | P25: =SUMPRODUCT('Data - Tennis'!P$19:P$22,Weights!$C$40:$C$43) -> 0.92574 | Q25: =SUMPRODUCT('Data - Tennis'!Q$19:Q$22,Weights!$C$40:$C$43) -> 0.92429 | R25: =SUMPRODUCT('Data - Tennis'!R$19:R$22,Weights!$C$40:$C$43) -> 0.92429

Sheet Weights
B2: Football
B4: Betting market | C4: Weight | E4: Competition | F4: Weight | H4: Time | I4: Weight
B5: 1x2 | C5: 0.45 | E5: Eredivisie | F5: 0.35 | H5: Pre-match | I5: 0.5
B6: Draw no bet | C6: 0.1 | E6: Premier League | F6: 0.25 | H6: live | I6: 0.5
B7: Both teams to score | C7: 0.1 | E7: La Liga | F7: 0.15
B8: Over/under goals | C8: 0.25 | E8: Serie A | F8: 0.05
B9: Over/under team goals | C9: 0.05 | E9: Bundesliga | F9: 0.05
B10: Winner Half-Time | C10: 0.05 | E10: Jupiler Pro League | F10: 0.05
E11: Eerste Divisie | F11: 0.05
E12: Ligue 1 | F12: 0.05
B16: Formula 1
B18: Betting market | C18: Weight | D18: Bet365 | E18: HC & Zebet | F18: Vbet | H18: Time | I18: Weight
B19: Winner | C19: 0.7 | D19: =C19+(C19/(SUM($C$19:$C$20,$C$22)))*$C$21 -> 0.73684211 | E19: =C19+(C19/(SUM($C$19,$C$21:$C$22)))*$C$20 -> 0.82352941 | F19: =C19+(C19/(SUM($C$19,$C$22)))*SUM($C$20:$C$21) -> 0.875 | H19: Pre-match | I19: 0.8
B20: Head-to-Head | C20: 0.15 | D20: =C20+(C20/(SUM($C$19:$C$20,$C$22)))*$C$21 -> 0.15789474 | E20: 0 | F20: 0 | H20: live | I20: 0.2
B21: Team winner | C21: 0.05 | D21: 0 | E21: =C21+(C21/(SUM($C$19,$C$21:$C$22)))*$C$20 -> 0.058823529 | F21: 0
B22: Fastest lap | C22: 0.1 | D22: =C22+(C22/(SUM($C$19:$C$20,$C$22)))*$C$21 -> 0.10526316 | E22: =C22+(C22/(SUM($C$19,$C$21:$C$22)))*$C$20 -> 0.11764706 | F22: =C22+(C22/(SUM($C$19,$C$22)))*SUM($C$20:$C$21) -> 0.125
B26: Basketball
B28: Betting market | C28: Weight | D28: PRE VB & 365 | E28: LI Toto | F28: LI Circus | H28: Time | I28: Weight
B29: Winner | C29: 0.3 | D29: =C29+(C29/(SUM($C$29:$C$32)))*$C$33 -> 0.375 | E29: =C29+(C29/(SUM($C$29:$C$31,$C$33)))*$C$32 -> 0.31578947 | F29: =C29+(C29/(SUM($C$29,$C$31,$C$33)))*SUM($C$30,$C$32) -> 0.375 | H29: Pre-match | I29: 0.25
B30: Point handicap | C30: 0.15 | D30: =C30+(C30/(SUM($C$29:$C$32)))*$C$33 -> 0.1875 | E30: =C30+(C30/(SUM($C$29:$C$31,$C$33)))*$C$32 -> 0.15789474 | F30: 0 | H30: live | I30: 0.75
B31: Total points | C31: 0.3 | D31: =C31+(C31/(SUM($C$29:$C$32)))*$C$33 -> 0.375 | E31: =C31+(C31/(SUM($C$29:$C$31,$C$33)))*$C$32 -> 0.31578947 | F31: =C31+(C31/(SUM($C$29,$C$31,$C$33)))*SUM($C$30,$C$32) -> 0.375
B32: Total team points | C32: 0.05 | D32: =C32+(C32/(SUM($C$29:$C$32)))*$C$33 -> 0.0625 | E32: 0 | F32: 0
B33: Winner quarter | C33: 0.2 | D33: 0 | E33: =C33+(C33/(SUM($C$29:$C$31,$C$33)))*$C$32 -> 0.21052632 | F33: =C33+(C33/(SUM($C$29,$C$31,$C$33)))*SUM($C$30,$C$32) -> 0.25
B37: Tennis
B39: Betting market | C39: Weight | D39: LI GS TOTO | E39: PRE CH HC | H39: Time | I39: Weight
B40: Winner | C40: 0.7 | D40: =$C40+($C40/(SUM($C$40:$C$42)))*$C$43 -> 0.82352941 | E40: =$C40+($C40/(SUM($C$40:$C$42)))*$C$43 -> 0.82352941 | H40: Pre-match | I40: 0.2
B41: Total Games | C41: 0.1 | D41: =$C41+($C41/(SUM($C$40:$C$42)))*$C$43 -> 0.11764706 | E41: =$C41+($C41/(SUM($C$40:$C$42)))*$C$43 -> 0.11764706 | H41: live | I41: 0.8
B42: Game handicap | C42: 0.05 | D42: =$C42+($C42/(SUM($C$40:$C$42)))*$C$43 -> 0.058823529 | E42: =$C42+($C42/(SUM($C$40:$C$42)))*$C$43 -> 0.058823529
B43: Total games in set | C43: 0.15 | D43: 0 | E43: 0 | H43: Event | I43: Weight | J43: ZE LI
H44: Grand Slam | I44: 0.7 | J44: 1
H45: Challenger | I45: 0.3 | J45: 0
B49: Darts
B51: Betting market | C51: Weight | D51: PRE TO ZE | E51: PRE CI | F51: LI TO | H51: Time | I51: Weight | J51: HC, ZE, VB
B52: Winner | C52: 0.65 | D52: =C52+(C52/(SUM($C$55,$C$52)))*SUM($C$53:$C$54) -> 0.8125 | E52: =C52+(C52/(SUM($C$52,$C$54:$C$55)))*$C$53 -> 0.72222222 | F52: =C52+(C52/(SUM($C$52,$C$54:$C$55)))*$C$53 -> 0.72222222 | H52: Pre-match | I52: 0.4 | J52: 1
B53: Legs Handicap | C53: 0.1 | D53: 0 | E53: 0 | F53: 0 | H53: live | I53: 0.6 | J53: 0
B54: Total Legs | C54: 0.1 | D54: 0 | E54: =C54+(C54/(SUM($C$52,$C$54:$C$55)))*$C$53 -> 0.11111111 | F54: =C54+(C54/(SUM($C$52,$C$54:$C$55)))*$C$53 -> 0.11111111
B55: Total 180s | C55: 0.15 | D55: =C55+(C55/(SUM($C$55,$C$52)))*SUM($C$53:$C$54) -> 0.1875 | E55: =C55+(C55/(SUM($C$52,$C$54:$C$55)))*$C$53 -> 0.16666667 | F55: =C55+(C55/(SUM($C$52,$C$54:$C$55)))*$C$53 -> 0.16666667
B59: General
B61: Sport | C61: Weight
B62: Football | C62: 0.55
...

Sheet Analysis
B2: Weights | K2: Payback breakdown per sport
B4: Football | E4: Formula 1 | H4: Tennis | K4: Sport | L4: Bet365 | M4: Jacks | N4: BetCity | O4: Unibet | P4: Leovegas | Q4: betMGM | R4: 711 | S4: Bingoal | T4: LSbet | U4: TOTO | V4: HC | W4: Zebet | X4: Circus | Y4: Vbet | Z4: ComeOn | AA4: BetNation
B5: Market | C5: Weight | E5: Market | F5: Weight | H5: Market | I5: Weight | K5: Football pre-match | L5: =SUMPRODUCT('Per competition'!C4:C11,Weights!$F$5:$F$12) -> 0.95311925 | M5: =SUMPRODUCT('Per competition'!D4:D11,Weights!$F$5:$F$12) -> 0.94856175 | N5: =SUMPRODUCT('Per competition'!E4:E11,Weights!$F$5:$F$12) -> 0.95167575 | O5: =SUMPRODUCT('Per competition'!F4:F11,Weights!$F$5:$F$12) -> 0.9537525 | P5: =SUMPRODUCT('Per competition'!G4:G11,Weights!$F$5:$F$12) -> 0.94693725 | Q5: =SUMPRODUCT('Per competition'!H4:H11,Weights!$F$5:$F$12) -> 0.951156 | R5: =SUMPRODUCT('Per competition'!I4:I11,Weights!$F$5:$F$12) -> 0.96641275 | S5: =SUMPRODUCT('Per competition'!J4:J11,Weights!$F$5:$F$12) -> 0.951435 | ... AA5: =SUMPRODUCT('Per competition'!R4:R11,Weights!$F$5:$F$12) -> 0.94716975
B6: 1x2 | C6: 0.45 | E6: Winner | F6: 0.7 | H6: Winner | I6: 0.7 | K6: Football live | L6: =SUMPRODUCT('Per competition'!C13:C20,Weights!$F$5:$F$12) -> 0.93749275 | M6: =SUMPRODUCT('Per competition'!D13:D20,Weights!$F$5:$F$12) -> 0.93889775 | N6: =SUMPRODUCT('Per competition'!E13:E20,Weights!$F$5:$F$12) -> 0.92715425 | O6: =SUMPRODUCT('Per competition'!F13:F20,Weights!$F$5:$F$12) -> 0.9388365 | P6: =SUMPRODUCT('Per competition'!G13:G20,Weights!$F$5:$F$12) -> 0.921101 | Q6: =SUMPRODUCT('Per competition'!H13:H20,Weights!$F$5:$F$12) -> 0.9388365 | R6: =SUMPRODUCT('Per competition'!I13:I20,Weights!$F$5:$F$12) -> 0.9388365 | S6: =SUMPRODUCT('Per competition'!J13:J20,Weights!$F$5:$F$12) -> 0.93894775 | ... AA6: =SUMPRODUCT('Per competition'!R13:R20,Weights!$F$5:$F$12) -> 0.94630975
B7: Draw no bet | C7: 0.1 | E7: Head-to-Head | F7: 0.15 | H7: Total games | I7: 0.1 | K7: Total football | L7: =SUMPRODUCT(L5:L6,Weights!$I$5:$I$6) -> 0.945306 | M7: =SUMPRODUCT(M5:M6,Weights!$I$5:$I$6) -> 0.94372975 | N7: =SUMPRODUCT(N5:N6,Weights!$I$5:$I$6) -> 0.939415 | O7: =SUMPRODUCT(O5:O6,Weights!$I$5:$I$6) -> 0.9462945 | P7: =SUMPRODUCT(P5:P6,Weights!$I$5:$I$6) -> 0.93401913 | Q7: =SUMPRODUCT(Q5:Q6,Weights!$I$5:$I$6) -> 0.94499625 | R7: =SUMPRODUCT(R5:R6,Weights!$I$5:$I$6) -> 0.95262463 | S7: =SUMPRODUCT(S5:S6,Weights!$I$5:$I$6) -> 0.94519138 | ... AA7: =SUMPRODUCT(AA5:AA6,Weights!$I$5:$I$6) -> 0.94673975
B8: Both teams to score | C8: 0.1 | E8: Team winner | F8: 0.05 | H8: Game handicap | I8: 0.05 | K8: F1 pre-match | L8: =SUMPRODUCT('Data - F1'!C4:C7,Weights!D19:D22) -> 0.89767522 | M8: =SUMPRODUCT('Data - F1'!D4:D7,Weights!$C$19:$C$22) -> 0.8682266 | N8: =SUMPRODUCT('Data - F1'!E4:E7,Weights!$C$19:$C$22) -> 0.8682266 | O8: =SUMPRODUCT('Data - F1'!F4:F7,Weights!$C$19:$C$22) -> 0.8682266 | P8: =SUMPRODUCT('Data - F1'!G4:G7,Weights!$C$19:$C$22) -> 0.8682266 | Q8: =SUMPRODUCT('Data - F1'!H4:H7,Weights!$C$19:$C$22) -> 0.8682266 | R8: =SUMPRODUCT('Data - F1'!I4:I7,Weights!$C$19:$C$22) -> 0.8682266 | S8: =SUMPRODUCT('Data - F1'!J4:J7,Weights!$C$19:$C$22) -> 0.8682266 | T8: =SUMPRODUCT('Data - F1'!K4:K7,Weights!$C$19:$C$22) -> 0.8682266 | U8: =SUMPRODUCT('Data - F1'!L4:L7,Weights!$C$19:$C$22) -> 0.83703479 | V8: =SUMPRODUCT('Data - F1'!M4:M7,Weights!$E$19:$E$22) -> 0.81459994 | W8: =SUMPRODUCT('Data - F1'!N4:N7,Weights!$E$19:$E$22) -> 0.84356057 | X8: =SUMPRODUCT('Data - F1'!O4:O7,Weights!$C$19:$C$22) -> 0.83233526 | Y8: =SUMPRODUCT('Data - F1'!P4:P7,Weights!F19:F22) -> 0.73946915 | Z8: =SUMPRODUCT('Data - F1'!Q4:Q7,Weights!$C$19:$C$22) -> 0.82501314 | AA8: =SUMPRODUCT('Data - F1'!R4:R7,Weights!$C$19:$C$22) -> 0.82501314
B9: Over/under goals | C9: 0.25 | E9: Fastest lap | F9: 0.1 | H9: Total games games in set | I9: 0.15 | K9: F1 Live | L9: ='Data - F1'!C9 -> 0.8326505 | M9: ='Data - F1'!D9 -> 0.71923921 | N9: ='Data - F1'!E9 -> 0.66778922 | O9: ='Data - F1'!F9 -> 0.72040979 | P9: ='Data - F1'!G9 -> 0.66735437 | Q9: ='Data - F1'!H9 -> 0.73128072 | R9: ='Data - F1'!I9 -> 0.7659391 | S9: ='Data - F1'!J9 -> 0.75808558 | ... AA9: ='Data - F1'!R9 -> 0.82844045
B10: Over/under team goals | C10: 0.05 | E10: Live / Pre-match | H10: Grand Slam / Challenger | K10: Total F1 | L10: =SUMPRODUCT(L8:L9,Weights!$I$19:$I$20) -> 0.88467027 | M10: =SUMPRODUCT(M8:M9,Weights!$I$19:$I$20) -> 0.83842912 | N10: =SUMPRODUCT(N8:N9,Weights!$I$19:$I$20) -> 0.82813912 | O10: =SUMPRODUCT(O8:O9,Weights!$I$19:$I$20) -> 0.83866324 | P10: =SUMPRODUCT(P8:P9,Weights!$I$19:$I$20) -> 0.82805215 | Q10: =SUMPRODUCT(Q8:Q9,Weights!$I$19:$I$20) -> 0.84083742 | R10: =SUMPRODUCT(R8:R9,Weights!$I$19:$I$20) -> 0.8477691 | S10: =SUMPRODUCT(S8:S9,Weights!$I$19:$I$20) -> 0.84619839 | ... AA10: =SUMPRODUCT(AA8:AA9,Weights!$I$19:$I$20) -> 0.8256986
B11: Winner half time | C11: 0.05 | E11: Pre-match | F11: 0.8 | H11: Grand Slam | I11: 0.7 | K11: Tennis pre-match | L11: =SUMPRODUCT('Per competition'!C$22:C$23,Weights!$I$44:$I$45) -> 0.9355775 | M11: =SUMPRODUCT('Per competition'!D$22:D$23,Weights!$I$44:$I$45) -> 0.94537 | N11: =SUMPRODUCT('Per competition'!E$22:E$23,Weights!$I$44:$I$45) -> 0.94537 | O11: =SUMPRODUCT('Per competition'!F$22:F$23,Weights!$I$44:$I$45) -> 0.94537 | P11: =SUMPRODUCT('Per competition'!G$22:G$23,Weights!$I$44:$I$45) -> 0.94537 | Q11: =SUMPRODUCT('Per competition'!H$22:H$23,Weights!$I$44:$I$45) -> 0.94537 | R11: =SUMPRODUCT('Per competition'!I$22:I$23,Weights!$I$44:$I$45) -> 0.94537 | S11: =SUMPRODUCT('Per competition'!J$22:J$23,Weights!$I$44:$I$45) -> 0.94537 | ... AA11: =SUMPRODUCT('Per competition'!R$22:R$23,Weights!$I$44:$I$45) -> 0.945795
B12: Competition | E12: Live | F12: 0.2 | H12: Challenger | I12: 0.3 | K12: Tennis Live | L12: =SUMPRODUCT('Per competition'!C$24:C$25,Weights!$I$44:$I$45) -> 0.935049 | M12: =SUMPRODUCT('Per competition'!D$24:D$25,Weights!$I$44:$I$45) -> 0.939503 | N12: =SUMPRODUCT('Per competition'!E$24:E$25,Weights!$I$44:$I$45) -> 0.9326975 | O12: =SUMPRODUCT('Per competition'!F$24:F$25,Weights!$I$44:$I$45) -> 0.939503 | P12: =SUMPRODUCT('Per competition'!G$24:G$25,Weights!$I$44:$I$45) -> 0.917219 | Q12: =SUMPRODUCT('Per competition'!H$24:H$25,Weights!$I$44:$I$45) -> 0.939503 | R12: =SUMPRODUCT('Per competition'!I$24:I$25,Weights!$I$44:$I$45) -> 0.939503 | S12: =SUMPRODUCT('Per competition'!J$24:J$25,Weights!$I$44:$I$45) -> 0.939503 | ... V12: =SUMPRODUCT('Per competition'!M$24:M$25,Weights!$I$44:$I$45) -> 0.9369715 | W12: =SUMPRODUCT('Per competition'!N$24:N$25,Weights!J44:J45) -> 0.94587 | X12: =SUMPRODUCT('Per competition'!O$24:O$25,Weights!$I$44:$I$45) -> 0.9294495 | Y12: =SUMPRODUCT('Per competition'!P$24:P$25,Weights!$I$44:$I$45) -> 0.937962 | Z12: =SUMPRODUCT('Per competition'!Q$24:Q$25,Weights!$I$44:$I$45) -> 0.939088 | AA12: =SUMPRODUCT('Per competition'!R$24:R$25,Weights!$I$44:$I$45) -> 0.939452
B13: Eredivisie | C13: 0.35 | H13: Live / Pre-match | K13: Total Tennis | L13: =SUMPRODUCT(L11:L12,Weights!$I$40:$I$41) -> 0.9351547 | M13: =SUMPRODUCT(M11:M12,Weights!$I$40:$I$41) -> 0.9406764 | N13: =SUMPRODUCT(N11:N12,Weights!$I$40:$I$41) -> 0.935232 | O13: =SUMPRODUCT(O11:O12,Weights!$I$40:$I$41) -> 0.9406764 | P13: =SUMPRODUCT(P11:P12,Weights!$I$40:$I$41) -> 0.9228492 | Q13: =SUMPRODUCT(Q11:Q12,Weights!$I$40:$I$41) -> 0.9406764 | R13: =SUMPRODUCT(R11:R12,Weights!$I$40:$I$41) -> 0.9406764 | S13: =SUMPRODUCT(S11:S12,Weights!$I$40:$I$41) -> 0.9406764 | ... AA13: =SUMPRODUCT(AA11:AA12,Weights!$I$40:$I$41) -> 0.9407206
B14: Premier League | C14: 0.25 | E14: Basketbal | H14: Pre-match | I14: 0.2 | K14: Basket pre-match | L14: =SUMPRODUCT('Data - Basketball'!C4:C8,Weights!D29:D33) -> 0.95035 | M14: =SUMPRODUCT('Data - Basketball'!D4:D8,Weights!$C$29:$C$33) -> 0.9461 | N14: =SUMPRODUCT('Data - Basketball'!E4:E8,Weights!$C$29:$C$33) -> 0.9461 | O14: =SUMPRODUCT('Data - Basketball'!F4:F8,Weights!$C$29:$C$33) -> 0.9461 | P14: =SUMPRODUCT('Data - Basketball'!G4:G8,Weights!$C$29:$C$33) -> 0.9461 | Q14: =SUMPRODUCT('Data - Basketball'!H4:H8,Weights!$C$29:$C$33) -> 0.9461 | R14: =SUMPRODUCT('Data - Basketball'!I4:I8,Weights!$C$29:$C$33) -> 0.9461 | S14: =SUMPRODUCT('Data - Basketball'!J4:J8,Weights!$C$29:$C$33) -> 0.9461 | T14: =SUMPRODUCT('Data - Basketball'!K4:K8,Weights!$C$29:$C$33) -> 0.9461 | ... X14: =SUMPRODUCT('Data - Basketball'!O4:O8,Weights!$C$29:$C$33) -> 0.918275 | Y14: =SUMPRODUCT('Data - Basketball'!P4:P8,Weights!D29:D33) -> 0.9346 | Z14: =SUMPRODUCT('Data - Basketball'!Q4:Q8,Weights!$C$29:$C$33) -> 0.933465 | AA14: =SUMPRODUCT('Data - Basketball'!R4:R8,Weights!$C$29:$C$33) -> 0.937305
B15: La Liga | C15: 0.15 | E15: Market | F15: Weight | H15: Live | I15: 0.8 | K15: Basket Live | L15: =SUMPRODUCT('Data - Basketball'!C10:C14,Weights!$C$29:$C$33) -> 0.936075 | M15: =SUMPRODUCT('Data - Basketball'!D10:D14,Weights!$C$29:$C$33) -> 0.93292 | N15: =SUMPRODUCT('Data - Basketball'!E10:E14,Weights!$C$29:$C$33) -> 0.919675 | O15: =SUMPRODUCT('Data - Basketball'!F10:F14,Weights!$C$29:$C$33) -> 0.93292 | P15: =SUMPRODUCT('Data - Basketball'!G10:G14,Weights!$C$29:$C$33) -> 0.902205 | Q15: =SUMPRODUCT('Data - Basketball'!H10:H14,Weights!$C$29:$C$33) -> 0.93292 | R15: =SUMPRODUCT('Data - Basketball'!I10:I14,Weights!$C$29:$C$33) -> 0.93292 | S15: =SUMPRODUCT('Data - Basketball'!J10:J14,Weights!$C$29:$C$33) -> 0.93292 | T15: =SUMPRODUCT('Data - Basketball'!K10:K14,Weights!$C$29:$C$33) -> 0.919675 | U15: =SUMPRODUCT('Data - Basketball'!L10:L14,Weights!E29:E33) -> 0.91407895 | V15: =SUMPRODUCT('Data - Basketball'!M10:M14,Weights!$C$29:$C$33) -> 0.92507 | W15: =SUMPRODUCT('Data - Basketball'!N10:N14,Weights!$C$29:$C$33) -> 0.894815 | X15: =SUMPRODUCT('Data - Basketball'!O10:O14,Weights!F29:F33) -> 0.8826625 | Y15: =SUMPRODUCT('Data - Basketball'!P10:P14,Weights!$C$29:$C$33) -> 0.92051 | Z15: =SUMPRODUCT('Data - Basketball'!Q10:Q14,Weights!$C$29:$C$33) -> 0.930455 | AA15: =SUMPRODUCT('Data - Basketball'!R10:R14,Weights!$C$29:$C$33) -> 0.930455
B16: Serie A | C16: 0.05 | E16: Winner | F16: 0.3 | K16: Total Basket | L16: =SUMPRODUCT(L14:L15,Weights!$I$29:$I$30) -> 0.93964375 | M16: =SUMPRODUCT(M14:M15,Weights!$I$29:$I$30) -> 0.936215 | N16: =SUMPRODUCT(N14:N15,Weights!$I$29:$I$30) -> 0.92628125 | O16: =SUMPRODUCT(O14:O15,Weights!$I$29:$I$30) -> 0.936215 | P16: =SUMPRODUCT(P14:P15,Weights!$I$29:$I$30) -> 0.91317875 | Q16: =SUMPRODUCT(Q14:Q15,Weights!$I$29:$I$30) -> 0.936215 | R16: =SUMPRODUCT(R14:R15,Weights!$I$29:$I$30) -> 0.936215 | S16: =SUMPRODUCT(S14:S15,Weights!$I$29:$I$30) -> 0.936215 | ... AA16: =SUMPRODUCT(AA14:AA15,Weights!$I$29:$I$30) -> 0.9321675
B17: Bundesliga | C17: 0.05 | E17: Handicap points | F17: 0.15 | H17: Darts | K17: Darts pre-match | L17: =SUMPRODUCT('Data - Darts'!C4:C7,Weights!$C$52:$C$55) -> 0.93796 | M17: =SUMPRODUCT('Data - Darts'!D4:D7,Weights!$C$52:$C$55) -> 0.94276 | N17: =SUMPRODUCT('Data - Darts'!E4:E7,Weights!$C$52:$C$55) -> 0.929565 | O17: =SUMPRODUCT('Data - Darts'!F4:F7,Weights!$C$52:$C$55) -> 0.94276 | P17: =SUMPRODUCT('Data - Darts'!G4:G7,Weights!$C$52:$C$55) -> 0.94276 | Q17: =SUMPRODUCT('Data - Darts'!H4:H7,Weights!$C$52:$C$55) -> 0.94276 | R17: =SUMPRODUCT('Data - Darts'!I4:I7,Weights!$C$52:$C$55) -> 0.94276 | S17: =SUMPRODUCT('Data - Darts'!J4:J7,Weights!$C$52:$C$55) -> 0.94276 | T17: =SUMPRODUCT('Data - Darts'!K4:K7,Weights!$C$52:$C$55) -> 0.94276 | U17: =SUMPRODUCT('Data - Darts'!L4:L7,Weights!D52:D55) -> 0.9514125 | V17: =SUMPRODUCT('Data - Darts'!M4:M7,Weights!$C$52:$C$55) -> 0.930555 | W17: =SUMPRODUCT('Data - Darts'!N4:N7,Weights!D52:D55) -> 0.93500625 | X17: =SUMPRODUCT('Data - Darts'!O4:O7,Weights!E52:E55) -> 0.93567778 | Y17: =SUMPRODUCT('Data - Darts'!P4:P7,Weights!$C$52:$C$55) -> 0.947115 | Z17: =SUMPRODUCT('Data - Darts'!Q4:Q7,Weights!$C$52:$C$55) -> 0.92989 | AA17: =SUMPRODUCT('Data - Darts'!R4:R7,Weights!$C$52:$C$55) -> 0.93119
B18: Jupiler Pro League | C18: 0.05 | E18: Total points | F18: 0.3 | H18: Market | I18: Weight | K18: Darts Live | L18: =SUMPRODUCT('Data - Darts'!C9:C12,Weights!$C$52:$C$55) -> 0.92665 | M18: =SUMPRODUCT('Data - Darts'!D9:D12,Weights!$C$52:$C$55) -> 0.943275 | N18: =SUMPRODUCT('Data - Darts'!E9:E12,Weights!$C$52:$C$55) -> 0.9354 | O18: =SUMPRODUCT('Data - Darts'!F9:F12,Weights!$C$52:$C$55) -> 0.943275 | P18: =SUMPRODUCT('Data - Darts'!G9:G12,Weights!$C$52:$C$55) -> 0.92154 | Q18: =SUMPRODUCT('Data - Darts'!H9:H12,Weights!$C$52:$C$55) -> 0.943275 | R18: =SUMPRODUCT('Data - Darts'!I9:I12,Weights!$C$52:$C$55) -> 0.943275 | S18: =SUMPRODUCT('Data - Darts'!J9:J12,Weights!$C$52:$C$55) -> 0.943275 | T18: =SUMPRODUCT('Data - Darts'!K9:K12,Weights!$C$52:$C$55) -> 0.9354 | U18: =SUMPRODUCT('Data - Darts'!L9:L12,Weights!F52:F55) -> 0.94995 | V18: =SUMPRODUCT('Data - Darts'!M9:M12,Weights!$C$52:$C$55) -> 0 | W18: =SUMPRODUCT('Data - Darts'!N9:N12,Weights!$C$52:$C$55) -> 0 | X18: =SUMPRODUCT('Data - Darts'!O9:O12,Weights!$C$52:$C$55) -> 0.942865 | Y18: =SUMPRODUCT('Data - Darts'!P9:P12,Weights!$C$52:$C$55) -> 0 | Z18: =SUMPRODUCT('Data - Darts'!Q9:Q12,Weights!$C$52:$C$55) -> 0.92242 | AA18: =SUMPRODUCT('Data - Darts'!R9:R12,Weights!$C$52:$C$55) -> 0.92242
B19: Eerste Divisie | C19: 0.05 | E19: Total points team | F19: 0.05 | H19: Winner | I19: 0.65 | K19: Total Darts | L19: =SUMPRODUCT(L17:L18,Weights!$I$52:$I$53) -> 0.931174 | M19: =SUMPRODUCT(M17:M18,Weights!$I$52:$I$53) -> 0.943069 | N19: =SUMPRODUCT(N17:N18,Weights!$I$52:$I$53) -> 0.933066 | O19: =SUMPRODUCT(O17:O18,Weights!$I$52:$I$53) -> 0.943069 | P19: =SUMPRODUCT(P17:P18,Weights!$I$52:$I$53) -> 0.930028 | Q19: =SUMPRODUCT(Q17:Q18,Weights!$I$52:$I$53) -> 0.943069 | R19: =SUMPRODUCT(R17:R18,Weights!$I$52:$I$53) -> 0.943069 | S19: =SUMPRODUCT(S17:S18,Weights!$I$52:$I$53) -> 0.943069 | ... U19: =SUMPRODUCT(U17:U18,Weights!$I$52:$I$53) -> 0.950535 | V19: =SUMPRODUCT(V17:V18,Weights!$J$52:$J$53) -> 0.930555 | W19: =SUMPRODUCT(W17:W18,Weights!$J$52:$J$53) -> 0.93500625 | X19: =SUMPRODUCT(X17:X18,Weights!$I$52:$I$53) -> 0.93999011 | Y19: =SUMPRODUCT(Y17:Y18,Weights!J52:J53) -> 0.947115 | Z19: =SUMPRODUCT(Z17:Z18,Weights!$I$52:$I$53) -> 0.925408 | AA19: =SUMPRODUCT(AA17:AA18,Weights!$I$52:$I$53) -> 0.925928
B20: Ligue 1 | C20: 0.05 | E20: Winner quarter | F20: 0.2 | H20: Legs Handicap | I20: 0.1
B21: Live / Pre-match | E21: Live / Pre-match | H21: Total legs | I21: 0.1 | K21: Total | L21: =(L7*Weights!$C$62)+(Analysis!L10*Weights!$C$63)+(Analysis!L13*Weights!$C$64)+(Analysis!L16*Weights!$C$65)+(Analysis!L19*Weights!$C$66) -> 0.93826453 | M21: =(M7*Weights!$C$62)+(Analysis!M10*Weights!$C$63)+(Analysis!M13*Weights!$C$64)+(Analysis!M16*Weights!$C$65)+(Analysis!M19*Weights!$C$66) -> 0.9370365 | N21: =(N7*Weights!$C$62)+(Analysis!N10*Weights!$C$63)+(Analysis!N13*Weights!$C$64)+(Analysis!N16*Weights!$C$65)+(Analysis!N19*Weights!$C$66) -> 0.93106633 | O21: =(O7*Weights!$C$62)+(Analysis!O10*Weights!$C$63)+(Analysis!O13*Weights!$C$64)+(Analysis!O16*Weights!$C$65)+(Analysis!O19*Weights!$C$66) -> 0.93845882 | P21: =(P7*Weights!$C$62)+(Analysis!P10*Weights!$C$63)+(Analysis!P13*Weights!$C$64)+(Analysis!P16*Weights!$C$65)+(Analysis!P19*Weights!$C$66) -> 0.92400364 | Q21: =(Q7*Weights!$C$62)+(Analysis!Q10*Weights!$C$63)+(Analysis!Q13*Weights!$C$64)+(Analysis!Q16*Weights!$C$65)+(Analysis!Q19*Weights!$C$66) -> 0.93785349 | R21: =(R7*Weights!$C$62)+(Analysis!R10*Weights!$C$63)+(Analysis!R13*Weights!$C$64)+(Analysis!R16*Weights!$C$65)+(Analysis!R19*Weights!$C$66) -> 0.94239568 | S21: =(S7*Weights!$C$62)+(Analysis!S10*Weights!$C$63)+(Analysis!S13*Weights!$C$64)+(Analysis!S16*Weights!$C$65)+(Analysis!S19*Weights!$C$66) -> 0.93822886 | ... AA21: =(AA7*Weights!$C$62)+(Analysis!AA10*Weights!$C$63)+(Analysis!AA13*Weights!$C$64)+(Analysis!AA16*Weights!$C$65)+(Analysis!AA19*Weights!$C$66) -> 0.93594546
B22: Pre-match | C22: 0.5 | E22: Pre-match | F22: 0.25 | H22: Total 180s | I22: 0.15 | K22: Rank | L22: =RANK(L21,$L$21:$AA$21,0) -> 4 | M22: =RANK(M21,$L$21:$AA$21,0) -> 7 | N22: =RANK(N21,$L$21:$AA$21,0) -> 11 | O22: =RANK(O21,$L$21:$AA$21,0) -> 3 | P22: =RANK(P21,$L$21:$AA$21,0) -> 15 | Q22: =RANK(Q21,$L$21:$AA$21,0) -> 6 | R22: =RANK(R21,$L$21:$AA$21,0) -> 1 | S22: =RANK(S21,$L$21:$AA$21,0) -> 5 | ... AA22: =RANK(AA21,$L$21:$AA$21,0) -> 8
B23: Live | C23: 0.5 | E23: Live | F23: 0.75 | H23: Live / Pre-match
H24: Pre-match | I24: 0.4
B25: Sport | C25: Weight | H25: Live | I25: 0.6
B26: Football | C26: 0.55 | K26: Bookmaker | L26: Voetbal | M26: Formule 1 | N26: Tennis | O26: Basketbal | P26: Darts | Q26: Total | S26: Bookmaker | T26: RTP | V26: Bookmaker | W26: Verschil
B27: Formula 1 | C27: 0.05 | K27: Bet365 | L27: =TEXT('Total breakdown'!C53,"0.00%")&" ("&'Total breakdown'!D53&")" -> 94.53% (5) | M27: =TEXT('Total breakdown'!E53,"0.00%")&" ("&'Total breakdown'!F53&")" -> 88.47% (1) | N27: =TEXT('Total breakdown'!G53,"0.00%")&" ("&'Total breakdown'!H53&")" -> 93.52% (13) | O27: =TEXT('Total breakdown'!I53,"0.00%")&" ("&'Total breakdown'!J53&")" -> 93.96% (1) | P27: =TEXT('Total breakdown'!M53,"0.00%")&" ("&'Total breakdown'!N53&")" -> 93.83% (4) | Q27: =TEXT('Total breakdown'!M53,"0.00%")&" ("&'Total breakdown'!N53&")" -> 93.83% (4) | S27: 711 | T27: 0.94239568 | V27: Bingoal | W27: 0.0015288559
B28: Tennis | C28: 0.2 | K28: Jacks | L28: =TEXT('Total breakdown'!C54,"0.00%")&" ("&'Total breakdown'!D54&")" -> 94.37% (9) | M28: =TEXT('Total breakdown'!E54,"0.00%")&" ("&'Total breakdown'!F54&")" -> 83.84% (6) | N28: =TEXT('Total breakdown'!G54,"0.00%")&" ("&'Total breakdown'!H54&")" -> 94.07% (3) | O28: =TEXT('Total breakdown'!I54,"0.00%")&" ("&'Total breakdown'!J54&")" -> 93.62% (2) | P28: =TEXT('Total breakdown'!K54,"0.00%")&" ("&'Total breakdown'!L54&")" -> 94.31% (3) | Q28: =TEXT('Total breakdown'!M54,"0.00%")&" ("&'Total breakdown'!N54&")" -> 93.70% (7) | S28: TOTO | T28: 0.9386987 | V28: HC | W28: 0.001047464
B29: Basketball | C29: 0.1 | K29: BetCity | L29: =TEXT('Total breakdown'!C55,"0.00%")&" ("&'Total breakdown'!D55&")" -> 93.94% (12) | M29: =TEXT('Total breakdown'!E55,"0.00%")&" ("&'Total breakdown'!F55&")" -> 82.81% (9) | N29: =TEXT('Total breakdown'!G55,"0.00%")&" ("&'Total breakdown'!H55&")" -> 93.52% (12) | O29: =TEXT('Total breakdown'!I55,"0.00%")&" ("&'Total breakdown'!J55&")" -> 92.63% (10) | P29: =TEXT('Total breakdown'!K55,"0.00%")&" ("&'Total breakdown'!L55&")" -> 93.31% (11) | Q29: =TEXT('Total breakdown'!M55,"0.00%")&" ("&'Total breakdown'!N55&")" -> 93.11% (11) | S29: Unibet | T29: 0.93845882 | V29: Bet365 | W29: 0.00096452864
B30: Darts | C30: 0.1 | K30: Unibet | L30: =TEXT('Total breakdown'!C56,"0.00%")&" ("&'Total breakdown'!D56&")" -> 94.63% (4) | M30: =TEXT('Total breakdown'!E56,"0.00%")&" ("&'Total breakdown'!F56&")" -> 83.87% (5) | N30: =TEXT('Total breakdown'!G56,"0.00%")&" ("&'Total breakdown'!H56&")" -> 94.07% (3) | O30: =TEXT('Total breakdown'!I56,"0.00%")&" ("&'Total breakdown'!J56&")" -> 93.62% (2) | P30: =TEXT('Total breakdown'!K56,"0.00%")&" ("&'Total breakdown'!L56&")" -> 94.31% (3) | Q30: =TEXT('Total breakdown'!M56,"0.00%")&" ("&'Total breakdown'!N56&")" -> 93.85% (3) | S30: Bet365 | T30: 0.93826453 | V30: Unibet | W30: -0.0010411832
K31: Leovegas | L31: =TEXT('Total breakdown'!C57,"0.00%")&" ("&'Total breakdown'!D57&")" -> 93.40% (14) | M31: =TEXT('Total breakdown'!E57,"0.00%")&" ("&'Total breakdown'!F57&")" -> 82.81% (10) | N31: =TEXT('Total breakdown'!G57,"0.00%")&" ("&'Total breakdown'!H57&")" -> 92.28% (16) | O31: =TEXT('Total breakdown'!I57,"0.00%")&" ("&'Total breakdown'!J57&")" -> 91.32% (14) | P31: =TEXT('Total breakdown'!K57,"0.00%")&" ("&'Total breakdown'!L57&")" -> 93.00% (14) | Q31: =TEXT('Total breakdown'!M57,"0.00%")&" ("&'Total breakdown'!N57&")" -> 92.40% (15) | S31: Bingoal | T31: 0.93822886 | V31: Jacks | W31: -0.0014635016
K32: betMGM | L32: =TEXT('Total breakdown'!C58,"0.00%")&" ("&'Total breakdown'!D58&")" -> 94.50% (7) | M32: =TEXT('Total breakdown'!E58,"0.00%")&" ("&'Total breakdown'!F58&")" -> 84.08% (4) | N32: =TEXT('Total breakdown'!G58,"0.00%")&" ("&'Total breakdown'!H58&")" -> 94.07% (3) | O32: =TEXT('Total breakdown'!I58,"0.00%")&" ("&'Total breakdown'!J58&")" -> 93.62% (2) | P32: =TEXT('Total breakdown'!K58,"0.00%")&" ("&'Total breakdown'!L58&")" -> 94.31% (3) | Q32: =TEXT('Total breakdown'!M58,"0.00%")&" ("&'Total breakdown'!N58&")" -> 93.79% (6) | S32: betMGM | T32: 0.93785349 | V32: BetCity | W32: -0.0027336689
B33: Data points | K33: 711 | L33: =TEXT('Total breakdown'!C59,"0.00%")&" ("&'Total breakdown'!D59&")" -> 95.26% (1) | M33: =TEXT('Total breakdown'!E59,"0.00%")&" ("&'Total breakdown'!F59&")" -> 84.78% (2) | N33: =TEXT('Total breakdown'!G59,"0.00%")&" ("&'Total breakdown'!H59&")" -> 94.07% (3) | O33: =TEXT('Total breakdown'!I59,"0.00%")&" ("&'Total breakdown'!J59&")" -> 93.62% (2) | P33: =TEXT('Total breakdown'!K59,"0.00%")&" ("&'Total breakdown'!L59&")" -> 94.31% (3) | Q33: =TEXT('Total breakdown'!M59,"0.00%")&" ("&'Total breakdown'!N59&")" -> 94.24% (1) | S33: Jacks | T33: 0.9370365 | V33: LSbet | W33: -0.0032275241
K34: Bingoal | L34: =TEXT('Total breakdown'!C60,"0.00%")&" ("&'Total breakdown'!D60&")" -> 94.52% (6) | M34: =TEXT('Total breakdown'!E60,"0.00%")&" ("&'Total breakdown'!F60&")" -> 84.62% (3) | N34: =TEXT('Total breakdown'!G60,"0.00%")&" ("&'Total breakdown'!H60&")" -> 94.07% (3) | O34: =TEXT('Total breakdown'!I60,"0.00%")&" ("&'Total breakdown'!J60&")" -> 93.62% (2) | P34: =TEXT('Total breakdown'!K60,"0.00%")&" ("&'Total breakdown'!L60&")" -> 94.31% (3) | Q34: =TEXT('Total breakdown'!M60,"0.00%")&" ("&'Total breakdown'!N60&")" -> 93.82% (5) | S34: BetNation | T34: 0.93594546 | V34: TOTO | W34: -0.0038013009
B35: Total data points | C35: =(96*16)+(64*4)+(80*2)+(64*2)+(64+16) -> 2160 | K35: LSbet | L35: =TEXT('Total breakdown'!C61,"0.00%")&" ("&'Total breakdown'!D61&")" -> 92.87% (15) | M35: =TEXT('Total breakdown'!E61,"0.00%")&" ("&'Total breakdown'!F61&")" -> 82.38% (13) | N35: =TEXT('Total breakdown'!G61,"0.00%")&" ("&'Total breakdown'!H61&")" -> 93.47% (14) | O35: =TEXT('Total breakdown'!I61,"0.00%")&" ("&'Total breakdown'!J61&")" -> 92.63% (10) | P35: =TEXT('Total breakdown'!K61,"0.00%")&" ("&'Total breakdown'!L61&")" -> 93.83% (9) | Q35: =TEXT('Total breakdown'!M61,"0.00%")&" ("&'Total breakdown'!N61&")" -> 92.54% (14) | S35: ComeOn | T35: 0.93312909 | V35: Zebet | W35: -0.0070936011
K36: TOTO | L36: =TEXT('Total breakdown'!C62,"0.00%")&" ("&'Total breakdown'!D62&")" -> 94.89% (2) | M36: =TEXT('Total breakdown'!E62,"0.00%")&" ("&'Total breakdown'!F62&")" -> 83.60% (7) | N36: =TEXT('Total breakdown'!G62,"0.00%")&" ("&'Total breakdown'!H62&")" -> 93.97% (9) | O36: =TEXT('Total breakdown'!I62,"0.00%")&" ("&'Total breakdown'!J62&")" -> 92.00% (13) | P36: =TEXT('Total breakdown'!K62,"0.00%")&" ("&'Total breakdown'!L62&")" -> 95.05% (1) | Q36: =TEXT('Total breakdown'!M62,"0.00%")&" ("&'Total breakdown'!N62&")" -> 93.87% (2) | S36: Vbet | T36: 0.93148244 | V36: Circus | W36: -0.0071008641
