Workbook

Sheet Total breakdown
C2: Bet365 | D2: Jacks | E2: BetCity | F2: Unibet | G2: Leovegas | H2: betMGM | I2: 711 | J2: Bingoal | K2: LSbet | L2: TOTO | M2: HC | N2: Zebet | O2: Circus | P2: Vbet | Q2: ComeOn | R2: BetNation
B3: Football pre-match | C3: =SUMPRODUCT('Per competition'!C$4:C$11,Weights!$F$5:$F$12) -> 0.95311925 | D3: =SUMPRODUCT('Per competition'!D$4:D$11,Weights!$F$5:$F$12) -> 0.94856175 | E3: =SUMPRODUCT('Per competition'!E$4:E$11,Weights!$F$5:$F$12) -> 0.95167575 | F3: =SUMPRODUCT('Per competition'!F$4:F$11,Weights!$F$5:$F$12) -> 0.9537525 | G3: =SUMPRODUCT('Per competition'!G$4:G$11,Weights!$F$5:$F$12) -> 0.94693725 | H3: =SUMPRODUCT('Per competition'!H$4:H$11,Weights!$F$5:$F$12) -> 0.951156 | I3: =SUMPRODUCT('Per competition'!I$4:I$11,Weights!$F$5:$F$12) -> 0.96641275 | J3: =SUMPRODUCT('Per competition'!J$4:J$11,Weights!$F$5:$F$12) -> 0.951435 | ... R3: =SUMPRODUCT('Per competition'!R$4:R$11,Weights!$F$5:$F$12) -> 0.94716975
B4: Football live | C4: =SUMPRODUCT('Per competition'!C$13:C$20,Weights!$F$5:$F$12) -> 0.93749275 | D4: =SUMPRODUCT('Per competition'!D$13:D$20,Weights!$F$5:$F$12) -> 0.93889775 | E4: =SUMPRODUCT('Per competition'!E$13:E$20,Weights!$F$5:$F$12) -> 0.92715425 | F4: =SUMPRODUCT('Per competition'!F$13:F$20,Weights!$F$5:$F$12) -> 0.9388365 | G4: =SUMPRODUCT('Per competition'!G$13:G$20,Weights!$F$5:$F$12) -> 0.921101 | H4: =SUMPRODUCT('Per competition'!H$13:H$20,Weights!$F$5:$F$12) -> 0.9388365 | I4: =SUMPRODUCT('Per competition'!I$13:I$20,Weights!$F$5:$F$12) -> 0.9388365 | J4: =SUMPRODUCT('Per competition'!J$13:J$20,Weights!$F$5:$F$12) -> 0.93894775 | ... R4: =SUMPRODUCT('Per competition'!R$13:R$20,Weights!$F$5:$F$12) -> 0.94630975
B5: Total football | C5: =SUMPRODUCT(C3:C4,Weights!$I$5:$I$6) -> 0.945306 | D5: =SUMPRODUCT(D3:D4,Weights!$I$5:$I$6) -> 0.94372975 | E5: =SUMPRODUCT(E3:E4,Weights!$I$5:$I$6) -> 0.939415 | F5: =SUMPRODUCT(F3:F4,Weights!$I$5:$I$6) -> 0.9462945 | G5: =SUMPRODUCT(G3:G4,Weights!$I$5:$I$6) -> 0.93401913 | H5: =SUMPRODUCT(H3:H4,Weights!$I$5:$I$6) -> 0.94499625 | I5: =SUMPRODUCT(I3:I4,Weights!$I$5:$I$6) -> 0.95262463 | J5: =SUMPRODUCT(J3:J4,Weights!$I$5:$I$6) -> 0.94519138 | ... R5: =SUMPRODUCT(R3:R4,Weights!$I$5:$I$6) -> 0.94673975
B6: F1 pre-match | C6: =SUMPRODUCT('Data - F1'!C$4:C$7,Weights!D19:D22) -> 0.89767522 | D6: =SUMPRODUCT('Data - F1'!D$4:D$7,Weights!$C$19:$C$22) -> 0.8682266 | E6: =SUMPRODUCT('Data - F1'!E$4:E$7,Weights!$C$19:$C$22) -> 0.8682266 | F6: =SUMPRODUCT('Data - F1'!F$4:F$7,Weights!$C$19:$C$22) -> 0.8682266 | G6: =SUMPRODUCT('Data - F1'!G$4:G$7,Weights!$C$19:$C$22) -> 0.8682266 | H6: =SUMPRODUCT('Data - F1'!H$4:H$7,Weights!$C$19:$C$22) -> 0.8682266 | I6: =SUMPRODUCT('Data - F1'!I$4:I$7,Weights!$C$19:$C$22) -> 0.8682266 | J6: =SUMPRODUCT('Data - F1'!J$4:J$7,Weights!$C$19:$C$22) -> 0.8682266 | K6: =SUMPRODUCT('Data - F1'!K$4:K$7,Weights!$C$19:$C$22) -> 0.8682266 | L6: =SUMPRODUCT('Data - F1'!L$4:L$7,Weights!$C$19:$C$22) -> 0.83703479 | M6: =SUMPRODUCT('Data - F1'!M$4:M$7,Weights!E19:E22) -> 0.81459994 | N6: =SUMPRODUCT('Data - F1'!N$4:N$7,Weights!E19:E22) -> 0.84356057 | O6: =SUMPRODUCT('Data - F1'!O$4:O$7,Weights!$C$19:$C$22) -> 0.83233526 | P6: =SUMPRODUCT('Data - F1'!P$4:P$7,Weights!F19:F22) -> 0.73946915 | Q6: =SUMPRODUCT('Data - F1'!Q$4:Q$7,Weights!$C$19:$C$22) -> 0.82501314 | R6: =SUMPRODUCT('Data - F1'!R$4:R$7,Weights!$C$19:$C$22) -> 0.82501314
B7: F1 Live | C7: ='Data - F1'!C9 -> 0.8326505 | D7: ='Data - F1'!D9 -> 0.71923921 | E7: ='Data - F1'!E9 -> 0.66778922 | F7: ='Data - F1'!F9 -> 0.72040979 | G7: ='Data - F1'!G9 -> 0.66735437 | H7: ='Data - F1'!H9 -> 0.73128072 | I7: ='Data - F1'!I9 -> 0.7659391 | J7: ='Data - F1'!J9 -> 0.75808558 | ... R7: ='Data - F1'!R9 -> 0.82844045
B8: Total F1 | C8: =SUMPRODUCT(C6:C7,Weights!$I$19:$I$20) -> 0.88467027 | D8: =SUMPRODUCT(D6:D7,Weights!$I$19:$I$20) -> 0.83842912 | E8: =SUMPRODUCT(E6:E7,Weights!$I$19:$I$20) -> 0.82813912 | F8: =SUMPRODUCT(F6:F7,Weights!$I$19:$I$20) -> 0.83866324 | G8: =SUMPRODUCT(G6:G7,Weights!$I$19:$I$20) -> 0.82805215 | H8: =SUMPRODUCT(H6:H7,Weights!$I$19:$I$20) -> 0.84083742 | I8: =SUMPRODUCT(I6:I7,Weights!$I$19:$I$20) -> 0.8477691 | J8: =SUMPRODUCT(J6:J7,Weights!$I$19:$I$20) -> 0.84619839 | ... R8: =SUMPRODUCT(R6:R7,Weights!$I$19:$I$20) -> 0.8256986
B9: Tennis pre-match | C9: =SUMPRODUCT('Per competition'!C$22:C$23,Weights!$I$44:$I$45) -> 0.9355775 | D9: =SUMPRODUCT('Per competition'!D$22:D$23,Weights!$I$44:$I$45) -> 0.94537 | E9: =SUMPRODUCT('Per competition'!E$22:E$23,Weights!$I$44:$I$45) -> 0.94537 | F9: =SUMPRODUCT('Per competition'!F$22:F$23,Weights!$I$44:$I$45) -> 0.94537 | G9: =SUMPRODUCT('Per competition'!G$22:G$23,Weights!$I$44:$I$45) -> 0.94537 | H9: =SUMPRODUCT('Per competition'!H$22:H$23,Weights!$I$44:$I$45) -> 0.94537 | I9: =SUMPRODUCT('Per competition'!I$22:I$23,Weights!$I$44:$I$45) -> 0.94537 | J9: =SUMPRODUCT('Per competition'!J$22:J$23,Weights!$I$44:$I$45) -> 0.94537 | ... R9: =SUMPRODUCT('Per competition'!R$22:R$23,Weights!$I$44:$I$45) -> 0.945795
B10: Tennis Live | C10: =SUMPRODUCT('Per competition'!C$24:C$25,Weights!$I$44:$I$45) -> 0.935049 | D10: =SUMPRODUCT('Per competition'!D$24:D$25,Weights!$I$44:$I$45) -> 0.939503 | E10: =SUMPRODUCT('Per competition'!E$24:E$25,Weights!$I$44:$I$45) -> 0.9326975 | F10: =SUMPRODUCT('Per competition'!F$24:F$25,Weights!$I$44:$I$45) -> 0.939503 | G10: =SUMPRODUCT('Per competition'!G$24:G$25,Weights!$I$44:$I$45) -> 0.917219 | H10: =SUMPRODUCT('Per competition'!H$24:H$25,Weights!$I$44:$I$45) -> 0.939503 | I10: =SUMPRODUCT('Per competition'!I$24:I$25,Weights!$I$44:$I$45) -> 0.939503 | J10: =SUMPRODUCT('Per competition'!J$24:J$25,Weights!$I$44:$I$45) -> 0.939503 | ... M10: =SUMPRODUCT('Per competition'!M$24:M$25,Weights!$I$44:$I$45) -> 0.9369715 | N10: =SUMPRODUCT('Per competition'!N$24:N$25,Weights!J44:J45) -> 0.94587 | O10: =SUMPRODUCT('Per competition'!O$24:O$25,Weights!$I$44:$I$45) -> 0.9294495 | P10: =SUMPRODUCT('Per competition'!P$24:P$25,Weights!$I$44:$I$45) -> 0.937962 | Q10: =SUMPRODUCT('Per competition'!Q$24:Q$25,Weights!$I$44:$I$45) -> 0.939088 | R10: =SUMPRODUCT('Per competition'!R$24:R$25,Weights!$I$44:$I$45) -> 0.939452
B11: Total Tennis | C11: =SUMPRODUCT(C9:C10,Weights!$I$40:$I$41) -> 0.9351547 | D11: =SUMPRODUCT(D9:D10,Weights!$I$40:$I$41) -> 0.9406764 | E11: =SUMPRODUCT(E9:E10,Weights!$I$40:$I$41) -> 0.935232 | F11: =SUMPRODUCT(F9:F10,Weights!$I$40:$I$41) -> 0.9406764 | G11: =SUMPRODUCT(G9:G10,Weights!$I$40:$I$41) -> 0.9228492 | H11: =SUMPRODUCT(H9:H10,Weights!$I$40:$I$41) -> 0.9406764 | I11: =SUMPRODUCT(I9:I10,Weights!$I$40:$I$41) -> 0.9406764 | J11: =SUMPRODUCT(J9:J10,Weights!$I$40:$I$41) -> 0.9406764 | ... R11: =SUMPRODUCT(R9:R10,Weights!$I$40:$I$41) -> 0.9407206
B12: Basket pre-match | C12: =SUMPRODUCT('Data - Basketball'!C$4:C$8,Weights!D29:D33) -> 0.95035 | D12: =SUMPRODUCT('Data - Basketball'!D$4:D$8,Weights!$C$29:$C$33) -> 0.9461 | E12: =SUMPRODUCT('Data - Basketball'!E$4:E$8,Weights!$C$29:$C$33) -> 0.9461 | F12: =SUMPRODUCT('Data - Basketball'!F$4:F$8,Weights!$C$29:$C$33) -> 0.9461 | G12: =SUMPRODUCT('Data - Basketball'!G$4:G$8,Weights!$C$29:$C$33) -> 0.9461 | H12: =SUMPRODUCT('Data - Basketball'!H$4:H$8,Weights!$C$29:$C$33) -> 0.9461 | I12: =SUMPRODUCT('Data - Basketball'!I$4:I$8,Weights!$C$29:$C$33) -> 0.9461 | J12: =SUMPRODUCT('Data - Basketball'!J$4:J$8,Weights!$C$29:$C$33) -> 0.9461 | K12: =SUMPRODUCT('Data - Basketball'!K$4:K$8,Weights!$C$29:$C$33) -> 0.9461 | ... O12: =SUMPRODUCT('Data - Basketball'!O$4:O$8,Weights!$C$29:$C$33) -> 0.918275 | P12: =SUMPRODUCT('Data - Basketball'!P$4:P$8,Weights!D29:D33) -> 0.9346 | Q12: =SUMPRODUCT('Data - Basketball'!Q$4:Q$8,Weights!$C$29:$C$33) -> 0.933465 | R12: =SUMPRODUCT('Data - Basketball'!R$4:R$8,Weights!$C$29:$C$33) -> 0.937305
B13: Basket Live | C13: =SUMPRODUCT('Data - Basketball'!C10:C14,Weights!$C$29:$C$33) -> 0.936075 | D13: =SUMPRODUCT('Data - Basketball'!D10:D14,Weights!$C$29:$C$33) -> 0.93292 | E13: =SUMPRODUCT('Data - Basketball'!E10:E14,Weights!$C$29:$C$33) -> 0.919675 | F13: =SUMPRODUCT('Data - Basketball'!F10:F14,Weights!$C$29:$C$33) -> 0.93292 | G13: =SUMPRODUCT('Data - Basketball'!G10:G14,Weights!$C$29:$C$33) -> 0.902205 | H13: =SUMPRODUCT('Data - Basketball'!H10:H14,Weights!$C$29:$C$33) -> 0.93292 | I13: =SUMPRODUCT('Data - Basketball'!I10:I14,Weights!$C$29:$C$33) -> 0.93292 | J13: =SUMPRODUCT('Data - Basketball'!J10:J14,Weights!$C$29:$C$33) -> 0.93292 | K13: =SUMPRODUCT('Data - Basketball'!K10:K14,Weights!$C$29:$C$33) -> 0.919675 | L13: =SUMPRODUCT('Data - Basketball'!L10:L14,Weights!E29:E33) -> 0.91407895 | M13: =SUMPRODUCT('Data - Basketball'!M10:M14,Weights!$C$29:$C$33) -> 0.92507 | N13: =SUMPRODUCT('Data - Basketball'!N10:N14,Weights!$C$29:$C$33) -> 0.894815 | O13: =SUMPRODUCT('Data - Basketball'!O10:O14,Weights!F29:F33) -> 0.8826625 | P13: =SUMPRODUCT('Data - Basketball'!P10:P14,Weights!$C$29:$C$33) -> 0.92051 | Q13: =SUMPRODUCT('Data - Basketball'!Q10:Q14,Weights!$C$29:$C$33) -> 0.930455 | R13: =SUMPRODUCT('Data - Basketball'!R10:R14,Weights!$C$29:$C$33) -> 0.930455
B14: Total Basket | C14: =SUMPRODUCT(C12:C13,Weights!$I$29:$I$30) -> 0.93964375 | D14: =SUMPRODUCT(D12:D13,Weights!$I$29:$I$30) -> 0.936215 | E14: =SUMPRODUCT(E12:E13,Weights!$I$29:$I$30) -> 0.92628125 | F14: =SUMPRODUCT(F12:F13,Weights!$I$29:$I$30) -> 0.936215 | G14: =SUMPRODUCT(G12:G13,Weights!$I$29:$I$30) -> 0.91317875 | H14: =SUMPRODUCT(H12:H13,Weights!$I$29:$I$30) -> 0.936215 | I14: =SUMPRODUCT(I12:I13,Weights!$I$29:$I$30) -> 0.936215 | J14: =SUMPRODUCT(J12:J13,Weights!$I$29:$I$30) -> 0.936215 | ... R14: =SUMPRODUCT(R12:R13,Weights!$I$29:$I$30) -> 0.9321675
B15: Darts pre-match | C15: =SUMPRODUCT('Data - Darts'!C4:C7,Weights!$C$52:$C$55) -> 0.93796 | D15: =SUMPRODUCT('Data - Darts'!D4:D7,Weights!$C$52:$C$55) -> 0.94276 | E15: =SUMPRODUCT('Data - Darts'!E4:E7,Weights!$C$52:$C$55) -> 0.929565 | F15: =SUMPRODUCT('Data - Darts'!F4:F7,Weights!$C$52:$C$55) -> 0.94276 | G15: =SUMPRODUCT('Data - Darts'!G4:G7,Weights!$C$52:$C$55) -> 0.94276 | H15: =SUMPRODUCT('Data - Darts'!H4:H7,Weights!$C$52:$C$55) -> 0.94276 | I15: =SUMPRODUCT('Data - Darts'!I4:I7,Weights!$C$52:$C$55) -> 0.94276 | J15: =SUMPRODUCT('Data - Darts'!J4:J7,Weights!$C$52:$C$55) -> 0.94276 | K15: =SUMPRODUCT('Data - Darts'!K4:K7,Weights!$C$52:$C$55) -> 0.94276 | L15: =SUMPRODUCT('Data - Darts'!L4:L7,Weights!D52:D55) -> 0.9514125 | M15: =SUMPRODUCT('Data - Darts'!M4:M7,Weights!$C$52:$C$55) -> 0.930555 | N15: =SUMPRODUCT('Data - Darts'!N4:N7,Weights!D52:D55) -> 0.93500625 | O15: =SUMPRODUCT('Data - Darts'!O4:O7,Weights!E52:E55) -> 0.93567778 | P15: =SUMPRODUCT('Data - Darts'!P4:P7,Weights!$C$52:$C$55) -> 0.947115 | Q15: =SUMPRODUCT('Data - Darts'!Q4:Q7,Weights!$C$52:$C$55) -> 0.92989 | R15: =SUMPRODUCT('Data - Darts'!R4:R7,Weights!$C$52:$C$55) -> 0.93119
B16: Darts Live | C16: =SUMPRODUCT('Data - Darts'!C9:C12,Weights!$C$52:$C$55) -> 0.92665 | D16: =SUMPRODUCT('Data - Darts'!D9:D12,Weights!$C$52:$C$55) -> 0.943275 | E16: =SUMPRODUCT('Data - Darts'!E9:E12,Weights!$C$52:$C$55) -> 0.9354 | F16: =SUMPRODUCT('Data - Darts'!F9:F12,Weights!$C$52:$C$55) -> 0.943275 | G16: =SUMPRODUCT('Data - Darts'!G9:G12,Weights!$C$52:$C$55) -> 0.92154 | H16: =SUMPRODUCT('Data - Darts'!H9:H12,Weights!$C$52:$C$55) -> 0.943275 | I16: =SUMPRODUCT('Data - Darts'!I9:I12,Weights!$C$52:$C$55) -> 0.943275 | J16: =SUMPRODUCT('Data - Darts'!J9:J12,Weights!$C$52:$C$55) -> 0.943275 | ... R16: =SUMPRODUCT('Data - Darts'!R9:R12,Weights!$C$52:$C$55) -> 0.92242
B17: Total Darts | C17: =SUMPRODUCT(C15:C16,Weights!$I$52:$I$53) -> 0.931174 | D17: =SUMPRODUCT(D15:D16,Weights!$I$52:$I$53) -> 0.943069 | E17: =SUMPRODUCT(E15:E16,Weights!$I$52:$I$53) -> 0.933066 | F17: =SUMPRODUCT(F15:F16,Weights!$I$52:$I$53) -> 0.943069 | G17: =SUMPRODUCT(G15:G16,Weights!$I$52:$I$53) -> 0.930028 | H17: =SUMPRODUCT(H15:H16,Weights!$I$52:$I$53) -> 0.943069 | I17: =SUMPRODUCT(I15:I16,Weights!$I$52:$I$53) -> 0.943069 | J17: =SUMPRODUCT(J15:J16,Weights!$I$52:$I$53) -> 0.943069 | ... L17: =SUMPRODUCT(L15:L16,Weights!$I$52:$I$53) -> 0.893538 | M17: =SUMPRODUCT(M15:M16,Weights!J52:J53) -> 0.930555 | N17: =SUMPRODUCT(N15:N16,Weights!J52:J53) -> 0.93500625 | O17: =SUMPRODUCT(O15:O16,Weights!$I$52:$I$53) -> 0.93999011 | P17: =SUMPRODUCT(P15:P16,Weights!J52:J53) -> 0.947115 | Q17: =SUMPRODUCT(Q15:Q16,Weights!$I$52:$I$53) -> 0.925408 | R17: =SUMPRODUCT(R15:R16,Weights!$I$52:$I$53) -> 0.925928
B19: Voetbal | C19: =C5 -> 0.945306 | D19: =D5 -> 0.94372975 | E19: =E5 -> 0.939415 | F19: =F5 -> 0.9462945 | G19: =G5 -> 0.93401913 | H19: =H5 -> 0.94499625 | I19: =I5 -> 0.95262463 | J19: =J5 -> 0.94519138 | ... R19: =R5 -> 0.94673975
B20: Formule 1 | C20: =C8 -> 0.88467027 | D20: =D8 -> 0.83842912 | E20: =E8 -> 0.82813912 | F20: =F8 -> 0.83866324 | G20: =G8 -> 0.82805215 | H20: =H8 -> 0.84083742 | I20: =I8 -> 0.8477691 | J20: =J8 -> 0.84619839 | ... R20: =R8 -> 0.8256986
B21: Tennis | C21: =C11 -> 0.9351547 | D21: =D11 -> 0.9406764 | E21: =E11 -> 0.935232 | F21: =F11 -> 0.9406764 | G21: =G11 -> 0.9228492 | H21: =H11 -> 0.9406764 | I21: =I11 -> 0.9406764 | J21: =J11 -> 0.9406764 | ... R21: =R11 -> 0.9407206
B22: Basketbal | C22: =C14 -> 0.93964375 | D22: =D14 -> 0.936215 | E22: =E14 -> 0.92628125 | F22: =F14 -> 0.936215 | G22: =G14 -> 0.91317875 | H22: =H14 -> 0.936215 | I22: =I14 -> 0.936215 | J22: =J14 -> 0.936215 | ... R22: =R14 -> 0.9321675
B23: Darts | C23: =C17 -> 0.931174 | D23: =D17 -> 0.943069 | E23: =E17 -> 0.933066 | F23: =F17 -> 0.943069 | G23: =G17 -> 0.930028 | H23: =H17 -> 0.943069 | I23: =I17 -> 0.943069 | J23: =J17 -> 0.943069 | ... R23: =R17 -> 0.925928
B25: Total Payback | C25: =SUMPRODUCT(C19:C23,Weights!$C$62:$C$66) -> 0.93826453 | D25: =SUMPRODUCT(D19:D23,Weights!$C$62:$C$66) -> 0.9370365 | E25: =SUMPRODUCT(E19:E23,Weights!$C$62:$C$66) -> 0.93106633 | F25: =SUMPRODUCT(F19:F23,Weights!$C$62:$C$66) -> 0.93845882 | G25: =SUMPRODUCT(G19:G23,Weights!$C$62:$C$66) -> 0.92400364 | H25: =SUMPRODUCT(H19:H23,Weights!$C$62:$C$66) -> 0.93785349 | I25: =SUMPRODUCT(I19:I23,Weights!$C$62:$C$66) -> 0.94239568 | J25: =SUMPRODUCT(J19:J23,Weights!$C$62:$C$66) -> 0.93822886 | ... R25: =SUMPRODUCT(R19:R23,Weights!$C$62:$C$66) -> 0.93594546
B26: Rank | C26: =RANK(C25,$C$25:$R$25) -> 3 | D26: =RANK(D25,$C$25:$R$25) -> 6 | E26: =RANK(E25,$C$25:$R$25) -> 11 | F26: =RANK(F25,$C$25:$R$25) -> 2 | G26: =RANK(G25,$C$25:$R$25) -> 15 | H26: =RANK(H25,$C$25:$R$25) -> 5 | I26: =RANK(I25,$C$25:$R$25) -> 1 | J26: =RANK(J25,$C$25:$R$25) -> 4 | ... R26: =RANK(R25,$C$25:$R$25) -> 7
B29: Bookmaker | C29: RTP | D29: RTP t-1 | E29: Verschil
B30: 711 | C30: 0.94239568 | E30: =C30-D30 -> 0.94239568
B31: TOTO | C31: 0.9386987 | D31: 0.9425 | E31: =C31-D31 -> -0.0038013009
B32: Unibet | C32: 0.93845882 | D32: 0.9395 | E32: =C32-D32 -> -0.0010411832
B33: Bet365 | C33: 0.93826453 | D33: 0.9373 | E33: =C33-D33 -> 0.00096452864
B34: Bingoal | C34: 0.93822886 | D34: 0.9367 | E34: =C34-D34 -> 0.0015288559
B35: betMGM | C35: 0.93785349 | E35: =C35-D35 -> 0.93785349
B36: Jacks | C36: 0.9370365 | D36: 0.9385 | E36: =C36-D36 -> -0.0014635016
B37: BetNation | C37: 0.93594546 | E37: =C37-D37 -> 0.93594546
B38: ComeOn | C38: 0.93312909 | E38: =C38-D38 -> 0.93312909
B39: Vbet | C39: 0.93148244 | D39: 0.9413 | E39: =C39-D39 -> -0.0098175563
B40: BetCity | C40: 0.93106633 | D40: 0.9338 | E40: =C40-D40 -> -0.0027336689
B41: HC | C41: 0.92934746 | D41: 0.9283 | E41: =C41-D41 -> 0.001047464
B42: Circus | C42: 0.92889914 | D42: 0.936 | E42: =C42-D42 -> -0.0071008641
B43: LSbet | C43: 0.92537248 | D43: 0.9286 | E43: =C43-D43 -> -0.0032275241
B44: Leovegas | C44: 0.92400364 | E44: =C44-D44 -> 0.92400364
B45: Zebet | C45: 0.9202064 | D45: 0.9273 | E45: =C45-D45 -> -0.0070936011
B52: Bookmaker | C52: Voetbal | D52: Rank | E52: Formule 1 | F52: Rank | G52: Tennis | H52: Rank | I52: Basketbal | J52: Rank | K52: Darts | L52: Rank | M52: Totaal | N52: Rank
B53: Bet365 | C53: {=TRANSPOSE(Analysis!L7:AA7)} -> 0.945306 | D53: =RANK(C53,$C$53:$C$68) -> 5 | E53: {=TRANSPOSE(Analysis!L10:AA10)} -> 0.88467027 | F53: =RANK(E53,$E$53:$E$68) -> 1 | G53: {=TRANSPOSE(Analysis!L13:AA13)} -> 0.9351547 | H53: =RANK(G53,$G$53:$G$68) -> 13 | I53: {=TRANSPOSE(Analysis!L16:AA16)} -> 0.93964375 | J53: =RANK(I53,$I$53:$I$68) -> 1 | K53: {=TRANSPOSE(Analysis!L19:AA19)} -> 0.931174 | L53: =RANK(K53,$K$53:$K$68) -> 12 | M53: {=TRANSPOSE(Analysis!L21:AA21)} -> 0.93826453 | N53: =RANK(M53,$M$53:$M$68) -> 4 | O53: =TEXT(M53,"0.00%")&" ("&N53&")" -> 93.83% (4)
B54: Jacks | C54: 0.94372975 | D54: =RANK(C54,$C$53:$C$68) -> 9 | E54: 0.83842912 | F54: =RANK(E54,$E$53:$E$68) -> 6 | G54: 0.9406764 | H54: =RANK(G54,$G$53:$G$68) -> 3 | I54: 0.936215 | J54: =RANK(I54,$I$53:$I$68) -> 2 | K54: 0.943069 | L54: =RANK(K54,$K$53:$K$68) -> 3 | M54: 0.9370365 | N54: =RANK(M54,$M$53:$M$68) -> 7 | O54: =TEXT(M54,"0.00%")&" ("&N54&")" -> 93.70% (7)
B55: BetCity | C55: 0.939415 | D55: =RANK(C55,$C$53:$C$68) -> 12 | E55: 0.82813912 | F55: =RANK(E55,$E$53:$E$68) -> 9 | G55: 0.935232 | H55: =RANK(G55,$G$53:$G$68) -> 12 | I55: 0.92628125 | J55: =RANK(I55,$I$53:$I$68) -> 10 | K55: 0.933066 | L55: =RANK(K55,$K$53:$K$68) -> 11 | M55: 0.93106633 | N55: =RANK(M55,$M$53:$M$68) -> 11 | O55: =TEXT(M55,"0.00%")&" ("&N55&")" -> 93.11% (11)
B56: Unibet | C56: 0.9462945 | D56: =RANK(C56,$C$53:$C$68) -> 4 | E56: 0.83866324 | F56: =RANK(E56,$E$53:$E$68) -> 5 | G56: 0.9406764 | H56: =RANK(G56,$G$53:$G$68) -> 3 | I56: 0.936215 | J56: =RANK(I56,$I$53:$I$68) -> 2 | K56: 0.943069 | L56: =RANK(K56,$K$53:$K$68) -> 3 | M56: 0.93845882 | N56: =RANK(M56,$M$53:$M$68) -> 3 | O56: =TEXT(M56,"0.00%")&" ("&N56&")" -> 93.85% (3)
B57: Leovegas | C57: 0.93401913 | D57: =RANK(C57,$C$53:$C$68) -> 14 | E57: 0.82805215 | F57: =RANK(E57,$E$53:$E$68) -> 10 | G57: 0.9228492 | H57: =RANK(G57,$G$53:$G$68) -> 16 | I57: 0.91317875 | J57: =RANK(I57,$I$53:$I$68) -> 14 | K57: 0.930028 | L57: =RANK(K57,$K$53:$K$68) -> 14 | M57: 0.92400364 | N57: =RANK(M57,$M$53:$M$68) -> 15 | O57: =TEXT(M57,"0.00%")&" ("&N57&")" -> 92.40% (15)
B58: betMGM | C58: 0.94499625 | D58: =RANK(C58,$C$53:$C$68) -> 7 | E58: 0.84083742 | F58: =RANK(E58,$E$53:$E$68) -> 4 | G58: 0.9406764 | H58: =RANK(G58,$G$53:$G$68) -> 3 | I58: 0.936215 | J58: =RANK(I58,$I$53:$I$68) -> 2 | K58: 0.943069 | L58: =RANK(K58,$K$53:$K$68) -> 3 | M58: 0.93785349 | N58: =RANK(M58,$M$53:$M$68) -> 6 | O58: =TEXT(M58,"0.00%")&" ("&N58&")" -> 93.79% (6)
B59: 711 | C59: 0.95262463 | D59: =RANK(C59,$C$53:$C$68) -> 1 | E59: 0.8477691 | F59: =RANK(E59,$E$53:$E$68) -> 2 | G59: 0.9406764 | H59: =RANK(G59,$G$53:$G$68) -> 3 | I59: 0.936215 | J59: =RANK(I59,$I$53:$I$68) -> 2 | K59: 0.943069 | L59: =RANK(K59,$K$53:$K$68) -> 3 | M59: 0.94239568 | N59: =RANK(M59,$M$53:$M$68) -> 1 | O59: =TEXT(M59,"0.00%")&" ("&N59&")" -> 94.24% (1)
B60: Bingoal | C60: 0.94519138 | D60: =RANK(C60,$C$53:$C$68) -> 6 | E60: 0.84619839 | F60: =RANK(E60,$E$53:$E$68) -> 3 | G60: 0.9406764 | H60: =RANK(G60,$G$53:$G$68) -> 3 | I60: 0.936215 | J60: =RANK(I60,$I$53:$I$68) -> 2 | K60: 0.943069 | L60: =RANK(K60,$K$53:$K$68) -> 3 | M60: 0.93822886 | N60: =RANK(M60,$M$53:$M$68) -> 5 | O60: =TEXT(M60,"0.00%")&" ("&N60&")" -> 93.82% (5)
B61: LSbet | C61: 0.92869275 | D61: =RANK(C61,$C$53:$C$68) -> 15 | E61: 0.82375077 | F61: =RANK(E61,$E$53:$E$68) -> 13 | G61: 0.934707 | H61: =RANK(G61,$G$53:$G$68) -> 14 | I61: 0.92628125 | J61: =RANK(I61,$I$53:$I$68) -> 10 | K61: 0.938344 | L61: =RANK(K61,$K$53:$K$68) -> 9 | M61: 0.92537248 | N61: =RANK(M61,$M$53:$M$68) -> 14 | O61: =TEXT(M61,"0.00%")&" ("&N61&")" -> 92.54% (14)
B62: TOTO | C62: 0.94892388 | D62: =RANK(C62,$C$53:$C$68) -> 2 | E62: 0.83597032 | F62: =RANK(E62,$E$53:$E$68) -> 7 | G62: 0.93966815 | H62: =RANK(G62,$G$53:$G$68) -> 9 | I62: 0.92004921 | J62: =RANK(I62,$I$53:$I$68) -> 13 | K62: 0.950535 | L62: =RANK(K62,$K$53:$K$68) -> 1 | M62: 0.9386987 | N62: =RANK(M62,$M$53:$M$68) -> 2 | O62: =TEXT(M62,"0.00%")&" ("&N62&")" -> 93.87% (2)
B63: HC | C63: 0.935835 | D63: =RANK(C63,$C$53:$C$68) -> 13 | E63: 0.81584168 | F63: =RANK(E63,$E$53:$E$68) -> 14 | G63: 0.9379919 | H63: =RANK(G63,$G$53:$G$68) -> 10 | I63: 0.9319225 | J63: =RANK(I63,$I$53:$I$68) -> 8 | K63: 0.930555 | L63: =RANK(K63,$K$53:$K$68) -> 13 | M63: 0.92934746 | N63: =RANK(M63,$M$53:$M$68) -> 12 | O63: =TEXT(M63,"0.00%")&" ("&N63&")" -> 92.93% (12)
B64: Zebet | C64: 0.92501062 | D64: =RANK(C64,$C$53:$C$68) -> 16 | E64: 0.8070131 | F64: =RANK(E64,$E$53:$E$68) -> 15 | G64: 0.9428945 | H64: =RANK(G64,$G$53:$G$68) -> 1 | I64: 0.89020375 | J64: =RANK(I64,$I$53:$I$68) -> 16 | K64: 0.93500625 | L64: =RANK(K64,$K$53:$K$68) -> 10 | M64: 0.9202064 | N64: =RANK(M64,$M$53:$M$68) -> 16 | O64: =TEXT(M64,"0.00%")&" ("&N64&")" -> 92.02% (16)
B65: Circus | C65: 0.94196862 | D65: =RANK(C65,$C$53:$C$68) -> 11 | E65: 0.83247917 | F65: =RANK(E65,$E$53:$E$68) -> 8 | G65: 0.9301843 | H65: =RANK(G65,$G$53:$G$68) -> 15 | I65: 0.89156563 | J65: =RANK(I65,$I$53:$I$68) -> 15 | K65: 0.93999011 | L65: =RANK(K65,$K$53:$K$68) -> 8 | M65: 0.92889914 | N65: =RANK(M65,$M$53:$M$68) -> 13 | O65: =TEXT(M65,"0.00%")&" ("&N65&")" -> 92.89% (13)
... B68: BetNation | C68: 0.94673975 | D68: =RANK(C68,$C$53:$C$68) -> 3 | E68: 0.8256986 | F68: =RANK(E68,$E$53:$E$68) -> 12 | G68: 0.9407206 | H68: =RANK(G68,$G$53:$G$68) -> 2 | I68: 0.9321675 | J68: =RANK(I68,$I$53:$I$68) -> 7 | K68: 0.925928 | L68: =RANK(K68,$K$53:$K$68) -> 15 | M68: 0.93594546 | N68: =RANK(M68,$M$53:$M$68) -> 8 | O68: =TEXT(M68,"0.00%")&" ("&N68&")" -> 93.59% (8)

Sheet Per competition
B2: Competitie | C2: Bet365 | D2: Jacks | E2: BetCity | F2: Unibet | G2: Leovegas | H2: betMGM | I2: 711 | J2: Bingoal | K2: LSbet | L2: TOTO | M2: HC | N2: Zebet | O2: Circus | P2: Vbet | Q2: ComeOn | R2: BetNation
B3: Football - prematch
B4: Eredivisie | C4: =SUMPRODUCT('Data - Football pre-match'!C$3:C$8,Weights!$C$5:$C$10) -> 0.956025 | D4: =SUMPRODUCT('Data - Football pre-match'!D$3:D$8,Weights!$C$5:$C$10) -> 0.95214 | E4: =SUMPRODUCT('Data - Football pre-match'!E$3:E$8,Weights!$C$5:$C$10) -> 0.95214 | F4: =SUMPRODUCT('Data - Football pre-match'!F$3:F$8,Weights!$C$5:$C$10) -> 0.955515 | G4: =SUMPRODUCT('Data - Football pre-match'!G$3:G$8,Weights!$C$5:$C$10) -> 0.95214 | H4: =SUMPRODUCT('Data - Football pre-match'!H$3:H$8,Weights!$C$5:$C$10) -> 0.95214 | I4: =SUMPRODUCT('Data - Football pre-match'!I$3:I$8,Weights!$C$5:$C$10) -> 0.968355 | J4: =SUMPRODUCT('Data - Football pre-match'!J$3:J$8,Weights!$C$5:$C$10) -> 0.95214 | ... R4: =SUMPRODUCT('Data - Football pre-match'!R$3:R$8,Weights!$C$5:$C$10) -> 0.94583
B5: Premier League | C5: =SUMPRODUCT('Data - Football pre-match'!C$10:C$15,Weights!$C$5:$C$10) -> 0.95406 | D5: =SUMPRODUCT('Data - Football pre-match'!D$10:D$15,Weights!$C$5:$C$10) -> 0.950035 | E5: =SUMPRODUCT('Data - Football pre-match'!E$10:E$15,Weights!$C$5:$C$10) -> 0.95494 | F5: =SUMPRODUCT('Data - Football pre-match'!F$10:F$15,Weights!$C$5:$C$10) -> 0.95764 | G5: =SUMPRODUCT('Data - Football pre-match'!G$10:G$15,Weights!$C$5:$C$10) -> 0.950035 | H5: =SUMPRODUCT('Data - Football pre-match'!H$10:H$15,Weights!$C$5:$C$10) -> 0.95494 | I5: =SUMPRODUCT('Data - Football pre-match'!I$10:I$15,Weights!$C$5:$C$10) -> 0.968885 | J5: =SUMPRODUCT('Data - Football pre-match'!J$10:J$15,Weights!$C$5:$C$10) -> 0.95494 | ... R5: =SUMPRODUCT('Data - Football pre-match'!R$10:R$15,Weights!$C$5:$C$10) -> 0.95477
B6: La Liga | C6: =SUMPRODUCT('Data - Football pre-match'!C$17:C$22,Weights!$C$5:$C$10) -> 0.95096 | D6: =SUMPRODUCT('Data - Football pre-match'!D$17:D$22,Weights!$C$5:$C$10) -> 0.940945 | E6: =SUMPRODUCT('Data - Football pre-match'!E$17:E$22,Weights!$C$5:$C$10) -> 0.951925 | F6: =SUMPRODUCT('Data - Football pre-match'!F$17:F$22,Weights!$C$5:$C$10) -> 0.951925 | G6: =SUMPRODUCT('Data - Football pre-match'!G$17:G$22,Weights!$C$5:$C$10) -> 0.940945 | H6: =SUMPRODUCT('Data - Football pre-match'!H$17:H$22,Weights!$C$5:$C$10) -> 0.951925 | I6: =SUMPRODUCT('Data - Football pre-match'!I$17:I$22,Weights!$C$5:$C$10) -> 0.967625 | J6: =SUMPRODUCT('Data - Football pre-match'!J$17:J$22,Weights!$C$5:$C$10) -> 0.951925 | ... R6: =SUMPRODUCT('Data - Football pre-match'!R$17:R$22,Weights!$C$5:$C$10) -> 0.947085
B7: Serie A | C7: =SUMPRODUCT('Data - Football pre-match'!C$24:C$29,Weights!$C$5:$C$10) -> 0.956875 | D7: =SUMPRODUCT('Data - Football pre-match'!D$24:D$29,Weights!$C$5:$C$10) -> 0.95297 | E7: =SUMPRODUCT('Data - Football pre-match'!E$24:E$29,Weights!$C$5:$C$10) -> 0.95297 | F7: =SUMPRODUCT('Data - Football pre-match'!F$24:F$29,Weights!$C$5:$C$10) -> 0.95297 | G7: =SUMPRODUCT('Data - Football pre-match'!G$24:G$29,Weights!$C$5:$C$10) -> 0.94415 | H7: =SUMPRODUCT('Data - Football pre-match'!H$24:H$29,Weights!$C$5:$C$10) -> 0.95297 | I7: =SUMPRODUCT('Data - Football pre-match'!I$24:I$29,Weights!$C$5:$C$10) -> 0.96807 | J7: =SUMPRODUCT('Data - Football pre-match'!J$24:J$29,Weights!$C$5:$C$10) -> 0.95297 | ... R7: =SUMPRODUCT('Data - Football pre-match'!R$24:R$29,Weights!$C$5:$C$10) -> 0.94793
B8: Bundesliga | C8: =SUMPRODUCT('Data - Football pre-match'!C$31:C$36,Weights!$C$5:$C$10) -> 0.952305 | D8: =SUMPRODUCT('Data - Football pre-match'!D$31:D$36,Weights!$C$5:$C$10) -> 0.953155 | E8: =SUMPRODUCT('Data - Football pre-match'!E$31:E$36,Weights!$C$5:$C$10) -> 0.953155 | F8: =SUMPRODUCT('Data - Football pre-match'!F$31:F$36,Weights!$C$5:$C$10) -> 0.953155 | G8: =SUMPRODUCT('Data - Football pre-match'!G$31:G$36,Weights!$C$5:$C$10) -> 0.94546 | H8: =SUMPRODUCT('Data - Football pre-match'!H$31:H$36,Weights!$C$5:$C$10) -> 0.947575 | I8: =SUMPRODUCT('Data - Football pre-match'!I$31:I$36,Weights!$C$5:$C$10) -> 0.971425 | J8: =SUMPRODUCT('Data - Football pre-match'!J$31:J$36,Weights!$C$5:$C$10) -> 0.953155 | ... R8: =SUMPRODUCT('Data - Football pre-match'!R$31:R$36,Weights!$C$5:$C$10) -> 0.94807
B9: Jupiler Pro League | C9: =SUMPRODUCT('Data - Football pre-match'!C$38:C$43,Weights!$C$5:$C$10) -> 0.935645 | D9: =SUMPRODUCT('Data - Football pre-match'!D$38:D$43,Weights!$C$5:$C$10) -> 0.945295 | E9: =SUMPRODUCT('Data - Football pre-match'!E$38:E$43,Weights!$C$5:$C$10) -> 0.945295 | F9: =SUMPRODUCT('Data - Football pre-match'!F$38:F$43,Weights!$C$5:$C$10) -> 0.949705 | G9: =SUMPRODUCT('Data - Football pre-match'!G$38:G$43,Weights!$C$5:$C$10) -> 0.92932 | H9: =SUMPRODUCT('Data - Football pre-match'!H$38:H$43,Weights!$C$5:$C$10) -> 0.945295 | I9: =SUMPRODUCT('Data - Football pre-match'!I$38:I$43,Weights!$C$5:$C$10) -> 0.945295 | J9: =SUMPRODUCT('Data - Football pre-match'!J$38:J$43,Weights!$C$5:$C$10) -> 0.945295 | ... R9: =SUMPRODUCT('Data - Football pre-match'!R$38:R$43,Weights!$C$5:$C$10) -> 0.935965
B10: Eerste Divisie | C10: =SUMPRODUCT('Data - Football pre-match'!C$45:C$50,Weights!$C$5:$C$10) -> 0.949575 | D10: =SUMPRODUCT('Data - Football pre-match'!D$45:D$50,Weights!$C$5:$C$10) -> 0.9363 | E10: =SUMPRODUCT('Data - Football pre-match'!E$45:E$50,Weights!$C$5:$C$10) -> 0.9363 | F10: =SUMPRODUCT('Data - Football pre-match'!F$45:F$50,Weights!$C$5:$C$10) -> 0.9363 | G10: =SUMPRODUCT('Data - Football pre-match'!G$45:G$50,Weights!$C$5:$C$10) -> 0.9363 | H10: =SUMPRODUCT('Data - Football pre-match'!H$45:H$50,Weights!$C$5:$C$10) -> 0.9363 | I10: =SUMPRODUCT('Data - Football pre-match'!I$45:I$50,Weights!$C$5:$C$10) -> 0.96734 | J10: =SUMPRODUCT('Data - Football pre-match'!J$45:J$50,Weights!$C$5:$C$10) -> 0.9363 | ... R10: =SUMPRODUCT('Data - Football pre-match'!R$45:R$50,Weights!$C$5:$C$10) -> 0.930255
B11: Ligue 1 | C11: =SUMPRODUCT('Data - Football pre-match'!C$52:C$57,Weights!$C$5:$C$10) -> 0.95263 | D11: =SUMPRODUCT('Data - Football pre-match'!D$52:D$57,Weights!$C$5:$C$10) -> 0.945525 | E11: =SUMPRODUCT('Data - Football pre-match'!E$52:E$57,Weights!$C$5:$C$10) -> 0.95034 | F11: =SUMPRODUCT('Data - Football pre-match'!F$52:F$57,Weights!$C$5:$C$10) -> 0.95034 | G11: =SUMPRODUCT('Data - Football pre-match'!G$52:G$57,Weights!$C$5:$C$10) -> 0.945525 | H11: =SUMPRODUCT('Data - Football pre-match'!H$52:H$57,Weights!$C$5:$C$10) -> 0.945525 | I11: =SUMPRODUCT('Data - Football pre-match'!I$52:I$57,Weights!$C$5:$C$10) -> 0.95034 | J11: =SUMPRODUCT('Data - Football pre-match'!J$52:J$57,Weights!$C$5:$C$10) -> 0.945525 | ... R11: =SUMPRODUCT('Data - Football pre-match'!R$52:R$57,Weights!$C$5:$C$10) -> 0.94526
B12: Football - live
B13: Eredivisie | C13: =SUMPRODUCT('Data - Football Live'!C$3:C$8,Weights!$C$5:$C$10) -> 0.939155 | D13: =SUMPRODUCT('Data - Football Live'!D$3:D$8,Weights!$C$5:$C$10) -> 0.93938 | E13: =SUMPRODUCT('Data - Football Live'!E$3:E$8,Weights!$C$5:$C$10) -> 0.928105 | F13: =SUMPRODUCT('Data - Football Live'!F$3:F$8,Weights!$C$5:$C$10) -> 0.93938 | G13: =SUMPRODUCT('Data - Football Live'!G$3:G$8,Weights!$C$5:$C$10) -> 0.92447 | H13: =SUMPRODUCT('Data - Football Live'!H$3:H$8,Weights!$C$5:$C$10) -> 0.93938 | I13: =SUMPRODUCT('Data - Football Live'!I$3:I$8,Weights!$C$5:$C$10) -> 0.93938 | J13: =SUMPRODUCT('Data - Football Live'!J$3:J$8,Weights!$C$5:$C$10) -> 0.93938 | ... R13: =SUMPRODUCT('Data - Football Live'!R$3:R$8,Weights!$C$5:$C$10) -> 0.94591
B14: Premier League | C14: =SUMPRODUCT('Data - Football Live'!C$10:C$15,Weights!$C$5:$C$10) -> 0.93594 | D14: =SUMPRODUCT('Data - Football Live'!D$10:D$15,Weights!$C$5:$C$10) -> 0.938425 | E14: =SUMPRODUCT('Data - Football Live'!E$10:E$15,Weights!$C$5:$C$10) -> 0.924425 | F14: =SUMPRODUCT('Data - Football Live'!F$10:F$15,Weights!$C$5:$C$10) -> 0.93818 | G14: =SUMPRODUCT('Data - Football Live'!G$10:G$15,Weights!$C$5:$C$10) -> 0.92382 | H14: =SUMPRODUCT('Data - Football Live'!H$10:H$15,Weights!$C$5:$C$10) -> 0.93818 | I14: =SUMPRODUCT('Data - Football Live'!I$10:I$15,Weights!$C$5:$C$10) -> 0.93818 | J14: =SUMPRODUCT('Data - Football Live'!J$10:J$15,Weights!$C$5:$C$10) -> 0.938625 | ... R14: =SUMPRODUCT('Data - Football Live'!R$10:R$15,Weights!$C$5:$C$10) -> 0.95087
B15: La Liga | C15: =SUMPRODUCT('Data - Football Live'!C$17:C$22,Weights!$C$5:$C$10) -> 0.94058 | D15: =SUMPRODUCT('Data - Football Live'!D$17:D$22,Weights!$C$5:$C$10) -> 0.94068 | E15: =SUMPRODUCT('Data - Football Live'!E$17:E$22,Weights!$C$5:$C$10) -> 0.93077 | F15: =SUMPRODUCT('Data - Football Live'!F$17:F$22,Weights!$C$5:$C$10) -> 0.94068 | G15: =SUMPRODUCT('Data - Football Live'!G$17:G$22,Weights!$C$5:$C$10) -> 0.92156 | H15: =SUMPRODUCT('Data - Football Live'!H$17:H$22,Weights!$C$5:$C$10) -> 0.94068 | I15: =SUMPRODUCT('Data - Football Live'!I$17:I$22,Weights!$C$5:$C$10) -> 0.94068 | J15: =SUMPRODUCT('Data - Football Live'!J$17:J$22,Weights!$C$5:$C$10) -> 0.94068 | ... R15: =SUMPRODUCT('Data - Football Live'!R$17:R$22,Weights!$C$5:$C$10) -> 0.94506
B16: Serie A | C16: =SUMPRODUCT('Data - Football Live'!C$24:C$29,Weights!$C$5:$C$10) -> 0.939505 | D16: =SUMPRODUCT('Data - Football Live'!D$24:D$29,Weights!$C$5:$C$10) -> 0.939995 | E16: =SUMPRODUCT('Data - Football Live'!E$24:E$29,Weights!$C$5:$C$10) -> 0.92968 | F16: =SUMPRODUCT('Data - Football Live'!F$24:F$29,Weights!$C$5:$C$10) -> 0.939995 | G16: =SUMPRODUCT('Data - Football Live'!G$24:G$29,Weights!$C$5:$C$10) -> 0.920365 | H16: =SUMPRODUCT('Data - Football Live'!H$24:H$29,Weights!$C$5:$C$10) -> 0.939995 | I16: =SUMPRODUCT('Data - Football Live'!I$24:I$29,Weights!$C$5:$C$10) -> 0.939995 | J16: =SUMPRODUCT('Data - Football Live'!J$24:J$29,Weights!$C$5:$C$10) -> 0.939995 | ... R16: =SUMPRODUCT('Data - Football Live'!R$24:R$29,Weights!$C$5:$C$10) -> 0.948455
B17: Bundesliga | C17: =SUMPRODUCT('Data - Football Live'!C$31:C$36,Weights!$C$5:$C$10) -> 0.9378 | D17: =SUMPRODUCT('Data - Football Live'!D$31:D$36,Weights!$C$5:$C$10) -> 0.941685 | E17: =SUMPRODUCT('Data - Football Live'!E$31:E$36,Weights!$C$5:$C$10) -> 0.93236 | F17: =SUMPRODUCT('Data - Football Live'!F$31:F$36,Weights!$C$5:$C$10) -> 0.941685 | G17: =SUMPRODUCT('Data - Football Live'!G$31:G$36,Weights!$C$5:$C$10) -> 0.91795 | H17: =SUMPRODUCT('Data - Football Live'!H$31:H$36,Weights!$C$5:$C$10) -> 0.941685 | I17: =SUMPRODUCT('Data - Football Live'!I$31:I$36,Weights!$C$5:$C$10) -> 0.941685 | J17: =SUMPRODUCT('Data - Football Live'!J$31:J$36,Weights!$C$5:$C$10) -> 0.941685 | ... R17: =SUMPRODUCT('Data - Football Live'!R$31:R$36,Weights!$C$5:$C$10) -> 0.947005
B18: Jupiler Pro League | C18: =SUMPRODUCT('Data - Football Live'!C$38:C$43,Weights!$C$5:$C$10) -> 0.9256 | D18: =SUMPRODUCT('Data - Football Live'!D$38:D$43,Weights!$C$5:$C$10) -> 0.938835 | E18: =SUMPRODUCT('Data - Football Live'!E$38:E$43,Weights!$C$5:$C$10) -> 0.930545 | F18: =SUMPRODUCT('Data - Football Live'!F$38:F$43,Weights!$C$5:$C$10) -> 0.938835 | G18: =SUMPRODUCT('Data - Football Live'!G$38:G$43,Weights!$C$5:$C$10) -> 0.911705 | H18: =SUMPRODUCT('Data - Football Live'!H$38:H$43,Weights!$C$5:$C$10) -> 0.938835 | I18: =SUMPRODUCT('Data - Football Live'!I$38:I$43,Weights!$C$5:$C$10) -> 0.938835 | J18: =SUMPRODUCT('Data - Football Live'!J$38:J$43,Weights!$C$5:$C$10) -> 0.938835 | ... R18: =SUMPRODUCT('Data - Football Live'!R$38:R$43,Weights!$C$5:$C$10) -> 0.9363
B19: Eerste Divisie | C19: =SUMPRODUCT('Data - Football Live'!C$45:C$50,Weights!$C$5:$C$10) -> 0.931885 | D19: =SUMPRODUCT('Data - Football Live'!D$45:D$50,Weights!$C$5:$C$10) -> 0.927525 | E19: =SUMPRODUCT('Data - Football Live'!E$45:E$50,Weights!$C$5:$C$10) -> 0.912585 | F19: =SUMPRODUCT('Data - Football Live'!F$45:F$50,Weights!$C$5:$C$10) -> 0.927525 | G19: =SUMPRODUCT('Data - Football Live'!G$45:G$50,Weights!$C$5:$C$10) -> 0.897365 | H19: =SUMPRODUCT('Data - Football Live'!H$45:H$50,Weights!$C$5:$C$10) -> 0.927525 | I19: =SUMPRODUCT('Data - Football Live'!I$45:I$50,Weights!$C$5:$C$10) -> 0.927525 | J19: =SUMPRODUCT('Data - Football Live'!J$45:J$50,Weights!$C$5:$C$10) -> 0.927525 | ... R19: =SUMPRODUCT('Data - Football Live'!R$45:R$50,Weights!$C$5:$C$10) -> 0.93851
B20: Ligue 1 | C20: =SUMPRODUCT('Data - Football Live'!C$52:C$57,Weights!$C$5:$C$10) -> 0.93954 | D20: =SUMPRODUCT('Data - Football Live'!D$52:D$57,Weights!$C$5:$C$10) -> 0.94009 | E20: =SUMPRODUCT('Data - Football Live'!E$52:E$57,Weights!$C$5:$C$10) -> 0.926745 | F20: =SUMPRODUCT('Data - Football Live'!F$52:F$57,Weights!$C$5:$C$10) -> 0.94009 | G20: =SUMPRODUCT('Data - Football Live'!G$52:G$57,Weights!$C$5:$C$10) -> 0.919565 | H20: =SUMPRODUCT('Data - Football Live'!H$52:H$57,Weights!$C$5:$C$10) -> 0.94009 | I20: =SUMPRODUCT('Data - Football Live'!I$52:I$57,Weights!$C$5:$C$10) -> 0.94009 | J20: =SUMPRODUCT('Data - Football Live'!J$52:J$57,Weights!$C$5:$C$10) -> 0.94009 | ... R20: =SUMPRODUCT('Data - Football Live'!R$52:R$57,Weights!$C$5:$C$10) -> 0.945025
B21: Tennis
B22: Pre-match grand Slam | C22: =SUMPRODUCT('Data - Tennis'!C$4:C$7,Weights!$C$40:$C$43) -> 0.943175 | D22: =SUMPRODUCT('Data - Tennis'!D$4:D$7,Weights!$C$40:$C$43) -> 0.94744 | E22: =SUMPRODUCT('Data - Tennis'!E$4:E$7,Weights!$C$40:$C$43) -> 0.94744 | F22: =SUMPRODUCT('Data - Tennis'!F$4:F$7,Weights!$C$40:$C$43) -> 0.94744 | G22: =SUMPRODUCT('Data - Tennis'!G$4:G$7,Weights!$C$40:$C$43) -> 0.94744 | H22: =SUMPRODUCT('Data - Tennis'!H$4:H$7,Weights!$C$40:$C$43) -> 0.94744 | I22: =SUMPRODUCT('Data - Tennis'!I$4:I$7,Weights!$C$40:$C$43) -> 0.94744 | J22: =SUMPRODUCT('Data - Tennis'!J$4:J$7,Weights!$C$40:$C$43) -> 0.94744 | ... R22: =SUMPRODUCT('Data - Tennis'!R$4:R$7,Weights!$C$40:$C$43) -> 0.95466
B23: Pre-match Challenger | C23: =SUMPRODUCT('Data - Tennis'!C$14:C$17,Weights!$C$40:$C$43) -> 0.91785 | D23: =SUMPRODUCT('Data - Tennis'!D$14:D$17,Weights!$C$40:$C$43) -> 0.94054 | E23: =SUMPRODUCT('Data - Tennis'!E$14:E$17,Weights!$C$40:$C$43) -> 0.94054 | F23: =SUMPRODUCT('Data - Tennis'!F$14:F$17,Weights!$C$40:$C$43) -> 0.94054 | G23: =SUMPRODUCT('Data - Tennis'!G$14:G$17,Weights!$C$40:$C$43) -> 0.94054 | H23: =SUMPRODUCT('Data - Tennis'!H$14:H$17,Weights!$C$40:$C$43) -> 0.94054 | I23: =SUMPRODUCT('Data - Tennis'!I$14:I$17,Weights!$C$40:$C$43) -> 0.94054 | J23: =SUMPRODUCT('Data - Tennis'!J$14:J$17,Weights!$C$40:$C$43) -> 0.94054 | ... L23: =SUMPRODUCT('Data - Tennis'!L$14:L$17,Weights!$C$40:$C$43) -> 0.93487 | M23: =SUMPRODUCT('Data - Tennis'!M$14:M$17,Weights!E40:E43) -> 0.9329 | N23: =SUMPRODUCT('Data - Tennis'!N$14:N$17,Weights!$C$40:$C$43) -> 0.89524 | O23: =SUMPRODUCT('Data - Tennis'!O$14:O$17,Weights!$C$40:$C$43) -> 0.92003 | P23: =SUMPRODUCT('Data - Tennis'!P$14:P$17,Weights!$C$40:$C$43) -> 0.92416 | Q23: =SUMPRODUCT('Data - Tennis'!Q$14:Q$17,Weights!$C$40:$C$43) -> 0.925015 | R23: =SUMPRODUCT('Data - Tennis'!R$14:R$17,Weights!$C$40:$C$43) -> 0.92511
B24: Live grand Slam | C24: =SUMPRODUCT('Data - Tennis'!C$9:C$12,Weights!$C$40:$C$43) -> 0.9384 | D24: =SUMPRODUCT('Data - Tennis'!D$9:D$12,Weights!$C$40:$C$43) -> 0.94343 | E24: =SUMPRODUCT('Data - Tennis'!E$9:E$12,Weights!$C$40:$C$43) -> 0.93809 | F24: =SUMPRODUCT('Data - Tennis'!F$9:F$12,Weights!$C$40:$C$43) -> 0.94343 | G24: =SUMPRODUCT('Data - Tennis'!G$9:G$12,Weights!$C$40:$C$43) -> 0.92108 | H24: =SUMPRODUCT('Data - Tennis'!H$9:H$12,Weights!$C$40:$C$43) -> 0.94343 | I24: =SUMPRODUCT('Data - Tennis'!I$9:I$12,Weights!$C$40:$C$43) -> 0.94343 | J24: =SUMPRODUCT('Data - Tennis'!J$9:J$12,Weights!$C$40:$C$43) -> 0.94343 | K24: =SUMPRODUCT('Data - Tennis'!K$9:K$12,Weights!$C$40:$C$43) -> 0.93809 | L24: =SUMPRODUCT('Data - Tennis'!L$9:L$12,Weights!D40:D43) -> 0.94224706 | M24: =SUMPRODUCT('Data - Tennis'!M$9:M$12,Weights!$C$40:$C$43) -> 0.940645 | N24: =SUMPRODUCT('Data - Tennis'!N$9:N$12,Weights!$C$40:$C$43) -> 0.94587 | O24: =SUMPRODUCT('Data - Tennis'!O$9:O$12,Weights!$C$40:$C$43) -> 0.933105 | P24: =SUMPRODUCT('Data - Tennis'!P$9:P$12,Weights!$C$40:$C$43) -> 0.9432 | Q24: =SUMPRODUCT('Data - Tennis'!Q$9:Q$12,Weights!$C$40:$C$43) -> 0.94543 | R24: =SUMPRODUCT('Data - Tennis'!R$9:R$12,Weights!$C$40:$C$43) -> 0.94595
B25: Live Challenger | C25: =SUMPRODUCT('Data - Tennis'!C$19:C$22,Weights!$C$40:$C$43) -> 0.92723 | D25: =SUMPRODUCT('Data - Tennis'!D$19:D$22,Weights!$C$40:$C$43) -> 0.93034 | E25: =SUMPRODUCT('Data - Tennis'!E$19:E$22,Weights!$C$40:$C$43) -> 0.920115 | F25: =SUMPRODUCT('Data - Tennis'!F$19:F$22,Weights!$C$40:$C$43) -> 0.93034 | G25: =SUMPRODUCT('Data - Tennis'!G$19:G$22,Weights!$C$40:$C$43) -> 0.90821 | H25: =SUMPRODUCT('Data - Tennis'!H$19:H$22,Weights!$C$40:$C$43) -> 0.93034 | I25: =SUMPRODUCT('Data - Tennis'!I$19:I$22,Weights!$C$40:$C$43) -> 0.93034 | J25: =SUMPRODUCT('Data - Tennis'!J$19:J$22,Weights!$C$40:$C$43) -> 0.93034 | ... M25: =SUMPRODUCT('Data - Tennis'!M$19:M$22,Weights!$C$40:$C$43) -> 0.9284 | N25: X | O25: =SUMPRODUCT('Data - Tennis'!O$19:O$22,Weights!$C$40:$C$43) -> 0.92092 | P25: =SUMPRODUCT('Data - Tennis'!P$19:P$22,Weights!$C$40:$C$43) -> 0.92574 | Q25: =SUMPRODUCT('Data - Tennis'!Q$19:Q$22,Weights!$C$40:$C$43) -> 0.92429 | R25: =SUMPRODUCT('Data - Tennis'!R$19:R$22,Weights!$C$40:$C$43) -> 0.92429

Sheet Weights
B2: Football
B4: Betting market | C4: Weight | E4: Competition | F4: Weight | H4: Time | I4: Weight
B5: 1x2 | C5: 0.45 | E5: Eredivisie | F5: 0.35 | H5: Pre-match | I5: 0.5
B6: Draw no bet | C6: 0.1 | E6: Premier League | F6: 0.25 | H6: live | I6: 0.5
B7: Both teams to score | C7: 0.1 | E7: La Liga | F7: 0.15
B8: Over/under goals | C8: 0.25 | E8: Serie A | F8: 0.05
B9: Over/under team goals | C9: 0.05 | E9: Bundesliga | F9: 0.05
B10: Winner Half-Time | C10: 0.05 | E10: Jupiler Pro League | F10: 0.05
E11: Eerste Divisie | F11: 0.05
E12: Ligue 1 | F12: 0.05
B16: Formula 1
B18: Betting market | C18: Weight | D18: Bet365 | E18: HC & Zebet | F18: Vbet | H18: Time | I18: Weight
B19: Winner | C19: 0.7 | D19: =C19+(C19/(SUM($C$19:$C$20,$C$22)))*$C$21 -> 0.73684211 | E19: =C19+(C19/(SUM($C$19,$C$21:$C$22)))*$C$20 -> 0.82352941 | F19: =C19+(C19/(SUM($C$19,$C$22)))*SUM($C$20:$C$21) -> 0.875 | H19: Pre-match | I19: 0.8
B20: Head-to-Head | C20: 0.15 | D20: =C20+(C20/(SUM($C$19:$C$20,$C$22)))*$C$21 -> 0.15789474 | E20: 0 | F20: 0 | H20: live | I20: 0.2
B21: Team winner | C21: 0.05 | D21: 0 | E21: =C21+(C21/(SUM($C$19,$C$21:$C$22)))*$C$20 -> 0.058823529 | F21: 0
B22: Fastest lap | C22: 0.1 | D22: =C22+(C22/(SUM($C$19:$C$20,$C$22)))*$C$21 -> 0.10526316 | E22: =C22+(C22/(SUM($C$19,$C$21:$C$22)))*$C$20 -> 0.11764706 | F22: =C22+(C22/(SUM($C$19,$C$22)))*SUM($C$20:$C$21) -> 0.125
B26: Basketball
B28: Betting market | C28: Weight | D28: PRE VB & 365 | E28: LI Toto | F28: LI Circus | H28: Time | I28: Weight
B29: Winner | C29: 0.3 | D29: =C29+(C29/(SUM($C$29:$C$32)))*$C$33 -> 0.375 | E29: =C29+(C29/(SUM($C$29:$C$31,$C$33)))*$C$32 -> 0.31578947 | F29: =C29+(C29/(SUM($C$29,$C$31,$C$33)))*SUM($C$30,$C$32) -> 0.375 | H29: Pre-match | I29: 0.25
B30: Point handicap | C30: 0.15 | D30: =C30+(C30/(SUM($C$29:$C$32)))*$C$33 -> 0.1875 | E30: =C30+(C30/(SUM($C$29:$C$31,$C$33)))*$C$32 -> 0.15789474 | F30: 0 | H30: live | I30: 0.75
B31: Total points | C31: 0.3 | D31: =C31+(C31/(SUM($C$29:$C$32)))*$C$33 -> 0.375 | E31: =C31+(C31/(SUM($C$29:$C$31,$C$33)))*$C$32 -> 0.31578947 | F31: =C31+(C31/(SUM($C$29,$C$31,$C$33)))*SUM($C$30,$C$32) -> 0.375
B32: Total team points | C32: 0.05 | D32: =C32+(C32/(SUM($C$29:$C$32)))*$C$33 -> 0.0625 | E32: 0 | F32: 0
B33: Winner quarter | C33: 0.2 | D33: 0 | E33: =C33+(C33/(SUM($C$29:$C$31,$C$33)))*$C$32 -> 0.21052632 | F33: =C33+(C33/(SUM($C$29,$C$31,$C$33)))*SUM($C$30,$C$32) -> 0.25
B37: Tennis
B39: Betting market | C39: Weight | D39: LI GS TOTO | E39: PRE CH HC | H39: Time | I39: Weight
B40: Winner | C40: 0.7 | D40: =$C40+($C40/(SUM($C$40:$C$42)))*$C$43 -> 0.82352941 | E40: =$C40+($C40/(SUM($C$40:$C$42)))*$C$43 -> 0.82352941 | H40: Pre-match | I40: 0.2
B41: Total Games | C41: 0.1 | D41: =$C41+($C41/(SUM($C$40:$C$42)))*$C$43 -> 0.11764706 | E41: =$C41+($C41/(SUM($C$40:$C$42)))*$C$43 -> 0.11764706 | H41: live | I41: 0.8
B42: Game handicap | C42: 0.05 | D42: =$C42+($C42/(SUM($C$40:$C$42)))*$C$43 -> 0.058823529 | E42: =$C42+($C42/(SUM($C$40:$C$42)))*$C$43 -> 0.058823529
B43: Total games in set | C43: 0.15 | D43: 0 | E43: 0 | H43: Event | I43: Weight | J43: ZE LI
H44: Grand Slam | I44: 0.7 | J44: 1
H45: Challenger | I45: 0.3 | J45: 0
B49: Darts
B51: Betting market | C51: Weight | D51: PRE TO ZE | E51: PRE CI | F51: LI TO | H51: Time | I51: Weight | J51: HC, ZE, VB
B52: Winner | C52: 0.65 | D52: =C52+(C52/(SUM($C$55,$C$52)))*SUM($C$53:$C$54) -> 0.8125 | E52: =C52+(C52/(SUM($C$52,$C$54:$C$55)))*$C$53 -> 0.72222222 | F52: =C52+(C52/(SUM($C$52,$C$54:$C$55)))*$C$53 -> 0.72222222 | H52: Pre-match | I52: 0.4 | J52: 1
B53: Legs Handicap | C53: 0.1 | D53: 0 | E53: 0 | F53: 0 | H53: live | I53: 0.6 | J53: 0
B54: Total Legs | C54: 0.1 | D54: 0 | E54: =C54+(C54/(SUM($C$52,$C$54:$C$55)))*$C$53 -> 0.11111111 | F54: =C54+(C54/(SUM($C$52,$C$54:$C$55)))*$C$53 -> 0.11111111
B55: Total 180s | C55: 0.15 | D55: =C55+(C55/(SUM($C$55,$C$52)))*SUM($C$53:$C$54) -> 0.1875 | E55: =C55+(C55/(SUM($C$52,$C$54:$C$55)))*$C$53 -> 0.16666667 | F55: =C55+(C55/(SUM($C$52,$C$54:$C$55)))*$C$53 -> 0.16666667
B59: General
B61: Sport | C61: Weight
B62: Football | C62: 0.55
B63: F1 | C63: 0.05
B64: Tennis | C64: 0.2
B65: Basket | C65: 0.1
B66: Darts | C66: 0.1
B68: Bookmaker | C68: Availability
B69: Bet365 | C69: 1
B70: Jacks | C70: 1
B71: BetCity | C71: 1
B72: Unibet | C72: 1
B73: Bingoal | C73: =1-(Analysis!C27*Analysis!F12)-(Analysis!C26*Analysis!C23*Analysis!C19) -> 0.97625
B74: TOTO | C74: =1-(Analysis!C30*Analysis!I24*Analysis!I21) -> 0.996
B75: HC | C75: =1-(Analysis!C30*Analysis!I25*Analysis!I22)-(Analysis!C28*Analysis!I14*Analysis!I12*Analysis!I8)-(Analysis!C28*Analysis!I15*Analysis!I12*Analysis!I7)-(Analysis!C28*Analysis!I15*Analysis!I12*Analysis!I9)-(Analysis!C28*Analysis!I15*Analysis!I12*Analysis!I8)-(Analysis!C28*Analysis!I15*Analysis!I12*Analysis!I7)-(Analysis!C28*Analysis!I24*Analysis!I11*Analysis!I9) -> 0.9628
B76: LSbet | C76: =1-(Analysis!C30*Analysis!I25*Analysis!I20)-(Analysis!C30*Analysis!I25*Analysis!I21) -> 0.988
B77: Zebet | C77: =1-(Analysis!C26*Analysis!C23*Analysis!C19)-(Analysis!C28*Analysis!I15*Analysis!I11*Analysis!I8)-(Analysis!C28*Analysis!I15*Analysis!I12)-(Analysis!C27*Analysis!F11*Analysis!F7)-(Analysis!C27*Analysis!F12)-(Analysis!C30*Analysis!I24*Analysis!I20)-(Analysis!C30*Analysis!I24*Analysis!I21)-(Analysis!C30*Analysis!I25*Analysis!I20)-(Analysis!C30*Analysis!I25*Analysis!I21)-(Analysis!C30*Analysis!I25*Analysis!I22) -> 0.88765
B78: Circus | C78: =1-(Analysis!C28*Analysis!I14*Analysis!I12*Analysis!I9)-(Analysis!C29*Analysis!F23*Analysis!F19)-(Analysis!C30*Analysis!I24*Analysis!I21) -> 0.99045
B79: Vbet | C79: =1-(Analysis!C27*Analysis!F11*Analysis!F9)-(Analysis!C30*Analysis!I25*Analysis!I22) -> 0.987

Sheet Analysis
B2: Weights | K2: Payback breakdown per sport
B4: Football | E4: Formula 1 | H4: Tennis | K4: Sport | L4: Bet365 | M4: Jacks | N4: BetCity | O4: Unibet | P4: Leovegas | Q4: betMGM | R4: 711 | S4: Bingoal | T4: LSbet | U4: TOTO | V4: HC | W4: Zebet | X4: Circus | Y4: Vbet | Z4: ComeOn | AA4: BetNation
B5: Market | C5: Weight | E5: Market | F5: Weight | H5: Market | I5: Weight | K5: Football pre-match | L5: =SUMPRODUCT('Per competition'!C4:C11,Weights!$F$5:$F$12) -> 0.95311925 | M5: =SUMPRODUCT('Per competition'!D4:D11,Weights!$F$5:$F$12) -> 0.94856175 | N5: =SUMPRODUCT('Per competition'!E4:E11,Weights!$F$5:$F$12) -> 0.95167575 | O5: =SUMPRODUCT('Per competition'!F4:F11,Weights!$F$5:$F$12) -> 0.9537525 | P5: =SUMPRODUCT('Per competition'!G4:G11,Weights!$F$5:$F$12) -> 0.94693725 | Q5: =SUMPRODUCT('Per competition'!H4:H11,Weights!$F$5:$F$12) -> 0.951156 | R5: =SUMPRODUCT('Per competition'!I4:I11,Weights!$F$5:$F$12) -> 0.96641275 | S5: =SUMPRODUCT('Per competition'!J4:J11,Weights!$F$5:$F$12) -> 0.951435 | ... AA5: =SUMPRODUCT('Per competition'!R4:R11,Weights!$F$5:$F$12) -> 0.94716975
B6: 1x2 | C6: 0.45 | E6: Winner | F6: 0.7 | H6: Winner | I6: 0.7 | K6: Football live | L6: =SUMPRODUCT('Per competition'!C13:C20,Weights!$F$5:$F$12) -> 0.93749275 | M6: =SUMPRODUCT('Per competition'!D13:D20,Weights!$F$5:$F$12) -> 0.93889775 | N6: =SUMPRODUCT('Per competition'!E13:E20,Weights!$F$5:$F$12) -> 0.92715425 | O6: =SUMPRODUCT('Per competition'!F13:F20,Weights!$F$5:$F$12) -> 0.9388365 | P6: =SUMPRODUCT('Per competition'!G13:G20,Weights!$F$5:$F$12) -> 0.921101 | Q6: =SUMPRODUCT('Per competition'!H13:H20,Weights!$F$5:$F$12) -> 0.9388365 | R6: =SUMPRODUCT('Per competition'!I13:I20,Weights!$F$5:$F$12) -> 0.9388365 | S6: =SUMPRODUCT('Per competition'!J13:J20,Weights!$F$5:$F$12) -> 0.93894775 | ... AA6: =SUMPRODUCT('Per competition'!R13:R20,Weights!$F$5:$F$12) -> 0.94630975
B7: Draw no bet | C7: 0.1 | E7: Head-to-Head | F7: 0.15 | H7: Total games | I7: 0.1 | K7: Total football | L7: =SUMPRODUCT(L5:L6,Weights!$I$5:$I$6) -> 0.945306 | M7: =SUMPRODUCT(M5:M6,Weights!$I$5:$I$6) -> 0.94372975 | N7: =SUMPRODUCT(N5:N6,Weights!$I$5:$I$6) -> 0.939415 | O7: =SUMPRODUCT(O5:O6,Weights!$I$5:$I$6) -> 0.9462945 | P7: =SUMPRODUCT(P5:P6,Weights!$I$5:$I$6) -> 0.93401913 | Q7: =SUMPRODUCT(Q5:Q6,Weights!$I$5:$I$6) -> 0.94499625 | R7: =SUMPRODUCT(R5:R6,Weights!$I$5:$I$6) -> 0.95262463 | S7: =SUMPRODUCT(S5:S6,Weights!$I$5:$I$6) -> 0.94519138 | ... AA7: =SUMPRODUCT(AA5:AA6,Weights!$I$5:$I$6) -> 0.94673975
B8: Both teams to score | C8: 0.1 | E8: Team winner | F8: 0.05 | H8: Game handicap | I8: 0.05 | K8: F1 pre-match | L8: =SUMPRODUCT('Data - F1'!C4:C7,Weights!D19:D22) -> 0.89767522 | M8: =SUMPRODUCT('Data - F1'!D4:D7,Weights!$C$19:$C$22) -> 0.8682266 | N8: =SUMPRODUCT('Data - F1'!E4:E7,Weights!$C$19:$C$22) -> 0.8682266 | O8: =SUMPRODUCT('Data - F1'!F4:F7,Weights!$C$19:$C$22) -> 0.8682266 | P8: =SUMPRODUCT('Data - F1'!G4:G7,Weights!$C$19:$C$22) -> 0.8682266 | Q8: =SUMPRODUCT('Data - F1'!H4:H7,Weights!$C$19:$C$22) -> 0.8682266 | R8: =SUMPRODUCT('Data - F1'!I4:I7,Weights!$C$19:$C$22) -> 0.8682266 | S8: =SUMPRODUCT('Data - F1'!J4:J7,Weights!$C$19:$C$22) -> 0.8682266 | T8: =SUMPRODUCT('Data - F1'!K4:K7,Weights!$C$19:$C$22) -> 0.8682266 | U8: =SUMPRODUCT('Data - F1'!L4:L7,Weights!$C$19:$C$22) -> 0.83703479 | V8: =SUMPRODUCT('Data - F1'!M4:M7,Weights!$E$19:$E$22) -> 0.81459994 | W8: =SUMPRODUCT('Data - F1'!N4:N7,Weights!$E$19:$E$22) -> 0.84356057 | X8: =SUMPRODUCT('Data - F1'!O4:O7,Weights!$C$19:$C$22) -> 0.83233526 | Y8: =SUMPRODUCT('Data - F1'!P4:P7,Weights!F19:F22) -> 0.73946915 | Z8: =SUMPRODUCT('Data - F1'!Q4:Q7,Weights!$C$19:$C$22) -> 0.82501314 | AA8: =SUMPRODUCT('Data - F1'!R4:R7,Weights!$C$19:$C$22) -> 0.82501314
B9: Over/under goals | C9: 0.25 | E9: Fastest lap | F9: 0.1 | H9: Total games games in set | I9: 0.15 | K9: F1 Live | L9: ='Data - F1'!C9 -> 0.8326505 | M9: ='Data - F1'!D9 -> 0.71923921 | N9: ='Data - F1'!E9 -> 0.66778922 | O9: ='Data - F1'!F9 -> 0.72040979 | P9: ='Data - F1'!G9 -> 0.66735437 | Q9: ='Data - F1'!H9 -> 0.73128072 | R9: ='Data - F1'!I9 -> 0.7659391 | S9: ='Data - F1'!J9 -> 0.75808558 | ... AA9: ='Data - F1'!R9 -> 0.82844045
B10: Over/under team goals | C10: 0.05 | E10: Live / Pre-match | H10: Grand Slam / Challenger | K10: Total F1 | L10: =SUMPRODUCT(L8:L9,Weights!$I$19:$I$20) -> 0.88467027 | M10: =SUMPRODUCT(M8:M9,Weights!$I$19:$I$20) -> 0.83842912 | N10: =SUMPRODUCT(N8:N9,Weights!$I$19:$I$20) -> 0.82813912 | O10: =SUMPRODUCT(O8:O9,Weights!$I$19:$I$20) -> 0.83866324 | P10: =SUMPRODUCT(P8:P9,Weights!$I$19:$I$20) -> 0.82805215 | Q10: =SUMPRODUCT(Q8:Q9,Weights!$I$19:$I$20) -> 0.84083742 | R10: =SUMPRODUCT(R8:R9,Weights!$I$19:$I$20) -> 0.8477691 | S10: =SUMPRODUCT(S8:S9,Weights!$I$19:$I$20) -> 0.84619839 | ... AA10: =SUMPRODUCT(AA8:AA9,Weights!$I$19:$I$20) -> 0.8256986
B11: Winner half time | C11: 0.05 | E11: Pre-match | F11: 0.8 | H11: Grand Slam | I11: 0.7 | K11: Tennis pre-match | L11: =SUMPRODUCT('Per competition'!C$22:C$23,Weights!$I$44:$I$45) -> 0.9355775 | M11: =SUMPRODUCT('Per competition'!D$22:D$23,Weights!$I$44:$I$45) -> 0.94537 | N11: =SUMPRODUCT('Per competition'!E$22:E$23,Weights!$I$44:$I$45) -> 0.94537 | O11: =SUMPRODUCT('Per competition'!F$22:F$23,Weights!$I$44:$I$45) -> 0.94537 | P11: =SUMPRODUCT('Per competition'!G$22:G$23,Weights!$I$44:$I$45) -> 0.94537 | Q11: =SUMPRODUCT('Per competition'!H$22:H$23,Weights!$I$44:$I$45) -> 0.94537 | R11: =SUMPRODUCT('Per competition'!I$22:I$23,Weights!$I$44:$I$45) -> 0.94537 | S11: =SUMPRODUCT('Per competition'!J$22:J$23,Weights!$I$44:$I$45) -> 0.94537 | ... AA11: =SUMPRODUCT('Per competition'!R$22:R$23,Weights!$I$44:$I$45) -> 0.945795
B12: Competition | E12: Live | F12: 0.2 | H12: Challenger | I12: 0.3 | K12: Tennis Live | L12: =SUMPRODUCT('Per competition'!C$24:C$25,Weights!$I$44:$I$45) -> 0.935049 | M12: =SUMPRODUCT('Per competition'!D$24:D$25,Weights!$I$44:$I$45) -> 0.939503 | N12: =SUMPRODUCT('Per competition'!E$24:E$25,Weights!$I$44:$I$45) -> 0.9326975 | O12: =SUMPRODUCT('Per competition'!F$24:F$25,Weights!$I$44:$I$45) -> 0.939503 | P12: =SUMPRODUCT('Per competition'!G$24:G$25,Weights!$I$44:$I$45) -> 0.917219 | Q12: =SUMPRODUCT('Per competition'!H$24:H$25,Weights!$I$44:$I$45) -> 0.939503 | R12: =SUMPRODUCT('Per competition'!I$24:I$25,Weights!$I$44:$I$45) -> 0.939503 | S12: =SUMPRODUCT('Per competition'!J$24:J$25,Weights!$I$44:$I$45) -> 0.939503 | ... V12: =SUMPRODUCT('Per competition'!M$24:M$25,Weights!$I$44:$I$45) -> 0.9369715 | W12: =SUMPRODUCT('Per competition'!N$24:N$25,Weights!J44:J45) -> 0.94587 | X12: =SUMPRODUCT('Per competition'!O$24:O$25,Weights!$I$44:$I$45) -> 0.9294495 | Y12: =SUMPRODUCT('Per competition'!P$24:P$25,Weights!$I$44:$I$45) -> 0.937962 | Z12: =SUMPRODUCT('Per competition'!Q$24:Q$25,Weights!$I$44:$I$45) -> 0.939088 | AA12: =SUMPRODUCT('Per competition'!R$24:R$25,Weights!$I$44:$I$45) -> 0.939452
B13: Eredivisie | C13: 0.35 | H13: Live / Pre-match | K13: Total Tennis | L13: =SUMPRODUCT(L11:L12,Weights!$I$40:$I$41) -> 0.9351547 | M13: =SUMPRODUCT(M11:M12,Weights!$I$40:$I$41) -> 0.9406764 | N13: =SUMPRODUCT(N11:N12,Weights!$I$40:$I$41) -> 0.935232 | O13: =SUMPRODUCT(O11:O12,Weights!$I$40:$I$41) -> 0.9406764 | P13: =SUMPRODUCT(P11:P12,Weights!$I$40:$I$41) -> 0.9228492 | Q13: =SUMPRODUCT(Q11:Q12,Weights!$I$40:$I$41) -> 0.9406764 | R13: =SUMPRODUCT(R11:R12,Weights!$I$40:$I$41) -> 0.9406764 | S13: =SUMPRODUCT(S11:S12,Weights!$I$40:$I$41) -> 0.9406764 | ... AA13: =SUMPRODUCT(AA11:AA12,Weights!$I$40:$I$41) -> 0.9407206
B14: Premier League | C14: 0.25 | E14: Basketbal | H14: Pre-match | I14: 0.2 | K14: Basket pre-match | L14: =SUMPRODUCT('Data - Basketball'!C4:C8,Weights!D29:D33) -> 0.95035 | M14: =SUMPRODUCT('Data - Basketball'!D4:D8,Weights!$C$29:$C$33) -> 0.9461 | N14: =SUMPRODUCT('Data - Basketball'!E4:E8,Weights!$C$29:$C$33) -> 0.9461 | O14: =SUMPRODUCT('Data - Basketball'!F4:F8,Weights!$C$29:$C$33) -> 0.9461 | P14: =SUMPRODUCT('Data - Basketball'!G4:G8,Weights!$C$29:$C$33) -> 0.9461 | Q14: =SUMPRODUCT('Data - Basketball'!H4:H8,Weights!$C$29:$C$33) -> 0.9461 | R14: =SUMPRODUCT('Data - Basketball'!I4:I8,Weights!$C$29:$C$33) -> 0.9461 | S14: =SUMPRODUCT('Data - Basketball'!J4:J8,Weights!$C$29:$C$33) -> 0.9461 | T14: =SUMPRODUCT('Data - Basketball'!K4:K8,Weights!$C$29:$C$33) -> 0.9461 | ... X14: =SUMPRODUCT('Data - Basketball'!O4:O8,Weights!$C$29:$C$33) -> 0.918275 | Y14: =SUMPRODUCT('Data - Basketball'!P4:P8,Weights!D29:D33) -> 0.9346 | Z14: =SUMPRODUCT('Data - Basketball'!Q4:Q8,Weights!$C$29:$C$33) -> 0.933465 | AA14: =SUMPRODUCT('Data - Basketball'!R4:R8,Weights!$C$29:$C$33) -> 0.937305
B15: La Liga | C15: 0.15 | E15: Market | F15: Weight | H15: Live | I15: 0.8 | K15: Basket Live | L15: =SUMPRODUCT('Data - Basketball'!C10:C14,Weights!$C$29:$C$33) -> 0.936075 | M15: =SUMPRODUCT('Data - Basketball'!D10:D14,Weights!$C$29:$C$33) -> 0.93292 | N15: =SUMPRODUCT('Data - Basketball'!E10:E14,Weights!$C$29:$C$33) -> 0.919675 | O15: =SUMPRODUCT('Data - Basketball'!F10:F14,Weights!$C$29:$C$33) -> 0.93292 | P15: =SUMPRODUCT('Data - Basketball'!G10:G14,Weights!$C$29:$C$33) -> 0.902205 | Q15: =SUMPRODUCT('Data - Basketball'!H10:H14,Weights!$C$29:$C$33) -> 0.93292 | R15: =SUMPRODUCT('Data - Basketball'!I10:I14,Weights!$C$29:$C$33) -> 0.93292 | S15: =SUMPRODUCT('Data - Basketball'!J10:J14,Weights!$C$29:$C$33) -> 0.93292 | T15: =SUMPRODUCT('Data - Basketball'!K10:K14,Weights!$C$29:$C$33) -> 0.919675 | U15: =SUMPRODUCT('Data - Basketball'!L10:L14,Weights!E29:E33) -> 0.91407895 | V15: =SUMPRODUCT('Data - Basketball'!M10:M14,Weights!$C$29:$C$33) -> 0.92507 | W15: =SUMPRODUCT('Data - Basketball'!N10:N14,Weights!$C$29:$C$33) -> 0.894815 | X15: =SUMPRODUCT('Data - Basketball'!O10:O14,Weights!F29:F33) -> 0.8826625 | Y15: =SUMPRODUCT('Data - Basketball'!P10:P14,Weights!$C$29:$C$33) -> 0.92051 | Z15: =SUMPRODUCT('Data - Basketball'!Q10:Q14,Weights!$C$29:$C$33) -> 0.930455 | AA15: =SUMPRODUCT('Data - Basketball'!R10:R14,Weights!$C$29:$C$33) -> 0.930455
B16: Serie A | C16: 0.05 | E16: Winner | F16: 0.3 | K16: Total Basket | L16: =SUMPRODUCT(L14:L15,Weights!$I$29:$I$30) -> 0.93964375 | M16: =SUMPRODUCT(M14:M15,Weights!$I$29:$I$30) -> 0.936215 | N16: =SUMPRODUCT(N14:N15,Weights!$I$29:$I$30) -> 0.92628125 | O16: =SUMPRODUCT(O14:O15,Weights!$I$29:$I$30) -> 0.936215 | P16: =SUMPRODUCT(P14:P15,Weights!$I$29:$I$30) -> 0.91317875 | Q16: =SUMPRODUCT(Q14:Q15,Weights!$I$29:$I$30) -> 0.936215 | R16: =SUMPRODUCT(R14:R15,Weights!$I$29:$I$30) -> 0.936215 | S16: =SUMPRODUCT(S14:S15,Weights!$I$29:$I$30) -> 0.936215 | ... AA16: =SUMPRODUCT(AA14:AA15,Weights!$I$29:$I$30) -> 0.9321675
B17: Bundesliga | C17: 0.05 | E17: Handicap points | F17: 0.15 | H17: Darts | K17: Darts pre-match | L17: =SUMPRODUCT('Data - Darts'!C4:C7,Weights!$C$52:$C$55) -> 0.93796 | M17: =SUMPRODUCT('Data - Darts'!D4:D7,Weights!$C$52:$C$55) -> 0.94276 | N17: =SUMPRODUCT('Data - Darts'!E4:E7,Weights!$C$52:$C$55) -> 0.929565 | O17: =SUMPRODUCT('Data - Darts'!F4:F7,Weights!$C$52:$C$55) -> 0.94276 | P17: =SUMPRODUCT('Data - Darts'!G4:G7,Weights!$C$52:$C$55) -> 0.94276 | Q17: =SUMPRODUCT('Data - Darts'!H4:H7,Weights!$C$52:$C$55) -> 0.94276 | R17: =SUMPRODUCT('Data - Darts'!I4:I7,Weights!$C$52:$C$55) -> 0.94276 | S17: =SUMPRODUCT('Data - Darts'!J4:J7,Weights!$C$52:$C$55) -> 0.94276 | T17: =SUMPRODUCT('Data - Darts'!K4:K7,Weights!$C$52:$C$55) -> 0.94276 | U17: =SUMPRODUCT('Data - Darts'!L4:L7,Weights!D52:D55) -> 0.9514125 | V17: =SUMPRODUCT('Data - Darts'!M4:M7,Weights!$C$52:$C$55) -> 0.930555 | W17: =SUMPRODUCT('Data - Darts'!N4:N7,Weights!D52:D55) -> 0.93500625 | X17: =SUMPRODUCT('Data - Darts'!O4:O7,Weights!E52:E55) -> 0.93567778 | Y17: =SUMPRODUCT('Data - Darts'!P4:P7,Weights!$C$52:$C$55) -> 0.947115 | Z17: =SUMPRODUCT('Data - Darts'!Q4:Q7,Weights!$C$52:$C$55) -> 0.92989 | AA17: =SUMPRODUCT('Data - Darts'!R4:R7,Weights!$C$52:$C$55) -> 0.93119
B18: Jupiler Pro League | C18: 0.05 | E18: Total points | F18: 0.3 | H18: Market | I18: Weight | K18: Darts Live | L18: =SUMPRODUCT('Data - Darts'!C9:C12,Weights!$C$52:$C$55) -> 0.92665 | M18: =SUMPRODUCT('Data - Darts'!D9:D12,Weights!$C$52:$C$55) -> 0.943275 | N18: =SUMPRODUCT('Data - Darts'!E9:E12,Weights!$C$52:$C$55) -> 0.9354 | O18: =SUMPRODUCT('Data - Darts'!F9:F12,Weights!$C$52:$C$55) -> 0.943275 | P18: =SUMPRODUCT('Data - Darts'!G9:G12,Weights!$C$52:$C$55) -> 0.92154 | Q18: =SUMPRODUCT('Data - Darts'!H9:H12,Weights!$C$52:$C$55) -> 0.943275 | R18: =SUMPRODUCT('Data - Darts'!I9:I12,Weights!$C$52:$C$55) -> 0.943275 | S18: =SUMPRODUCT('Data - Darts'!J9:J12,Weights!$C$52:$C$55) -> 0.943275 | T18: =SUMPRODUCT('Data - Darts'!K9:K12,Weights!$C$52:$C$55) -> 0.9354 | U18: =SUMPRODUCT('Data - Darts'!L9:L12,Weights!F52:F55) -> 0.94995 | V18: =SUMPRODUCT('Data - Darts'!M9:M12,Weights!$C$52:$C$55) -> 0 | W18: =SUMPRODUCT('Data - Darts'!N9:N12,Weights!$C$52:$C$55) -> 0 | X18: =SUMPRODUCT('Data - Darts'!O9:O12,Weights!$C$52:$C$55) -> 0.942865 | Y18: =SUMPRODUCT('Data - Darts'!P9:P12,Weights!$C$52:$C$55) -> 0 | Z18: =SUMPRODUCT('Data - Darts'!Q9:Q12,Weights!$C$52:$C$55) -> 0.92242 | AA18: =SUMPRODUCT('Data - Darts'!R9:R12,Weights!$C$52:$C$55) -> 0.92242
B19: Eerste Divisie | C19: 0.05 | E19: Total points team | F19: 0.05 | H19: Winner | I19: 0.65 | K19: Total Darts | L19: =SUMPRODUCT(L17:L18,Weights!$I$52:$I$53) -> 0.931174 | M19: =SUMPRODUCT(M17:M18,Weights!$I$52:$I$53) -> 0.943069 | N19: =SUMPRODUCT(N17:N18,Weights!$I$52:$I$53) -> 0.933066 | O19: =SUMPRODUCT(O17:O18,Weights!$I$52:$I$53) -> 0.943069 | P19: =SUMPRODUCT(P17:P18,Weights!$I$52:$I$53) -> 0.930028 | Q19: =SUMPRODUCT(Q17:Q18,Weights!$I$52:$I$53) -> 0.943069 | R19: =SUMPRODUCT(R17:R18,Weights!$I$52:$I$53) -> 0.943069 | S19: =SUMPRODUCT(S17:S18,Weights!$I$52:$I$53) -> 0.943069 | ... U19: =SUMPRODUCT(U17:U18,Weights!$I$52:$I$53) -> 0.950535 | V19: =SUMPRODUCT(V17:V18,Weights!$J$52:$J$53) -> 0.930555 | W19: =SUMPRODUCT(W17:W18,Weights!$J$52:$J$53) -> 0.93500625 | X19: =SUMPRODUCT(X17:X18,Weights!$I$52:$I$53) -> 0.93999011 | Y19: =SUMPRODUCT(Y17:Y18,Weights!J52:J53) -> 0.947115 | Z19: =SUMPRODUCT(Z17:Z18,Weights!$I$52:$I$53) -> 0.925408 | AA19: =SUMPRODUCT(AA17:AA18,Weights!$I$52:$I$53) -> 0.925928
B20: Ligue 1 | C20: 0.05 | E20: Winner quarter | F20: 0.2 | H20: Legs Handicap | I20: 0.1
B21: Live / Pre-match | E21: Live / Pre-match | H21: Total legs | I21: 0.1 | K21: Total | L21: =(L7*Weights!$C$62)+(Analysis!L10*Weights!$C$63)+(Analysis!L13*Weights!$C$64)+(Analysis!L16*Weights!$C$65)+(Analysis!L19*Weights!$C$66) -> 0.93826453 | M21: =(M7*Weights!$C$62)+(Analysis!M10*Weights!$C$63)+(Analysis!M13*Weights!$C$64)+(Analysis!M16*Weights!$C$65)+(Analysis!M19*Weights!$C$66) -> 0.9370365 | N21: =(N7*Weights!$C$62)+(Analysis!N10*Weights!$C$63)+(Analysis!N13*Weights!$C$64)+(Analysis!N16*Weights!$C$65)+(Analysis!N19*Weights!$C$66) -> 0.93106633 | O21: =(O7*Weights!$C$62)+(Analysis!O10*Weights!$C$63)+(Analysis!O13*Weights!$C$64)+(Analysis!O16*Weights!$C$65)+(Analysis!O19*Weights!$C$66) -> 0.93845882 | P21: =(P7*Weights!$C$62)+(Analysis!P10*Weights!$C$63)+(Analysis!P13*Weights!$C$64)+(Analysis!P16*Weights!$C$65)+(Analysis!P19*Weights!$C$66) -> 0.92400364 | Q21: =(Q7*Weights!$C$62)+(Analysis!Q10*Weights!$C$63)+(Analysis!Q13*Weights!$C$64)+(Analysis!Q16*Weights!$C$65)+(Analysis!Q19*Weights!$C$66) -> 0.93785349 | R21: =(R7*Weights!$C$62)+(Analysis!R10*Weights!$C$63)+(Analysis!R13*Weights!$C$64)+(Analysis!R16*Weights!$C$65)+(Analysis!R19*Weights!$C$66) -> 0.94239568 | S21: =(S7*Weights!$C$62)+(Analysis!S10*Weights!$C$63)+(Analysis!S13*Weights!$C$64)+(Analysis!S16*Weights!$C$65)+(Analysis!S19*Weights!$C$66) -> 0.93822886 | ... AA21: =(AA7*Weights!$C$62)+(Analysis!AA10*Weights!$C$63)+(Analysis!AA13*Weights!$C$64)+(Analysis!AA16*Weights!$C$65)+(Analysis!AA19*Weights!$C$66) -> 0.93594546
B22: Pre-match | C22: 0.5 | E22: Pre-match | F22: 0.25 | H22: Total 180s | I22: 0.15 | K22: Rank | L22: =RANK(L21,$L$21:$AA$21,0) -> 4 | M22: =RANK(M21,$L$21:$AA$21,0) -> 7 | N22: =RANK(N21,$L$21:$AA$21,0) -> 11 | O22: =RANK(O21,$L$21:$AA$21,0) -> 3 | P22: =RANK(P21,$L$21:$AA$21,0) -> 15 | Q22: =RANK(Q21,$L$21:$AA$21,0) -> 6 | R22: =RANK(R21,$L$21:$AA$21,0) -> 1 | S22: =RANK(S21,$L$21:$AA$21,0) -> 5 | ... AA22: =RANK(AA21,$L$21:$AA$21,0) -> 8
B23: Live | C23: 0.5 | E23: Live | F23: 0.75 | H23: Live / Pre-match
H24: Pre-match | I24: 0.4
B25: Sport | C25: Weight | H25: Live | I25: 0.6
B26: Football | C26: 0.55 | K26: Bookmaker | L26: Voetbal | M26: Formule 1 | N26: Tennis | O26: Basketbal | P26: Darts | Q26: Total | S26: Bookmaker | T26: RTP | V26: Bookmaker | W26: Verschil
B27: Formula 1 | C27: 0.05 | K27: Bet365 | L27: =TEXT('Total breakdown'!C53,"0.00%")&" ("&'Total breakdown'!D53&")" -> 94.53% (5) | M27: =TEXT('Total breakdown'!E53,"0.00%")&" ("&'Total breakdown'!F53&")" -> 88.47% (1) | N27: =TEXT('Total breakdown'!G53,"0.00%")&" ("&'Total breakdown'!H53&")" -> 93.52% (13) | O27: =TEXT('Total breakdown'!I53,"0.00%")&" ("&'Total breakdown'!J53&")" -> 93.96% (1) | P27: =TEXT('Total breakdown'!M53,"0.00%")&" ("&'Total breakdown'!N53&")" -> 93.83% (4) | Q27: =TEXT('Total breakdown'!M53,"0.00%")&" ("&'Total breakdown'!N53&")" -> 93.83% (4) | S27: 711 | T27: 0.94239568 | V27: Bingoal | W27: 0.0015288559
B28: Tennis | C28: 0.2 | K28: Jacks | L28: =TEXT('Total breakdown'!C54,"0.00%")&" ("&'Total breakdown'!D54&")" -> 94.37% (9) | M28: =TEXT('Total breakdown'!E54,"0.00%")&" ("&'Total breakdown'!F54&")" -> 83.84% (6) | N28: =TEXT('Total breakdown'!G54,"0.00%")&" ("&'Total breakdown'!H54&")" -> 94.07% (3) | O28: =TEXT('Total breakdown'!I54,"0.00%")&" ("&'Total breakdown'!J54&")" -> 93.62% (2) | P28: =TEXT('Total breakdown'!K54,"0.00%")&" ("&'Total breakdown'!L54&")" -> 94.31% (3) | Q28: =TEXT('Total breakdown'!M54,"0.00%")&" ("&'Total breakdown'!N54&")" -> 93.70% (7) | S28: TOTO | T28: 0.9386987 | V28: HC | W28: 0.001047464
B29: Basketball | C29: 0.1 | K29: BetCity | L29: =TEXT('Total breakdown'!C55,"0.00%")&" ("&'Total breakdown'!D55&")" -> 93.94% (12) | M29: =TEXT('Total breakdown'!E55,"0.00%")&" ("&'Total breakdown'!F55&")" -> 82.81% (9) | N29: =TEXT('Total breakdown'!G55,"0.00%")&" ("&'Total breakdown'!H55&")" -> 93.52% (12) | O29: =TEXT('Total breakdown'!I55,"0.00%")&" ("&'Total breakdown'!J55&")" -> 92.63% (10) | P29: =TEXT('Total breakdown'!K55,"0.00%")&" ("&'Total breakdown'!L55&")" -> 93.31% (11) | Q29: =TEXT('Total breakdown'!M55,"0.00%")&" ("&'Total breakdown'!N55&")" -> 93.11% (11) | S29: Unibet | T29: 0.93845882 | V29: Bet365 | W29: 0.00096452864
B30: Darts | C30: 0.1 | K30: Unibet | L30: =TEXT('Total breakdown'!C56,"0.00%")&" ("&'Total breakdown'!D56&")" -> 94.63% (4) | M30: =TEXT('Total breakdown'!E56,"0.00%")&" ("&'Total breakdown'!F56&")" -> 83.87% (5) | N30: =TEXT('Total breakdown'!G56,"0.00%")&" ("&'Total breakdown'!H56&")" -> 94.07% (3) | O30: =TEXT('Total breakdown'!I56,"0.00%")&" ("&'Total breakdown'!J56&")" -> 93.62% (2) | P30: =TEXT('Total breakdown'!K56,"0.00%")&" ("&'Total breakdown'!L56&")" -> 94.31% (3) | Q30: =TEXT('Total breakdown'!M56,"0.00%")&" ("&'Total breakdown'!N56&")" -> 93.85% (3) | S30: Bet365 | T30: 0.93826453 | V30: Unibet | W30: -0.0010411832
K31: Leovegas | L31: =TEXT('Total breakdown'!C57,"0.00%")&" ("&'Total breakdown'!D57&")" -> 93.40% (14) | M31: =TEXT('Total breakdown'!E57,"0.00%")&" ("&'Total breakdown'!F57&")" -> 82.81% (10) | N31: =TEXT('Total breakdown'!G57,"0.00%")&" ("&'Total breakdown'!H57&")" -> 92.28% (16) | O31: =TEXT('Total breakdown'!I57,"0.00%")&" ("&'Total breakdown'!J57&")" -> 91.32% (14) | P31: =TEXT('Total breakdown'!K57,"0.00%")&" ("&'Total breakdown'!L57&")" -> 93.00% (14) | Q31: =TEXT('Total breakdown'!M57,"0.00%")&" ("&'Total breakdown'!N57&")" -> 92.40% (15) | S31: Bingoal | T31: 0.93822886 | V31: Jacks | W31: -0.0014635016
K32: betMGM | L32: =TEXT('Total breakdown'!C58,"0.00%")&" ("&'Total breakdown'!D58&")" -> 94.50% (7) | M32: =TEXT('Total breakdown'!E58,"0.00%")&" ("&'Total breakdown'!F58&")" -> 84.08% (4) | N32: =TEXT('Total breakdown'!G58,"0.00%")&" ("&'Total breakdown'!H58&")" -> 94.07% (3) | O32: =TEXT('Total breakdown'!I58,"0.00%")&" ("&'Total breakdown'!J58&")" -> 93.62% (2) | P32: =TEXT('Total breakdown'!K58,"0.00%")&" ("&'Total breakdown'!L58&")" -> 94.31% (3) | Q32: =TEXT('Total breakdown'!M58,"0.00%")&" ("&'Total breakdown'!N58&")" -> 93.79% (6) | S32: betMGM | T32: 0.93785349 | V32: BetCity | W32: -0.0027336689
B33: Data points | K33: 711 | L33: =TEXT('Total breakdown'!C59,"0.00%")&" ("&'Total breakdown'!D59&")" -> 95.26% (1) | M33: =TEXT('Total breakdown'!E59,"0.00%")&" ("&'Total breakdown'!F59&")" -> 84.78% (2) | N33: =TEXT('Total breakdown'!G59,"0.00%")&" ("&'Total breakdown'!H59&")" -> 94.07% (3) | O33: =TEXT('Total breakdown'!I59,"0.00%")&" ("&'Total breakdown'!J59&")" -> 93.62% (2) | P33: =TEXT('Total breakdown'!K59,"0.00%")&" ("&'Total breakdown'!L59&")" -> 94.31% (3) | Q33: =TEXT('Total breakdown'!M59,"0.00%")&" ("&'Total breakdown'!N59&")" -> 94.24% (1) | S33: Jacks | T33: 0.9370365 | V33: LSbet | W33: -0.0032275241
K34: Bingoal | L34: =TEXT('Total breakdown'!C60,"0.00%")&" ("&'Total breakdown'!D60&")" -> 94.52% (6) | M34: =TEXT('Total breakdown'!E60,"0.00%")&" ("&'Total breakdown'!F60&")" -> 84.62% (3) | N34: =TEXT('Total breakdown'!G60,"0.00%")&" ("&'Total breakdown'!H60&")" -> 94.07% (3) | O34: =TEXT('Total breakdown'!I60,"0.00%")&" ("&'Total breakdown'!J60&")" -> 93.62% (2) | P34: =TEXT('Total breakdown'!K60,"0.00%")&" ("&'Total breakdown'!L60&")" -> 94.31% (3) | Q34: =TEXT('Total breakdown'!M60,"0.00%")&" ("&'Total breakdown'!N60&")" -> 93.82% (5) | S34: BetNation | T34: 0.93594546 | V34: TOTO | W34: -0.0038013009
B35: Total data points | C35: =(96*16)+(64*4)+(80*2)+(64*2)+(64+16) -> 2160 | K35: LSbet | L35: =TEXT('Total breakdown'!C61,"0.00%")&" ("&'Total breakdown'!D61&")" -> 92.87% (15) | M35: =TEXT('Total breakdown'!E61,"0.00%")&" ("&'Total breakdown'!F61&")" -> 82.38% (13) | N35: =TEXT('Total breakdown'!G61,"0.00%")&" ("&'Total breakdown'!H61&")" -> 93.47% (14) | O35: =TEXT('Total breakdown'!I61,"0.00%")&" ("&'Total breakdown'!J61&")" -> 92.63% (10) | P35: =TEXT('Total breakdown'!K61,"0.00%")&" ("&'Total breakdown'!L61&")" -> 93.83% (9) | Q35: =TEXT('Total breakdown'!M61,"0.00%")&" ("&'Total breakdown'!N61&")" -> 92.54% (14) | S35: ComeOn | T35: 0.93312909 | V35: Zebet | W35: -0.0070936011
K36: TOTO | L36: =TEXT('Total breakdown'!C62,"0.00%")&" ("&'Total breakdown'!D62&")" -> 94.89% (2) | M36: =TEXT('Total breakdown'!E62,"0.00%")&" ("&'Total breakdown'!F62&")" -> 83.60% (7) | N36: =TEXT('Total breakdown'!G62,"0.00%")&" ("&'Total breakdown'!H62&")" -> 93.97% (9) | O36: =TEXT('Total breakdown'!I62,"0.00%")&" ("&'Total breakdown'!J62&")" -> 92.00% (13) | P36: =TEXT('Total breakdown'!K62,"0.00%")&" ("&'Total breakdown'!L62&")" -> 95.05% (1) | Q36: =TEXT('Total breakdown'!M62,"0.00%")&" ("&'Total breakdown'!N62&")" -> 93.87% (2) | S36: Vbet | T36: 0.93148244 | V36: Circus | W36: -0.0071008641
B37: Missing data points | C37: Football | D37: F1 | E37: Tennis | F37: Basket | G37: darts | H37: Total | K37: HC | L37: =TEXT('Total breakdown'!C63,"0.00%")&" ("&'Total breakdown'!D63&")" -> 93.58% (13) | M37: =TEXT('Total breakdown'!E63,"0.00%")&" ("&'Total breakdown'!F63&")" -> 81.58% (14) | N37: =TEXT('Total breakdown'!G63,"0.00%")&" ("&'Total breakdown'!H63&")" -> 93.80% (10) | O37: =TEXT('Total breakdown'!I63,"0.00%")&" ("&'Total breakdown'!J63&")" -> 93.19% (8) | P37: =TEXT('Total breakdown'!K63,"0.00%")&" ("&'Total breakdown'!L63&")" -> 93.06% (13) | Q37: =TEXT('Total breakdown'!M63,"0.00%")&" ("&'Total breakdown'!N63&")" -> 92.93% (12) | S37: BetCity | T37: 0.93106633 | V37: Vbet | W37: -0.0098175563
B38: Bet365 | C38: 0 | D38: 1 | E38: 0 | F38: 1 | G38: 0 | H38: =SUM(C38:G38) -> 2 | K38: Zebet | L38: =TEXT('Total breakdown'!C64,"0.00%")&" ("&'Total breakdown'!D64&")" -> 92.50% (16) | M38: =TEXT('Total breakdown'!E64,"0.00%")&" ("&'Total breakdown'!F64&")" -> 80.70% (15) | N38: =TEXT('Total breakdown'!G64,"0.00%")&" ("&'Total breakdown'!H64&")" -> 94.29% (1) | O38: =TEXT('Total breakdown'!I64,"0.00%")&" ("&'Total breakdown'!J64&")" -> 89.02% (16) | P38: =TEXT('Total breakdown'!K64,"0.00%")&" ("&'Total breakdown'!L64&")" -> 93.50% (10) | Q38: =TEXT('Total breakdown'!M64,"0.00%")&" ("&'Total breakdown'!N64&")" -> 92.02% (16) | S38: HC | T38: 0.92934746 | V38: 711 | W38: N/A
B39: Jacks | C39: 0 | D39: 0 | E39: 0 | F39: 0 | G39: 0 | H39: =SUM(C39:G39) -> 0 | K39: Circus | L39: =TEXT('Total breakdown'!C65,"0.00%")&" ("&'Total breakdown'!D65&")" -> 94.20% (11) | M39: =TEXT('Total breakdown'!E65,"0.00%")&" ("&'Total breakdown'!F65&")" -> 83.25% (8) | N39: =TEXT('Total breakdown'!G65,"0.00%")&" ("&'Total breakdown'!H65&")" -> 93.02% (15) | O39: =TEXT('Total breakdown'!I65,"0.00%")&" ("&'Total breakdown'!J65&")" -> 89.16% (15) | P39: =TEXT('Total breakdown'!K65,"0.00%")&" ("&'Total breakdown'!L65&")" -> 94.00% (8) | Q39: =TEXT('Total breakdown'!M65,"0.00%")&" ("&'Total breakdown'!N65&")" -> 92.89% (13) | S39: Circus | T39: 0.92889914 | V39: betMGM | W39: N/A
B40: BetCity | C40: 0 | D40: 0 | E40: 0 | F40: 0 | G40: 0 | H40: =SUM(C40:G40) -> 0 | K40: Vbet | L40: =TEXT('Total breakdown'!C66,"0.00%")&" ("&'Total breakdown'!D66&")" -> 94.47% (8) | M40: =TEXT('Total breakdown'!E66,"0.00%")&" ("&'Total breakdown'!F66&")" -> 74.77% (16) | N40: =TEXT('Total breakdown'!G66,"0.00%")&" ("&'Total breakdown'!H66&")" -> 93.69% (11) | O40: =TEXT('Total breakdown'!I66,"0.00%")&" ("&'Total breakdown'!J66&")" -> 92.40% (12) | P40: =TEXT('Total breakdown'!K66,"0.00%")&" ("&'Total breakdown'!L66&")" -> 94.71% (2) | Q40: =TEXT('Total breakdown'!M66,"0.00%")&" ("&'Total breakdown'!N66&")" -> 93.15% (10) | S40: LSbet | T40: 0.92537248 | V40: BetNation | W40: N/A
B41: Unibet | C41: 0 | D41: 0 | E41: 0 | F41: 0 | G41: 0 | H41: =SUM(C41:G41) -> 0 | K41: ComeOn | L41: =TEXT('Total breakdown'!C67,"0.00%")&" ("&'Total breakdown'!D67&")" -> 94.20% (10) | M41: =TEXT('Total breakdown'!E67,"0.00%")&" ("&'Total breakdown'!F67&")" -> 82.62% (11) | N41: =TEXT('Total breakdown'!G67,"0.00%")&" ("&'Total breakdown'!H67&")" -> 94.03% (8) | O41: =TEXT('Total breakdown'!I67,"0.00%")&" ("&'Total breakdown'!J67&")" -> 93.12% (9) | P41: =TEXT('Total breakdown'!K67,"0.00%")&" ("&'Total breakdown'!L67&")" -> 92.54% (16) | Q41: =TEXT('Total breakdown'!M67,"0.00%")&" ("&'Total breakdown'!N67&")" -> 93.31% (9) | S41: Leovegas | T41: 0.92400364 | V41: ComeOn | W41: N/A
B42: Leovegas | C42: 0 | D42: 0 | E42: 0 | F42: 0 | G42: 0 | H42: =SUM(C42:G42) -> 0 | K42: BetNation | L42: =TEXT('Total breakdown'!C68,"0.00%")&" ("&'Total breakdown'!D68&")" -> 94.67% (3) | M42: =TEXT('Total breakdown'!E68,"0.00%")&" ("&'Total breakdown'!F68&")" -> 82.57% (12) | N42: =TEXT('Total breakdown'!G68,"0.00%")&" ("&'Total breakdown'!H68&")" -> 94.07% (2) | O42: =TEXT('Total breakdown'!I68,"0.00%")&" ("&'Total breakdown'!J68&")" -> 93.22% (7) | P42: =TEXT('Total breakdown'!K68,"0.00%")&" ("&'Total breakdown'!L68&")" -> 92.59% (15) | Q42: =TEXT('Total breakdown'!M68,"0.00%")&" ("&'Total breakdown'!N68&")" -> 93.59% (8) | S42: Zebet | T42: 0.9202064 | V42: Leovegas | W42: N/A
B43: betMGM | C43: 0 | D43: 0 | E43: 0 | F43: 0 | G43: 0 | H43: =SUM(C43:G43) -> 0
B44: 711 | C44: 0 | D44: 0 | E44: 0 | F44: 0 | G44: 0 | H44: =SUM(C44:G44) -> 0
B45: Bingoal | C45: 0 | D45: 0 | E45: 0 | F45: 0 | G45: 0 | H45: =SUM(C45:G45) -> 0
B46: LSbet | C46: 0 | D46: 0 | E46: 0 | F46: 0 | G46: 0 | H46: =SUM(C46:G46) -> 0
B47: TOTO | C47: 0 | D47: 0 | E47: 1 | F47: 1 | G47: 3 | H47: =SUM(C47:G47) -> 5
B48: HC | C48: 0 | D48: 1 | E48: 1 | F48: 0 | G48: 4 | H48: =SUM(C48:G48) -> 6
B49: Zebet | C49: 0 | D49: 1 | E49: 4 | F49: 0 | G49: 6 | H49: =SUM(C49:G49) -> 11
B50: Circus | C50: 0 | D50: 0 | E50: 0 | F50: 2 | G50: 1 | H50: =SUM(C50:G50) -> 3
B51: Vbet | C51: 0 | D51: 2 | E51: 0 | F51: 1 | G51: 4 | H51: =SUM(C51:G51) -> 7
B52: ComeOn | C52: 0 | D52: 0 | E52: 0 | F52: 0 | G52: 0 | H52: =SUM(C52:G52) -> 0
B53: BetNation | C53: 0 | D53: 0 | E53: 0 | F53: 0 | G53: 0 | H53: =SUM(C53:G53) -> 0
B56: Bookmaker | C56: Availability
B57: Bet365 | C57: =1-(H38/$C$35) -> 0.99907407
B58: Jacks | C58: =1-(H39/$C$35) -> 1
B59: BetCity | C59: =1-(H40/$C$35) -> 1
B60: Unibet | C60: =1-(H41/$C$35) -> 1
B61: Leovegas | C61: =1-(H42/$C$35) -> 1
B62: betMGM | C62: =1-(H43/$C$35) -> 1
B63: 711 | C63: =1-(H44/$C$35) -> 1
B64: Bingoal | C64: =1-(H45/$C$35) -> 1
B65: LSbet | C65: =1-(H46/$C$35) -> 1
B66: TOTO | C66: =1-(H47/$C$35) -> 0.99768519
B67: HC | C67: =1-(H48/$C$35) -> 0.99722222
B68: Zebet | C68: =1-(H49/$C$35) -> 0.99490741
... B72: BetNation | C72: =1-(H53/$C$35) -> 1

Sheet Data - Football pre-match
B1: Football | C1: Bet365 | D1: Jacks | E1: BetCity | F1: Unibet | G1: Leovegas | H1: betMGM | I1: 711 | J1: Bingoal | K1: LSbet | L1: TOTO | M1: HC | N1: Zebet | O1: Circus | P1: Vbet | Q1: ComeOn | R1: BetNation
B2: Eredivisie
B3: 1x2 | C3: 0.9755 | D3: 0.9679 | E3: 0.9679 | F3: 0.9754 | G3: 0.9679 | H3: 0.9679 | I3: 0.9856 | J3: 0.9679 | K3: 0.9306 | L3: 0.9725 | M3: 0.9627 | N3: 0.9025 | O3: 0.9609 | P3: 0.9521 | Q3: 0.9477 | R3: 0.9594 | T3: Almere vs Groningen (31/08)
B4: Draw no bet | C4: 0.9375 | D4: 0.9469 | E4: 0.9469 | F4: 0.9469 | G4: 0.9469 | H4: 0.9469 | I4: 0.9469 | J4: 0.9469 | K4: 0.9469 | L4: 0.9512 | M4: 0.926 | N4: 0.8766 | O4: 0.9444 | P4: 0.9275 | Q4: 0.934 | R4: 0.9444
B5: Both teams to score | C5: 0.9293 | D5: 0.9204 | E5: 0.9204 | F5: 0.9204 | G5: 0.9204 | H5: 0.9204 | I5: 0.9204 | J5: 0.9204 | K5: 0.9104 | L5: 0.9424 | M5: 0.9293 | N5: 0.8795 | O5: 0.9424 | P5: 0.9395 | Q5: 0.9323 | R5: 0.9374
B6: Over/under goals | C6: 0.9493 | D6: 0.95 | E6: 0.95 | F6: 0.95 | G6: 0.95 | H6: 0.95 | I6: 0.983 | J6: 0.95 | K6: 0.9075 | L6: 0.9523 | M6: 0.9395 | N6: 0.8893 | O6: 0.9473 | P6: 0.9517 | Q6: 0.9323 | R6: 0.9349
B7: Over/under team goals | C7: 0.9247 | D7: 0.924 | E7: 0.924 | F7: 0.924 | G7: 0.924 | H7: 0.924 | I7: 0.924 | J7: 0.924 | K7: 0.924 | L7: 0.9263 | M7: 0.9293 | N7: 0.8807 | O7: 0.9172 | P7: 0.9311 | Q7: 0.9233 | R7: 0.9233
B8: Winner Half-Time | C8: 0.9362 | D8: 0.9231 | E8: 0.9231 | F8: 0.9231 | G8: 0.9231 | H8: 0.9231 | I8: 0.9231 | J8: 0.9231 | K8: 0.9092 | L8: 0.9241 | M8: 0.8983 | N8: 0.8839 | O8: 0.9055 | P8: 0.9168 | Q8: 0.9165 | R8: 0.9206
B9: Premier League
B10: 1x2 | C10: 0.9736 | D10: 0.9662 | E10: 0.9771 | F10: 0.9831 | G10: 0.9662 | H10: 0.9771 | I10: 0.9867 | J10: 0.9771 | K10: 0.9492 | L10: 0.9512 | M10: 0.9609 | N10: 0.9382 | O10: 0.9721 | P10: 0.9516 | Q10: 0.9586 | R10: 0.9586 | T10: Everton vs Bournemouth (31/08)
B11: Draw no bet | C11: 0.9247 | D11: 0.9483 | E11: 0.9483 | F11: 0.9483 | G11: 0.9483 | H11: 0.9483 | I11: 0.9483 | J11: 0.9483 | K11: 0.9483 | L11: 0.9474 | M11: 0.9223 | N11: 0.8777 | O11: 0.9418 | P11: 0.939 | Q11: 0.9468 | R11: 0.9518
B12: Both teams to score | C12: 0.9297 | D12: 0.9215 | E12: 0.9215 | F12: 0.9215 | G12: 0.9215 | H12: 0.9215 | I12: 0.9215 | J12: 0.9215 | K12: 0.9215 | L12: 0.9364 | M12: 0.924 | N12: 0.8891 | O12: 0.9435 | P12: 0.9399 | Q12: 0.9461 | R12: 0.9575
B13: Over/under goals | C13: 0.95 | D13: 0.9456 | E13: 0.9456 | F13: 0.9456 | G13: 0.9456 | H13: 0.9456 | I13: 0.9841 | J13: 0.9456 | K13: 0.9301 | L13: 0.9449 | M13: 0.9446 | N13: 0.8893 | O13: 0.9473 | P13: 0.9522 | Q13: 0.9548 | R13: 0.9548
B14: Over/under team goals | C14: 0.9271 | D14: 0.9161 | E14: 0.9161 | F14: 0.9161 | G14: 0.9161 | H14: 0.9161 | I14: 0.9161 | J14: 0.9161 | K14: 0.9161 | L14: 0.9358 | M14: 0.9251 | N14: 0.8798 | O14: 0.9093 | P14: 0.9263 | Q14: 0.9312 | R14: 0.9351
B15: Winner Half-Time | C15: 0.9329 | D15: 0.9212 | E15: 0.9212 | F15: 0.9212 | G15: 0.9212 | H15: 0.9212 | I15: 0.9212 | J15: 0.9212 | K15: 0.9212 | L15: 0.938 | M15: 0.8951 | N15: 0.8802 | O15: 0.918 | P15: 0.9169 | Q15: 0.9335 | R15: 0.9403
B16: LaLiga
B17: 1x2 | C17: 0.9714 | D17: 0.9461 | E17: 0.9705 | F17: 0.9705 | G17: 0.9461 | H17: 0.9705 | I17: 0.983 | J17: 0.9705 | K17: 0.9461 | L17: 0.9763 | M17: 0.9578 | N17: 0.9368 | O17: 0.9578 | P17: 0.9661 | Q17: 0.9487 | R17: 0.9487
B18: Draw no bet | C18: 0.915 | D18: 0.9456 | E18: 0.9456 | F18: 0.9456 | G18: 0.9456 | H18: 0.9456 | I18: 0.9456 | J18: 0.9456 | K18: 0.9456 | L18: 0.9523 | M18: 0.9207 | N18: 0.8773 | O18: 0.9448 | P18: 0.9599 | Q18: 0.9448 | R18: 0.9448 | T18: Athletic Bilbao vs Atletico Madrid (31/08)
B19: Both teams to score | C19: 0.936 | D19: 0.9233 | E19: 0.9233 | F19: 0.9233 | G19: 0.9233 | H19: 0.9233 | I19: 0.9233 | J19: 0.9233 | K19: 0.9233 | L19: 0.942 | M19: 0.9264 | N19: 0.8822 | O19: 0.942 | P19: 0.9593 | Q19: 0.947 | R19: 0.952
B20: Over/under goals | C20: 0.9455 | D20: 0.9441 | E20: 0.9441 | F20: 0.9441 | G20: 0.9441 | H20: 0.9441 | I20: 0.9844 | J20: 0.9441 | K20: 0.929 | L20: 0.9435 | M20: 0.9395 | N20: 0.8831 | O20: 0.9455 | P20: 0.9516 | Q20: 0.9506 | R20: 0.9506
B21: Over/under team goals | C21: 0.9293 | D21: 0.9263 | E21: 0.9263 | F21: 0.9263 | G21: 0.9263 | H21: 0.9263 | I21: 0.9263 | J21: 0.9263 | K21: 0.9263 | L21: 0.9414 | M21: 0.9215 | N21: 0.8734 | O21: 0.8762 | P21: 0.9434 | Q21: 0.9226 | R21: 0.9267
B22: Winner Half-Time | C22: 0.9178 | D22: 0.9194 | E22: 0.9194 | F22: 0.9194 | G22: 0.9194 | H22: 0.9194 | I22: 0.9194 | J22: 0.9194 | K22: 0.9076 | L22: 0.9237 | M22: 0.8927 | N22: 0.8772 | O22: 0.9101 | P22: 0.9364 | Q22: 0.9301 | R22: 0.9301
B23: Serie A
B24: 1x2 | C24: 0.9784 | D24: 0.9704 | E24: 0.9704 | F24: 0.9704 | G24: 0.9508 | H24: 0.9704 | I24: 0.9834 | J24: 0.9704 | K24: 0.9407 | L24: 0.9683 | M24: 0.9657 | N24: 0.9635 | O24: 0.9612 | P24: 0.9551 | Q24: 0.9495 | R24: 0.9508 | T24: Juventus vs As Roma (01/09)
B25: Draw no bet | C25: 0.9372 | D25: 0.9445 | E25: 0.9445 | F25: 0.9445 | G25: 0.9445 | H25: 0.9445 | I25: 0.9445 | J25: 0.9445 | K25: 0.9445 | L25: 0.9547 | M25: 0.9254 | N25: 0.9152 | O25: 0.9417 | P25: 0.9277 | Q25: 0.9427 | R25: 0.9427
B26: Both teams to score | C26: 0.936 | D26: 0.9239 | E26: 0.9239 | F26: 0.9239 | G26: 0.9239 | H26: 0.9239 | I26: 0.9239 | J26: 0.9239 | K26: 0.9239 | L26: 0.9417 | M26: 0.9207 | N26: 0.9293 | O26: 0.9417 | P26: 0.9448 | Q26: 0.9467 | R26: 0.9517
B27: Over/under goals | C27: 0.9474 | D27: 0.9494 | E27: 0.9494 | F27: 0.9494 | G27: 0.9494 | H27: 0.9494 | I27: 0.9864 | J27: 0.9494 | K27: 0.9302 | L27: 0.944 | M27: 0.9474 | N27: 0.9518 | O27: 0.949 | P27: 0.9512 | Q27: 0.9412 | R27: 0.9512
B28: Over/under team goals | C28: 0.915 | D28: 0.9204 | E28: 0.9204 | F28: 0.9204 | G28: 0.9204 | H28: 0.9204 | I28: 0.9204 | J28: 0.9204 | K28: 0.9204 | L28: 0.9422 | M28: 0.9243 | N28: 0.9273 | O28: 0.9198 | P28: 0.9343 | Q28: 0.9248 | R28: 0.9248
B29: Winner Half-Time | C29: 0.9335 | D29: 0.9216 | E29: 0.9216 | F29: 0.9216 | G29: 0.9216 | H29: 0.9216 | I29: 0.9216 | J29: 0.9216 | K29: 0.9118 | L29: 0.9217 | M29: 0.8917 | N29: 0.9269 | O29: 0.9102 | P29: 0.9205 | Q29: 0.9318 | R29: 0.9318
B30: Bundesliga
B31: 1x2 | C31: 0.9756 | D31: 0.9715 | E31: 0.9715 | F31: 0.9715 | G31: 0.9544 | H31: 0.9591 | I31: 0.9896 | J31: 0.9715 | K31: 0.942 | L31: 0.9515 | M31: 0.9609 | N31: 0.9639 | O31: 0.9691 | P31: 0.9532 | Q31: 0.9511 | R31: 0.9511 | T31: Heidenheim vs Augsburg (01/09)
B32: Draw no bet | C32: 0.9247 | D32: 0.9499 | E32: 0.9499 | F32: 0.9499 | G32: 0.9499 | H32: 0.9499 | I32: 0.9499 | J32: 0.9499 | K32: 0.9499 | L32: 0.9527 | M32: 0.9268 | N32: 0.9311 | O32: 0.9434 | P32: 0.9377 | Q32: 0.9434 | R32: 0.9434
B33: Both teams to score | C33: 0.9297 | D33: 0.9213 | E33: 0.9213 | F33: 0.9213 | G33: 0.9213 | H33: 0.9213 | I33: 0.9213 | J33: 0.9213 | K33: 0.899 | L33: 0.9385 | M33: 0.9263 | N33: 0.9263 | O33: 0.9419 | P33: 0.9351 | Q33: 0.9488 | R33: 0.9522
B34: Over/under goals | C34: 0.9455 | D34: 0.9465 | E34: 0.9465 | F34: 0.9465 | G34: 0.9465 | H34: 0.9465 | I34: 0.987 | J34: 0.9465 | K34: 0.9302 | L34: 0.939 | M34: 0.9387 | N34: 0.9527 | O34: 0.949 | P34: 0.9506 | Q34: 0.9506 | R34: 0.9506
B35: Over/under team goals | C35: 0.9081 | D35: 0.9233 | E35: 0.9233 | F35: 0.9233 | G35: 0.9233 | H35: 0.9233 | I35: 0.9233 | J35: 0.9233 | K35: 0.9233 | L35: 0.9364 | M35: 0.924 | N35: 0.9274 | O35: 0.9333 | P35: 0.9298 | Q35: 0.9243 | R35: 0.9263
B36: Winner Half-Time | C36: 0.9213 | D36: 0.9214 | E36: 0.9214 | F36: 0.9214 | G36: 0.9214 | H36: 0.9214 | I36: 0.9214 | J36: 0.9214 | K36: 0.9096 | L36: 0.9213 | M36: 0.8909 | N36: 0.9276 | O36: 0.9187 | P36: 0.8977 | Q36: 0.931 | R36: 0.931
B37: Jupiler Pro league
B38: 1x2 | C38: 0.9412 | D38: 0.9477 | E38: 0.9477 | F38: 0.9575 | G38: 0.9307 | H38: 0.9477 | I38: 0.9477 | J38: 0.9477 | K38: 0.9243 | L38: 0.9343 | M38: 0.9375 | N38: 0.9618 | O38: 0.9719 | P38: 0.909 | Q38: 0.9282 | R38: 0.9385 | T38: Gent vs Antwerp (01.09)
B39: Draw no bet | C39: 0.915 | D39: 0.944 | E39: 0.944 | F39: 0.944 | G39: 0.944 | H39: 0.944 | I39: 0.944 | J39: 0.944 | K39: 0.944 | L39: 0.9546 | M39: 0.9207 | N39: 0.927 | O39: 0.9443 | P39: 0.9249 | Q39: 0.9393 | R39: 0.9393
B40: Both teams to score | C40: 0.9297 | D40: 0.9366 | E40: 0.9366 | F40: 0.9366 | G40: 0.9366 | H40: 0.9366 | I40: 0.9366 | J40: 0.9366 | K40: 0.9366 | L40: 0.9385 | M40: 0.9178 | N40: 0.9297 | O40: 0.9436 | P40: 0.9246 | Q40: 0.9385 | R40: 0.9436
B41: Over/under goals | C41: 0.9394 | D41: 0.9525 | E41: 0.9525 | F41: 0.9525 | G41: 0.9192 | H41: 0.9525 | I41: 0.9525 | J41: 0.9525 | K41: 0.9294 | L41: 0.9382 | M41: 0.9477 | N41: 0.9541 | O41: 0.9441 | P41: 0.9231 | Q41: 0.9311 | R41: 0.9332
B42: Over/under team goals | C42: 0.9297 | D42: 0.9392 | E42: 0.9392 | F42: 0.9392 | G42: 0.9392 | H42: 0.9392 | I42: 0.9392 | J42: 0.9392 | K42: 0.9392 | L42: 0.9429 | M42: 0.9222 | N42: 0.9271 | O42: 0.9275 | P42: 0.9243 | Q42: 0.9188 | R42: 0.9206
B43: Winner Half-Time | C43: 0.926 | D43: 0.9137 | E43: 0.9137 | F43: 0.9137 | G43: 0.9137 | H43: 0.9137 | I43: 0.9137 | J43: 0.9137 | K43: 0.9137 | L43: 0.9265 | M43: 0.892 | N43: 0.9221 | O43: 0.9187 | P43: 0.8837 | Q43: 0.9109 | R43: 0.9204
B44: Nederlandse Eerste Divisie
B45: 1x2 | C45: 0.9691 | D45: 0.9428 | E45: 0.9428 | F45: 0.9428 | G45: 0.9428 | H45: 0.9428 | I45: 0.984 | J45: 0.9428 | K45: 0.898 | L45: 0.9486 | M45: 0.9373 | N45: 0.905 | O45: 0.9429 | P45: 0.9433 | Q45: 0.9274 | R45: 0.9368 | T45: Volendam vs Top Oss (31/08)
B46: Draw no bet | C46: 0.9277 | D46: 0.9244 | E46: 0.9244 | F46: 0.9244 | G46: 0.9244 | H46: 0.9244 | I46: 0.9244 | J46: 0.9244 | K46: 0.9244 | L46: 0.9577 | M46: 0.9244 | N46: 0.8724 | O46: 0.9433 | P46: 0.9184 | Q46: 0.9289 | R46: 0.9311
B47: Both teams to score | C47: 0.9375 | D47: 0.9336 | E47: 0.9336 | F47: 0.9336 | G47: 0.9336 | H47: 0.9336 | I47: 0.9336 | J47: 0.9336 | K47: 0.9336 | L47: 0.9414 | M47: 0.9177 | N47: 0.8743 | O47: 0.9279 | P47: 0.9276 | Q47: 0.9241 | R47: 0.9336
B48: Over/under goals | C48: 0.9344 | D48: 0.9363 | E48: 0.9363 | F48: 0.9363 | G48: 0.9363 | H48: 0.9363 | I48: 0.9863 | J48: 0.9363 | K48: 0.9363 | L48: 0.9414 | M48: 0.9402 | N48: 0.8866 | O48: 0.9081 | P48: 0.9282 | Q48: 0.9178 | R48: 0.923
B49: Over/under team goals | C49: 0.9297 | D49: 0.9294 | E49: 0.9294 | F49: 0.9294 | G49: 0.9294 | H49: 0.9294 | I49: 0.9294 | J49: 0.9294 | K49: 0.9294 | L49: 0.9363 | M49: 0.9222 | N49: 0.877 | O49: 0.9275 | P49: 0.9247 | Q49: 0.9191 | R49: 0.921
B50: Winner Half-Time | C50: 0.9375 | D50: 0.9139 | E50: 0.9139 | F50: 0.9139 | G50: 0.9139 | H50: 0.9139 | I50: 0.9139 | J50: 0.9139 | K50: 0.9139 | L50: 0.9228 | M50: 0.8907 | N50: 0.8825 | O50: 0.9081 | P50: 0.9272 | Q50: 0.8899 | R50: 0.9085
B51: Ligue 1
B52: 1x2 | C52: 0.972 | D52: 0.9536 | E52: 0.9643 | F52: 0.9643 | G52: 0.9536 | H52: 0.9536 | I52: 0.9643 | J52: 0.9536 | K52: 0.9264 | L52: 0.9512 | M52: 0.9638 | N52: 0.962 | O52: 0.968 | P52: 0.9524 | Q52: 0.9485 | R52: 0.9497 | T52: Le Havre vs Auxerre (01/09)
B53: Draw no bet | C53: 0.915 | D53: 0.9523 | E53: 0.9523 | F53: 0.9523 | G53: 0.9523 | H53: 0.9523 | I53: 0.9523 | J53: 0.9523 | K53: 0.9523 | L53: 0.952 | M53: 0.9243 | N53: 0.9296 | O53: 0.942 | P53: 0.9393 | Q53: 0.942 | R53: 0.942
B54: Both teams to score | C54: 0.95 | D54: 0.922 | E54: 0.922 | F54: 0.922 | G54: 0.922 | H54: 0.922 | I54: 0.922 | J54: 0.922 | K54: 0.922 | L54: 0.9448 | M54: 0.9264 | N54: 0.9273 | O54: 0.9448 | P54: 0.9433 | Q54: 0.9472 | R54: 0.9522
B55: Over/under goals | C55: 0.9455 | D55: 0.9494 | E55: 0.9494 | F55: 0.9494 | G55: 0.9494 | H55: 0.9494 | I55: 0.9494 | J55: 0.9494 | K55: 0.9308 | L55: 0.9425 | M55: 0.9395 | N55: 0.9526 | O55: 0.9455 | P55: 0.9483 | Q55: 0.9425 | R55: 0.9425
B56: Over/under team goals | C56: 0.9293 | D56: 0.9203 | E56: 0.9203 | F56: 0.9203 | G56: 0.9203 | H56: 0.9203 | I56: 0.9203 | J56: 0.9203 | K56: 0.9203 | L56: 0.9434 | M56: 0.9246 | N56: 0.927 | O56: 0.8762 | P56: 0.9162 | Q56: 0.9263 | R56: 0.9276
B57: Winner Half-Time | C57: 0.9178 | D57: 0.9122 | E57: 0.9122 | F57: 0.9122 | G57: 0.9122 | H57: 0.9122 | I57: 0.9122 | J57: 0.9122 | K57: 0.9122 | L57: 0.9274 | M57: 0.8964 | N57: 0.9294 | O57: 0.9101 | P57: 0.9156 | Q57: 0.9294 | R57: 0.9294

Sheet Data - Football Live
B1: Football | C1: Bet365 | D1: Jacks | E1: BetCity | F1: Unibet | G1: Leovegas | H1: betMGM | I1: 711 | J1: Bingoal | K1: LSbet | L1: TOTO | M1: HC | N1: Zebet | O1: Circus | P1: Vbet | Q1: ComeOn | R1: BetNation
B2: Eredivisie
B3: 1x2 | C3: 0.9512 | D3: 0.9447 | E3: 0.934 | F3: 0.9447 | G3: 0.9447 | H3: 0.9447 | I3: 0.9447 | J3: 0.9447 | K3: 0.934 | L3: 0.9442 | M3: 0.9367 | N3: 0.9481 | O3: 0.9406 | P3: 0.9378 | Q3: 0.9482 | R3: 0.9594 | T3: Almere vs Groningen (31/08)
B4: Draw no bet | C4: 0.9375 | D4: 0.933 | E4: 0.9189 | F4: 0.933 | G4: 0.9044 | H4: 0.933 | I4: 0.933 | J4: 0.933 | K4: 0.9189 | L4: 0.9433 | M4: 0.9322 | N4: 0.9454 | O4: 0.9358 | P4: 0.9304 | Q4: 0.9366 | R4: 0.9456
B5: Both teams to score | C5: 0.9333 | D5: 0.9336 | E5: 0.9212 | F5: 0.9336 | G5: 0.9102 | H5: 0.9336 | I5: 0.9336 | J5: 0.9336 | K5: 0.9212 | L5: 0.9479 | M5: 0.9286 | N5: 0.9211 | O5: 0.9278 | P5: 0.9354 | Q5: 0.9352 | R5: 0.9378
B6: Over/under goals | C6: 0.9243 | D6: 0.9373 | E6: 0.9278 | F6: 0.9373 | G6: 0.9128 | H6: 0.9373 | I6: 0.9373 | J6: 0.9373 | K6: 0.9278 | L6: 0.9527 | M6: 0.9231 | N6: 0.9336 | O6: 0.9351 | P6: 0.9436 | Q6: 0.9298 | R6: 0.9313
B7: Over/under team goals | C7: 0.9247 | D7: 0.9333 | E7: 0.9239 | F7: 0.9333 | G7: 0.899 | H7: 0.9333 | I7: 0.9333 | J7: 0.9333 | K7: 0.9239 | L7: 0.9525 | M7: 0.9263 | N7: 0.9404 | O7: 0.926 | P7: 0.9351 | Q7: 0.9204 | R7: 0.9311
B8: Winner Half-Time | C8: 0.9345 | D8: 0.9323 | E8: 0.913 | F8: 0.9323 | G8: 0.8949 | H8: 0.9323 | I8: 0.9323 | J8: 0.9323 | K8: 0.913 | L8: 0.9293 | M8: 0.9123 | N8: 0.9229 | O8: 0.9359 | P8: 0.9359 | Q8: 0.9204 | R8: 0.9292
B9: Premier League
B10: 1x2 | C10: 0.9275 | D10: 0.9378 | E10: 0.9218 | F10: 0.9378 | G10: 0.9378 | H10: 0.9378 | I10: 0.9378 | J10: 0.9378 | K10: 0.9218 | L10: 0.9461 | M10: 0.932 | N10: 0.9495 | O10: 0.9373 | P10: 0.9582 | Q10: 0.9565 | R10: 0.9565 | T10: Arsenal vs Brighton (31/08)
B11: Draw no bet | C11: 0.9438 | D11: 0.9459 | E11: 0.9354 | F11: 0.9459 | G11: 0.9248 | H11: 0.9459 | I11: 0.9459 | J11: 0.9459 | K11: 0.9354 | L11: 0.9506 | M11: 0.9354 | N11: 0.9438 | O11: 0.9366 | P11: 0.9471 | Q11: 0.9463 | R11: 0.9463
B12: Both teams to score | C12: 0.95 | D12: 0.935 | E12: 0.9261 | F12: 0.935 | G12: 0.9089 | H12: 0.935 | I12: 0.935 | J12: 0.935 | K12: 0.9261 | L12: 0.9429 | M12: 0.9351 | N12: 0.9263 | O12: 0.9244 | P12: 0.9505 | Q12: 0.9575 | R12: 0.9605
B13: Over/under goals | C13: 0.9471 | D13: 0.9373 | E13: 0.9285 | F13: 0.9373 | G13: 0.9145 | H13: 0.9373 | I13: 0.9373 | J13: 0.9373 | K13: 0.9285 | L13: 0.951 | M13: 0.925 | N13: 0.9373 | O13: 0.926 | P13: 0.965 | Q13: 0.9328 | R13: 0.9456
B14: Over/under team goals | C14: 0.9298 | D14: 0.9471 | E14: 0.9179 | F14: 0.9471 | G14: 0.9015 | H14: 0.9471 | I14: 0.9471 | J14: 0.956 | K14: 0.9179 | L14: 0.9579 | M14: 0.9277 | N14: 0.9494 | O14: 0.925 | P14: 0.9333 | Q14: 0.9299 | R14: 0.9355
B15: Winner Half-Time | C15: 0.9184 | D15: 0.9329 | E15: 0.9089 | F15: 0.928 | G15: 0.8948 | H15: 0.928 | I15: 0.928 | J15: 0.928 | K15: 0.909 | L15: 0.9206 | M15: 0.8999 | N15: 0.9264 | O15: 0.895 | P15: 0.9 | Q15: 0.9318 | R15: 0.9318
B16: LaLiga
B17: 1x2 | C17: 0.9471 | D17: 0.9478 | E17: 0.9392 | F17: 0.9478 | G17: 0.9392 | H17: 0.9478 | I17: 0.9478 | J17: 0.9478 | K17: 0.9392 | L17: 0.9464 | M17: 0.9273 | N17: 0.9474 | O17: 0.9474 | P17: 0.9642 | Q17: 0.9451 | R17: 0.9451 | T17: Sevilla vs Girona (01/09)
B18: Draw no bet | C18: 0.9247 | D18: 0.9351 | E18: 0.9278 | F18: 0.9351 | G18: 0.9105 | H18: 0.9351 | I18: 0.9351 | J18: 0.9351 | K18: 0.9278 | L18: 0.944 | M18: 0.9314 | N18: 0.9474 | O18: 0.936 | P18: 0.9574 | Q18: 0.942 | R18: 0.942
B19: Both teams to score | C19: 0.9271 | D19: 0.9349 | E19: 0.9249 | F19: 0.9349 | G19: 0.9074 | H19: 0.9349 | I19: 0.9349 | J19: 0.9349 | K19: 0.9249 | L19: 0.9474 | M19: 0.9373 | N19: 0.9373 | O19: 0.9243 | P19: 0.9563 | Q19: 0.9418 | R19: 0.9488
B20: Over/under goals | C20: 0.9474 | D20: 0.9343 | E20: 0.9246 | F20: 0.9343 | G20: 0.9072 | H20: 0.9343 | I20: 0.9343 | J20: 0.9343 | K20: 0.9246 | L20: 0.947 | M20: 0.9222 | N20: 0.9351 | O20: 0.9351 | P20: 0.9509 | Q20: 0.9377 | R20: 0.9512
B21: Over/under team goals | C21: 0.9271 | D21: 0.9365 | E21: 0.9221 | F21: 0.9365 | G21: 0.91 | H21: 0.9365 | I21: 0.9365 | J21: 0.9365 | K21: 0.9221 | L21: 0.9494 | M21: 0.9262 | N21: 0.9404 | O21: 0.922 | P21: 0.9333 | Q21: 0.9203 | R21: 0.9203
B22: Winner Half-Time | C22: 0.92 | D22: 0.9354 | E22: 0.9121 | F22: 0.9354 | G22: 0.8966 | H22: 0.9354 | I22: 0.9354 | J22: 0.9354 | K22: 0.9121 | L22: 0.927 | M22: 0.9017 | N22: 0.9333 | O22: 0.9065 | P22: 0.9006 | Q22: 0.9374 | R22: 0.9374
B23: Serie A
B24: 1x2 | C24: 0.9377 | D24: 0.9457 | E24: 0.9353 | F24: 0.9457 | G24: 0.9289 | H24: 0.9457 | I24: 0.9457 | J24: 0.9457 | K24: 0.9353 | L24: 0.9393 | M24: 0.9336 | N24: 0.9543 | O24: 0.9497 | P24: 0.9363 | Q24: 0.9498 | R24: 0.9498 | T24: Fiorentina vs Monza (01/09)
B25: Draw no bet | C25: 0.9375 | D25: 0.9352 | E25: 0.9235 | F25: 0.9352 | G25: 0.9092 | H25: 0.9352 | I25: 0.9352 | J25: 0.9352 | K25: 0.9235 | L25: 0.9395 | M25: 0.9322 | N25: 0.9387 | O25: 0.9244 | P25: 0.9331 | Q25: 0.9522 | R25: 0.9522
B26: Both teams to score | C26: 0.9438 | D26: 0.9348 | E26: 0.924 | F26: 0.9348 | G26: 0.9336 | H26: 0.9348 | I26: 0.9348 | J26: 0.9348 | K26: 0.924 | L26: 0.9419 | M26: 0.9351 | N26: 0.9306 | O26: 0.9304 | P26: 0.9444 | Q26: 0.9586 | R26: 0.9606
B27: Over/under goals | C27: 0.9474 | D27: 0.9363 | E27: 0.929 | F27: 0.9363 | G27: 0.9118 | H27: 0.9363 | I27: 0.9363 | J27: 0.9363 | K27: 0.929 | L27: 0.953 | M27: 0.9231 | N27: 0.9436 | O27: 0.9351 | P27: 0.9469 | Q27: 0.9332 | R27: 0.947
B28: Over/under team goals | C28: 0.9247 | D28: 0.9351 | E28: 0.9256 | F28: 0.9351 | G28: 0.9105 | H28: 0.9351 | I28: 0.9351 | J28: 0.9351 | K28: 0.9256 | L28: 0.9575 | M28: 0.9275 | N28: 0.9373 | O28: 0.9373 | P28: 0.9348 | Q28: 0.9233 | R28: 0.9253
B29: Winner Half-Time | C29: 0.9265 | D29: 0.932 | E29: 0.9103 | F29: 0.932 | G29: 0.8921 | H29: 0.932 | I29: 0.932 | J29: 0.932 | K29: 0.9103 | L29: 0.924 | M29: 0.8987 | N29: 0.924 | O29: 0.9149 | P29: 0.9321 | Q29: 0.935 | R29: 0.935
B30: Bundesliga
B31: 1x2 | C31: 0.9389 | D31: 0.9469 | E31: 0.9403 | F31: 0.9469 | G31: 0.9297 | H31: 0.9469 | I31: 0.9469 | J31: 0.9469 | K31: 0.9403 | L31: 0.9364 | M31: 0.9287 | N31: 0.9534 | O31: 0.9415 | P31: 0.94 | Q31: 0.9488 | R31: 0.9488 | T31: Bochum vs M'gladbach (31/08)
B32: Draw no bet | C32: 0.9271 | D32: 0.9354 | E32: 0.9293 | F32: 0.9354 | G32: 0.9071 | H32: 0.9354 | I32: 0.9354 | J32: 0.9354 | K32: 0.9293 | L32: 0.9382 | M32: 0.939 | N32: 0.9474 | O32: 0.936 | P32: 0.9427 | Q32: 0.9344 | R32: 0.9344
B33: Both teams to score | C33: 0.9375 | D33: 0.9344 | E33: 0.9263 | F33: 0.9344 | G33: 0.9074 | H33: 0.9344 | I33: 0.9344 | J33: 0.9344 | K33: 0.9263 | L33: 0.9429 | M33: 0.9336 | N33: 0.9293 | O33: 0.9189 | P33: 0.9498 | Q33: 0.947 | R33: 0.952
B34: Over/under goals | C34: 0.9444 | D34: 0.9402 | E34: 0.9271 | F34: 0.9402 | G34: 0.9119 | H34: 0.9402 | I34: 0.9402 | J34: 0.9402 | K34: 0.9271 | L34: 0.9556 | M34: 0.9264 | N34: 0.9373 | O34: 0.9243 | P34: 0.9441 | Q34: 0.9392 | R34: 0.9531
B35: Over/under team goals | C35: 0.9271 | D35: 0.9348 | E35: 0.9291 | F35: 0.9348 | G35: 0.91 | H35: 0.9348 | I35: 0.9348 | J35: 0.9348 | K35: 0.9291 | L35: 0.9494 | M35: 0.9263 | N35: 0.9436 | O35: 0.9156 | P35: 0.9304 | Q35: 0.9257 | R35: 0.9311
B36: Winner Half-Time | C36: 0.9276 | D36: 0.9362 | E36: 0.9087 | F36: 0.9362 | G36: 0.8932 | H36: 0.9362 | I36: 0.9362 | J36: 0.9362 | K36: 0.9087 | L36: 0.9198 | M36: 0.9064 | N36: 0.9305 | O36: 0.9137 | P36: 0.9142 | Q36: 0.9315 | R36: 0.9315
B37: Jupiler Pro league
B38: 1x2 | C38: 0.9193 | D38: 0.9432 | E38: 0.9356 | F38: 0.9432 | G38: 0.9162 | H38: 0.9432 | I38: 0.9432 | J38: 0.9432 | K38: 0.9356 | L38: 0.9518 | M38: 0.9288 | N38: 0.9071 | O38: 0.9356 | P38: 0.9095 | Q38: 0.9294 | R38: 0.9363 | T38: Mechelen vs Charleroi (31/08)
B39: Draw no bet | C39: 0.9375 | D39: 0.9337 | E39: 0.9264 | F39: 0.9337 | G39: 0.9063 | H39: 0.9337 | I39: 0.9337 | J39: 0.9337 | K39: 0.9264 | L39: 0.9438 | M39: 0.9286 | N39: 0.9202 | O39: 0.9286 | P39: 0.9235 | Q39: 0.9405 | R39: 0.9405
B40: Both teams to score | C40: 0.9438 | D40: 0.9383 | E40: 0.9294 | F40: 0.9383 | G40: 0.9089 | H40: 0.9383 | I40: 0.9383 | J40: 0.9383 | K40: 0.9294 | L40: 0.9407 | M40: 0.9305 | N40: 0.9176 | O40: 0.9311 | P40: 0.9223 | Q40: 0.9377 | R40: 0.9402
B41: Over/under goals | C41: 0.9247 | D41: 0.9364 | E41: 0.9273 | F41: 0.9364 | G41: 0.9101 | H41: 0.9364 | I41: 0.9364 | J41: 0.9364 | K41: 0.9273 | L41: 0.955 | M41: 0.9223 | N41: 0.9223 | O41: 0.9333 | P41: 0.9232 | Q41: 0.9341 | R41: 0.9373
B42: Over/under team goals | C42: 0.9293 | D42: 0.9389 | E42: 0.9313 | F42: 0.9389 | G42: 0.9118 | H42: 0.9389 | I42: 0.9389 | J42: 0.9389 | K42: 0.9313 | L42: 0.9558 | M42: 0.9222 | N42: 0.924 | O42: 0.9351 | P42: 0.926 | Q42: 0.9157 | R42: 0.9167
B43: Winner Half-Time | C43: 0.9229 | D43: 0.923 | E43: 0.9111 | F43: 0.923 | G43: 0.8956 | H43: 0.923 | I43: 0.923 | J43: 0.923 | K43: 0.9111 | L43: 0.9284 | M43: 0.9011 | N43: 0.9108 | O43: 0.9138 | P43: 0.9099 | Q43: 0.9247 | R43: 0.9347
B44: Nederlandse Eerste Divisie
B45: 1x2 | C45: 0.9306 | D45: 0.9178 | E45: 0.9049 | F45: 0.9178 | G45: 0.8924 | H45: 0.9178 | I45: 0.9178 | J45: 0.9178 | K45: 0.9049 | L45: 0.9406 | M45: 0.9271 | N45: 0.9454 | O45: 0.935 | P45: 0.9418 | Q45: 0.9359 | R45: 0.9463 | T45: Telstar vs Maastricht (08/09)
B46: Draw no bet | C46: 0.9404 | D46: 0.9286 | E46: 0.9159 | F46: 0.9286 | G46: 0.9066 | H46: 0.9286 | I46: 0.9286 | J46: 0.9286 | K46: 0.9159 | L46: 0.935 | M46: 0.935 | N46: 0.9252 | O46: 0.9356 | P46: 0.9387 | Q46: 0.9367 | R46: 0.9463
B47: Both teams to score | C47: 0.9375 | D47: 0.9276 | E47: 0.9183 | F47: 0.9276 | G47: 0.9048 | H47: 0.9276 | I47: 0.9276 | J47: 0.9276 | K47: 0.9183 | L47: 0.9452 | M47: 0.9313 | N47: 0.9041 | O47: 0.9333 | P47: 0.9333 | Q47: 0.9376 | R47: 0.9399
B48: Over/under goals | C48: 0.9297 | D48: 0.946 | E48: 0.9213 | F48: 0.946 | G48: 0.8989 | H48: 0.946 | I48: 0.946 | J48: 0.946 | K48: 0.9213 | L48: 0.9525 | M48: 0.9189 | N48: 0.9333 | O48: 0.925 | P48: 0.9493 | Q48: 0.929 | R48: 0.929
B49: Over/under team goals | C49: 0.9293 | D49: 0.9274 | E49: 0.9213 | F49: 0.9274 | G49: 0.9041 | H49: 0.9274 | I49: 0.9274 | J49: 0.9274 | K49: 0.9213 | L49: 0.951 | M49: 0.9264 | N49: 0.925 | O49: 0.9276 | P49: 0.9336 | Q49: 0.9162 | R49: 0.9213
B50: Winner Half-Time | C50: 0.9287 | D50: 0.9205 | E50: 0.9114 | F50: 0.9205 | G50: 0.8943 | H50: 0.9205 | I50: 0.9205 | J50: 0.9205 | K50: 0.9114 | L50: 0.9334 | M50: 0.899 | N50: 0.9232 | O50: 0.891 | P50: 0.933 | Q50: 0.9095 | R50: 0.9148
B51: Ligue 1
B52: 1x2 | C52: 0.9416 | D52: 0.942 | E52: 0.9323 | F52: 0.942 | G52: 0.9323 | H52: 0.942 | I52: 0.942 | J52: 0.942 | K52: 0.9323 | L52: 0.948 | M52: 0.9353 | N52: 0.9496 | O52: 0.9439 | P52: 0.9424 | Q52: 0.9487 | R52: 0.9487
B53: Draw no bet | C53: 0.9358 | D53: 0.9286 | E53: 0.9159 | F53: 0.9286 | G53: 0.9066 | H53: 0.9286 | I53: 0.9286 | J53: 0.9286 | K53: 0.9159 | L53: 0.9399 | M53: 0.9286 | N53: 0.945 | O53: 0.9404 | P53: 0.9263 | Q53: 0.9529 | R53: 0.9529 | T53: Lille vs PSG (01/09)
B54: Both teams to score | C54: 0.9293 | D54: 0.9496 | E54: 0.92 | F54: 0.9496 | G54: 0.9099 | H54: 0.9496 | I54: 0.9496 | J54: 0.9496 | K54: 0.92 | L54: 0.9399 | M54: 0.9373 | N54: 0.9243 | O54: 0.9243 | P54: 0.9474 | Q54: 0.9427 | R54: 0.9477
B55: Over/under goals | C55: 0.9471 | D55: 0.9373 | E55: 0.9278 | F55: 0.9373 | G55: 0.9128 | H55: 0.9373 | I55: 0.9373 | J55: 0.9373 | K55: 0.9278 | L55: 0.952 | M55: 0.9264 | N55: 0.9474 | O55: 0.9333 | P55: 0.9435 | Q55: 0.9375 | R55: 0.9395
B56: Over/under team goals | C56: 0.9297 | D56: 0.945 | E56: 0.9349 | F56: 0.945 | G56: 0.9199 | H56: 0.945 | I56: 0.945 | J56: 0.945 | K56: 0.9349 | L56: 0.952 | M56: 0.9243 | N56: 0.9493 | O56: 0.9223 | P56: 0.9333 | Q56: 0.9223 | R56: 0.9253
B57: Winner Half-Time | C57: 0.921 | D57: 0.9359 | E57: 0.8985 | F57: 0.9359 | G57: 0.8837 | H57: 0.9359 | I57: 0.9359 | J57: 0.9359 | K57: 0.8985 | L57: 0.9244 | M57: 0.8986 | N57: 0.9298 | O57: 0.9079 | P57: 0.9076 | Q57: 0.9382 | R57: 0.9382

Sheet Data - F1
B2: F1 | C2: Bet365 | D2: Jacks | E2: BetCity | F2: Unibet | G2: Leovegas | H2: betMGM | I2: 711 | J2: Bingoal | K2: LSbet | L2: TOTO | M2: HC | N2: Zebet | O2: Circus | P2: Vbet | Q2: ComeOn | R2: BetNation
B3: Pre-match
B4: Winner | C4: 0.90548038 | D4: 0.86614763 | E4: 0.86614763 | F4: 0.86614763 | G4: 0.86614763 | H4: 0.86614763 | I4: 0.86614763 | J4: 0.86614763 | K4: 0.86614763 | L4: 0.82359353 | M4: 0.8268506 | N4: 0.84788354 | O4: 0.81841574 | P4: 0.73548681 | Q4: 0.80693024 | R4: 0.80693024
B5: Head-to-Head | C5: 0.9247 | D5: 0.9501 | E5: 0.9501 | F5: 0.9501 | G5: 0.9501 | H5: 0.9501 | I5: 0.9501 | J5: 0.9501 | K5: 0.9501 | L5: 0.9347 | M5: X | N5: X | O5: 0.926 | P5: X | Q5: 0.9324 | R5: 0.9324
B6: Team winnaar | C6: X | D6: 0.9043 | E6: 0.9043 | F6: 0.9043 | G6: 0.9043 | H6: 0.9043 | I6: 0.9043 | J6: 0.9043 | K6: 0.9043 | L6: 0.828 | M6: 0.8353 | N6: 0.839 | O6: 0.8181 | P6: X | Q6: 0.8255 | R6: 0.8255
B7: Snelste ronde | C7: 0.80250191 | D7: 0.74193254 | E7: 0.74193254 | F7: 0.74193254 | G7: 0.74193254 | H7: 0.74193254 | I7: 0.74193254 | J7: 0.74193254 | K7: 0.74193254 | L7: 0.78914321 | M7: 0.7184953 | N7: 0.81558005 | O7: 0.79639235 | P7: 0.7673455 | Q7: 0.79026971 | R7: 0.79026971
B8: Live
B9: Winner | C9: 0.8326505 | D9: 0.71923921 | E9: 0.66778922 | F9: 0.72040979 | G9: 0.66735437 | H9: 0.73128072 | I9: 0.7659391 | J9: 0.75808558 | K9: 0.64584746 | L9: 0.83171245 | M9: 0.82080862 | N9: 0.66082323 | O9: 0.83305483 | P9: 0.78069953 | Q9: 0.83077221 | R9: 0.82844045

Sheet Data - Tennis
B2: Tennis | C2: Bet365 | D2: Jacks | E2: BetCity | F2: Unibet | G2: Leovegas | H2: betMGM | I2: 711 | J2: Bingoal | K2: LSbet | L2: TOTO | M2: HC | N2: Zebet | O2: Circus | P2: Vbet | Q2: ComeOn | R2: BetNation
B3: Pre-match Grand slam
B4: Winner | C4: 0.9491 | D4: 0.95 | E4: 0.95 | F4: 0.95 | G4: 0.95 | H4: 0.95 | I4: 0.95 | J4: 0.95 | K4: 0.95 | L4: 0.9491 | M4: 0.9512 | N4: 0.9568 | O4: 0.9444 | P4: 0.9375 | Q4: 0.9601 | R4: 0.9573 | T4: Fritz - Zverev (03/09)
B5: Total Games | C5: 0.9243 | D5: 0.9448 | E5: 0.9448 | F5: 0.9448 | G5: 0.9448 | H5: 0.9448 | I5: 0.9448 | J5: 0.9448 | K5: 0.9398 | L5: 0.9448 | M5: 0.9329 | N5: 0.9623 | O5: 0.945 | P5: 0.9517 | Q5: 0.9398 | R5: 0.9473
B6: Game handicap | C6: 0.915 | D6: 0.9449 | E6: 0.9449 | F6: 0.9449 | G6: 0.9449 | H6: 0.9449 | I6: 0.9449 | J6: 0.9449 | K6: 0.9399 | L6: 0.927 | M6: 0.925 | N6: 0.9296 | O6: 0.9343 | P6: 0.9349 | Q6: 0.937 | R6: 0.947
B7: Total games in set | C7: 0.9375 | D7: 0.9381 | E7: 0.9381 | F7: 0.9381 | G7: 0.9381 | H7: 0.9381 | I7: 0.9381 | J7: 0.9381 | K7: 0.9381 | L7: 0.9456 | M7: 0.9375 | N7: 0.8923 | O7: 0.9096 | P7: 0.9198 | Q7: 0.9403 | R7: 0.9498
B8: Live grand slam
B9: Winner | C9: 0.9471 | D9: 0.9472 | E9: 0.9431 | F9: 0.9472 | G9: 0.926 | H9: 0.9472 | I9: 0.9472 | J9: 0.9472 | K9: 0.9431 | L9: 0.9444 | M9: 0.9416 | N9: 0.9519 | O9: 0.9418 | P9: 0.9435 | Q9: 0.9484 | R9: 0.947 | T9: Draper vs De Minaur (04/09)
B10: Total Games | C10: 0.9243 | D10: 0.935 | E10: 0.925 | F10: 0.935 | G10: 0.9093 | H10: 0.935 | I10: 0.935 | J10: 0.935 | K10: 0.925 | L10: 0.9348 | M10: 0.9329 | N10: 0.9373 | O10: 0.9 | P10: 0.9517 | Q10: 0.937 | R10: 0.942
B11: Game handicap | C11: 0.915 | D11: 0.9346 | E11: 0.9256 | F11: 0.9346 | G11: 0.9075 | H11: 0.9346 | I11: 0.9346 | J11: 0.9346 | K11: 0.9256 | L11: 0.927 | M11: 0.936 | N11: 0.925 | O11: 0.9172 | P11: 0.9517 | Q11: 0.937 | R11: 0.942
B12: Total games in set | C12: 0.915 | D12: 0.9344 | E12: 0.9276 | F12: 0.9344 | G12: 0.9105 | H12: 0.9344 | I12: 0.9344 | J12: 0.9344 | K12: 0.9276 | L12: X | M12: 0.9429 | N12: 0.9304 | O12: 0.9199 | P12: 0.9333 | Q12: 0.94 | R12: 0.945
B13: Pre-match challenger
B14: Winner | C14: 0.915 | D14: 0.9417 | E14: 0.9417 | F14: 0.9417 | G14: 0.9417 | H14: 0.9417 | I14: 0.9417 | J14: 0.9417 | K14: 0.9317 | L14: 0.9425 | M14: 0.9329 | N14: 0.9025 | O14: 0.9275 | P14: 0.9243 | Q14: 0.925 | R14: 0.925
B15: Total Games | C15: 0.9243 | D15: 0.9398 | E15: 0.9398 | F15: 0.9398 | G15: 0.9398 | H15: 0.9398 | I15: 0.9398 | J15: 0.9398 | K15: 0.9398 | L15: 0.9264 | M15: 0.9329 | N15: 0.894 | O15: 0.924 | P15: 0.9233 | Q15: 0.9264 | R15: 0.9248
B16: Game handicap | C16: 0.9243 | D16: 0.9382 | E16: 0.9382 | F16: 0.9382 | G16: 0.9382 | H16: 0.9382 | I16: 0.9382 | J16: 0.9382 | K16: 0.9382 | L16: 0.925 | M16: 0.9329 | N16: 0.894 | O16: 0.8946 | P16: 0.9223 | Q16: 0.9246 | R16: 0.927
B17: Total games in set | C17: 0.9247 | D17: 0.9364 | E17: 0.9364 | F17: 0.9364 | G17: 0.9364 | H17: 0.9364 | I17: 0.9364 | J17: 0.9364 | K17: 0.9364 | L17: 0.9082 | M17: X | N17: 0.8626 | O17: 0.891 | P17: 0.9247 | Q17: 0.9243 | R17: 0.9252
B18: Live challenger
B19: Winner | C19: 0.9297 | D19: 0.931 | E19: 0.9203 | F19: 0.931 | G19: 0.91 | H19: 0.931 | I19: 0.931 | J19: 0.931 | K19: 0.9203 | L19: 0.934 | M19: 0.9268 | N19: X | O19: 0.924 | P19: 0.926 | Q19: 0.9253 | R19: 0.9253 | T19: Vallejo - Rocha (03/09)
B20: Total Games | C20: 0.915 | D20: 0.93 | E20: 0.92 | F20: 0.93 | G20: 0.9013 | H20: 0.93 | I20: 0.93 | J20: 0.93 | K20: 0.92 | L20: 0.9189 | M20: 0.936 | N20: X | O20: 0.9123 | P20: 0.9248 | Q20: 0.9314 | R20: 0.9314
B21: Game handicap | C21: 0.9247 | D21: 0.93 | E21: 0.9199 | F21: 0.93 | G21: 0.9072 | H21: 0.93 | I21: 0.93 | J21: 0.93 | K21: 0.9199 | L21: 0.9243 | M21: 0.9329 | N21: X | O21: 0.911 | P21: 0.925 | Q21: 0.922 | R21: 0.922
B22: Total games in set | C22: 0.9247 | D22: 0.9276 | E22: 0.9194 | F22: 0.9276 | G22: 0.9048 | H22: 0.9276 | I22: 0.9276 | J22: 0.9276 | K22: 0.9194 | L22: 0.9243 | M22: 0.9293 | N22: X | O22: 0.9156 | P22: 0.9254 | Q22: 0.9156 | R22: 0.9156

Sheet Data - Basketball
B2: Basketbal | C2: Bet365 | D2: Jacks | E2: BetCity | F2: Unibet | G2: Leovegas | H2: betMGM | I2: 711 | J2: Bingoal | K2: LSbet | L2: TOTO | M2: HC | N2: Zebet | O2: Circus | P2: Vbet | Q2: ComeOn | R2: BetNation
B3: Pre-match
B4: Winner | C4: 0.9568 | D4: 0.9568 | E4: 0.9568 | F4: 0.9568 | G4: 0.9568 | H4: 0.9568 | I4: 0.9568 | J4: 0.9568 | K4: 0.9568 | L4: 0.9342 | M4: 0.9568 | N4: 0.9005 | O4: 0.9269 | P4: 0.9342 | Q4: 0.9371 | R4: 0.9424 | T4: Connecticut Sun - Seattle Storm (04/09)
B5: Point handicap | C5: 0.95 | D5: 0.95 | E5: 0.95 | F5: 0.95 | G5: 0.95 | H5: 0.95 | I5: 0.95 | J5: 0.95 | K5: 0.95 | L5: 0.951 | M5: 0.9545 | N5: 0.8643 | O5: 0.9343 | P5: 0.9349 | Q5: 0.9398 | R5: 0.9448
B6: Total points | C6: 0.95 | D6: 0.95 | E6: 0.95 | F6: 0.95 | G6: 0.95 | H6: 0.95 | I6: 0.95 | J6: 0.95 | K6: 0.95 | L6: 0.9546 | M6: 0.9545 | N6: 0.8697 | O6: 0.9343 | P6: 0.9349 | Q6: 0.9385 | R6: 0.9435
B7: Total team points | C7: 0.9148 | D7: 0.936 | E7: 0.936 | F7: 0.936 | G7: 0.936 | H7: 0.936 | I7: 0.936 | J7: 0.936 | K7: 0.936 | L7: 0.9346 | M7: 0.9207 | N7: 0.8697 | O7: 0.9198 | P7: 0.9343 | Q7: 0.9299 | R7: 0.9299
B8: Winner quarter | C8: X | D8: 0.9238 | E8: 0.9238 | F8: 0.9238 | G8: 0.9238 | H8: 0.9238 | I8: 0.9238 | J8: 0.9238 | K8: 0.9238 | L8: 0.9097 | M8: 0.9494 | N8: 0.8609 | O8: 0.8689 | P8: X | Q8: 0.9166 | R8: 0.9166
B9: Live
B10: Winner | C10: 0.9474 | D10: 0.9372 | E10: 0.9261 | F10: 0.9372 | G10: 0.896 | H10: 0.9372 | I10: 0.9372 | J10: 0.9372 | K10: 0.9261 | L10: 0.9113 | M10: 0.9231 | N10: 0.9075 | O10: 0.8878 | P10: 0.9261 | Q10: 0.9345 | R10: 0.9345 | T10: Connecticut Sun - Seattle Storm (04/09)
B11: Point handicap | C11: 0.9362 | D11: 0.9349 | E11: 0.9249 | F11: 0.9349 | G11: 0.9099 | H11: 0.9349 | I11: 0.9349 | J11: 0.9349 | K11: 0.9249 | L11: 0.9233 | M11: 0.9264 | N11: 0.9 | O11: X | P11: 0.925 | Q11: 0.9293 | R11: 0.9293
B12: Total points | C12: 0.9322 | D12: 0.9349 | E12: 0.9249 | F12: 0.9349 | G12: 0.9099 | H12: 0.9349 | I12: 0.9349 | J12: 0.9349 | K12: 0.9249 | L12: 0.9123 | M12: 0.925 | N12: 0.9123 | O12: 0.8873 | P12: 0.925 | Q12: 0.9298 | R12: 0.9298
B13: Total team points | C13: 0.9137 | D13: 0.9287 | E13: 0.9224 | F13: 0.9287 | G13: 0.9022 | H13: 0.9287 | I13: 0.9287 | J13: 0.9287 | K13: 0.9224 | L13: X | M13: 0.9264 | N13: 0.9123 | O13: X | P13: 0.925 | Q13: 0.931 | R13: 0.931
B14: Winner quarter | C14: 0.9304 | D14: 0.9231 | E14: 0.8976 | F14: 0.9231 | G14: 0.8942 | H14: 0.9231 | I14: 0.9231 | J14: 0.9231 | K14: 0.8976 | L14: 0.914 | M14: 0.9268 | N14: 0.8413 | O14: 0.868 | P14: 0.9009 | Q14: 0.9261 | R14: 0.9261

Sheet Data - Darts
B2: Darts | C2: Bet365 | D2: Jacks | E2: BetCity | F2: Unibet | G2: Leovegas | H2: betMGM | I2: 711 | J2: Bingoal | K2: LSbet | L2: TOTO | M2: HC | N2: Zebet | O2: Circus | P2: Vbet | Q2: ComeOn | R2: BetNation
B3: Pre-match
B4: Winner | C4: 0.9451 | D4: 0.9512 | E4: 0.9309 | F4: 0.9512 | G4: 0.9512 | H4: 0.9512 | I4: 0.9512 | J4: 0.9512 | K4: 0.9512 | L4: 0.9579 | M4: 0.9316 | N4: 0.9372 | O4: 0.9434 | P4: 0.9518 | Q4: 0.9337 | R4: 0.9355 | T4: van Gerwen vs Clayton (13/09)
B5: Legs Handicap | C5: 0.9247 | D5: 0.9267 | E5: 0.9267 | F5: 0.9267 | G5: 0.9267 | H5: 0.9267 | I5: 0.9267 | J5: 0.9267 | K5: 0.9267 | L5: X | M5: 0.9264 | N5: X | O5: X | P5: 0.9483 | Q5: 0.9226 | R5: 0.9239
B6: Total Legs | C6: 0.9247 | D6: 0.9267 | E6: 0.9267 | F6: 0.9267 | G6: 0.9267 | H6: 0.9267 | I6: 0.9267 | J6: 0.9267 | K6: 0.9267 | L6: X | M6: 0.9268 | N6: X | O6: 0.9267 | P6: 0.9491 | Q6: 0.9223 | R6: 0.9223
B7: Total 180s | C7: 0.9247 | D7: 0.9276 | E7: 0.9276 | F7: 0.9276 | G7: 0.9276 | H7: 0.9276 | I7: 0.9276 | J7: 0.9276 | K7: 0.9276 | L7: 0.9233 | M7: 0.9313 | N7: 0.9255 | O7: 0.9082 | P7: 0.9247 | Q7: 0.9233 | R7: 0.9233
B8: Live
B9: Winner | C9: 0.9277 | D9: 0.9466 | E9: 0.9404 | F9: 0.9466 | G9: 0.9264 | H9: 0.9466 | I9: 0.9466 | J9: 0.9466 | K9: 0.9404 | L9: 0.9545 | M9: X | N9: X | O9: 0.9608 | P9: X | Q9: 0.9245 | R9: 0.9245 | T9: Dobey vs Chisnall (08/09)
B10: Legs Handicap | C10: 0.9247 | D10: 0.9406 | E10: 0.9274 | F10: 0.9406 | G10: 0.9109 | H10: 0.9406 | I10: 0.9406 | J10: 0.9406 | K10: 0.9274 | L10: X | M10: X | N10: X | O10: 0.9082 | P10: X | Q10: 0.9209 | R10: 0.9209
B11: Total Legs | C11: 0.9247 | D11: 0.9333 | E11: 0.9271 | F11: 0.9333 | G11: 0.9149 | H11: 0.9333 | I11: 0.9333 | J11: 0.9333 | K11: 0.9271 | L11: 0.9188 | M11: X | N11: X | O11: 0.8993 | P11: X | Q11: 0.9172 | R11: 0.9172
B12: Total 180s | C12: 0.9247 | D12: 0.9373 | E12: 0.9246 | F12: 0.9373 | G12: 0.912 | H12: 0.9373 | I12: 0.9373 | J12: 0.9373 | K12: 0.9246 | L12: 0.951 | M12: X | N12: X | O12: 0.9173 | P12: X | Q12: 0.9179 | R12: 0.9179
